Workbook

Sheet Individual Entries
A1: Class | B1: Vaulter Name | C1: Age (Jan 1st) | D1: Gender | E1: BEV # | F1: Horse | G1: BEV # | H1: Lunger | I1: BEV # | J1: Fee
J2: {=IF(A2="","",INDEX('BEV Entry Fees - 2025'!$E$3:$E$40,MATCH(A2,'BEV Entry Fees - 2025'!$G$3:$G$40,0)))}
J3: {=IF(A3="","",INDEX('BEV Entry Fees - 2025'!$E$3:$E$40,MATCH(A3,'BEV Entry Fees - 2025'!$G$3:$G$40,0)))}
J4: {=IF(A4="","",INDEX('BEV Entry Fees - 2025'!$E$3:$E$40,MATCH(A4,'BEV Entry Fees - 2025'!$G$3:$G$40,0)))}
J5: {=IF(A5="","",INDEX('BEV Entry Fees - 2025'!$E$3:$E$40,MATCH(A5,'BEV Entry Fees - 2025'!$G$3:$G$40,0)))}
J6: {=IF(A6="","",INDEX('BEV Entry Fees - 2025'!$E$3:$E$40,MATCH(A6,'BEV Entry Fees - 2025'!$G$3:$G$40,0)))}
J7: {=IF(A7="","",INDEX('BEV Entry Fees - 2025'!$E$3:$E$40,MATCH(A7,'BEV Entry Fees - 2025'!$G$3:$G$40,0)))}
J8: {=IF(A8="","",INDEX('BEV Entry Fees - 2025'!$E$3:$E$40,MATCH(A8,'BEV Entry Fees - 2025'!$G$3:$G$40,0)))}
J9: {=IF(A9="","",INDEX('BEV Entry Fees - 2025'!$E$3:$E$40,MATCH(A9,'BEV Entry Fees - 2025'!$G$3:$G$40,0)))}
J10: {=IF(A10="","",INDEX('BEV Entry Fees - 2025'!$E$3:$E$40,MATCH(A10,'BEV Entry Fees - 2025'!$G$3:$G$40,0)))}
J11: {=IF(A11="","",INDEX('BEV Entry Fees - 2025'!$E$3:$E$40,MATCH(A11,'BEV Entry Fees - 2025'!$G$3:$G$40,0)))}
J12: {=IF(A12="","",INDEX('BEV Entry Fees - 2025'!$E$3:$E$40,MATCH(A12,'BEV Entry Fees - 2025'!$G$3:$G$40,0)))}
J13: {=IF(A13="","",INDEX('BEV Entry Fees - 2025'!$E$3:$E$40,MATCH(A13,'BEV Entry Fees - 2025'!$G$3:$G$40,0)))}
... J50: {=IF(A50="","",INDEX('BEV Entry Fees - 2025'!$E$3:$E$40,MATCH(A50,'BEV Entry Fees - 2025'!$G$3:$G$40,0)))}

Sheet Pas De Deux Entries
A1: Class | B1: Vaulter Name | C1: Age (Jan 1st) | D1: Gender | E1: BEV # | F1: Horse | G1: BEV # | H1: Lunger | I1: BEV # | J1: Fee
J2: {=IF(A2="","",INDEX('BEV Entry Fees - 2025'!$E$3:$E$40,MATCH(A2,'BEV Entry Fees - 2025'!$G$3:$G$40,0)))}
J4: {=IF(A4="","",INDEX('BEV Entry Fees - 2025'!$E$3:$E$40,MATCH(A4,'BEV Entry Fees - 2025'!$G$3:$G$40,0)))}
J6: {=IF(A6="","",INDEX('BEV Entry Fees - 2025'!$E$3:$E$40,MATCH(A6,'BEV Entry Fees - 2025'!$G$3:$G$40,0)))}
J8: {=IF(A8="","",INDEX('BEV Entry Fees - 2025'!$E$3:$E$40,MATCH(A8,'BEV Entry Fees - 2025'!$G$3:$G$40,0)))}
J10: {=IF(A10="","",INDEX('BEV Entry Fees - 2025'!$E$3:$E$40,MATCH(A10,'BEV Entry Fees - 2025'!$G$3:$G$40,0)))}
J12: {=IF(A12="","",INDEX('BEV Entry Fees - 2025'!$E$3:$E$40,MATCH(A12,'BEV Entry Fees - 2025'!$G$3:$G$40,0)))}
J14: {=IF(A14="","",INDEX('BEV Entry Fees - 2025'!$E$3:$E$40,MATCH(A14,'BEV Entry Fees - 2025'!$G$3:$G$40,0)))}
J16: {=IF(A16="","",INDEX('BEV Entry Fees - 2025'!$E$3:$E$40,MATCH(A16,'BEV Entry Fees - 2025'!$G$3:$G$40,0)))}
J18: {=IF(A18="","",INDEX('BEV Entry Fees - 2025'!$E$3:$E$40,MATCH(A18,'BEV Entry Fees - 2025'!$G$3:$G$40,0)))}
J20: {=IF(A20="","",INDEX('BEV Entry Fees - 2025'!$E$3:$E$40,MATCH(A20,'BEV Entry Fees - 2025'!$G$3:$G$40,0)))}
J22: {=IF(A22="","",INDEX('BEV Entry Fees - 2025'!$E$3:$E$40,MATCH(A22,'BEV Entry Fees - 2025'!$G$3:$G$40,0)))}
J24: {=IF(A24="","",INDEX('BEV Entry Fees - 2025'!$E$3:$E$40,MATCH(A24,'BEV Entry Fees - 2025'!$G$3:$G$40,0)))}
... J48: {=IF(A48="","",INDEX('BEV Entry Fees - 2025'!$E$3:$E$40,MATCH(A48,'BEV Entry Fees - 2025'!$G$3:$G$40,0)))}

Sheet Trio Entries
A1: Class | B1: Vaulter Name | C1: Age (Jan 1st) | D1: BEV # | E1: Horse | F1: BEV # | G1: Lunger | H1: BEV # | I1: Fee
I2: {=IF(A2="","",INDEX('BEV Entry Fees - 2025'!$E$3:$E$40,MATCH(A2,'BEV Entry Fees - 2025'!$G$3:$G$40,0)))}
I5: {=IF(A5="","",INDEX('BEV Entry Fees - 2025'!$E$3:$E$40,MATCH(A5,'BEV Entry Fees - 2025'!$G$3:$G$40,0)))}
I8: {=IF(A8="","",INDEX('BEV Entry Fees - 2025'!$E$3:$E$40,MATCH(A8,'BEV Entry Fees - 2025'!$G$3:$G$40,0)))}
I11: {=IF(A11="","",INDEX('BEV Entry Fees - 2025'!$E$3:$E$40,MATCH(A11,'BEV Entry Fees - 2025'!$G$3:$G$40,0)))}
I14: {=IF(A14="","",INDEX('BEV Entry Fees - 2025'!$E$3:$E$40,MATCH(A14,'BEV Entry Fees - 2025'!$G$3:$G$40,0)))}
I17: {=IF(A17="","",INDEX('BEV Entry Fees - 2025'!$E$3:$E$40,MATCH(A17,'BEV Entry Fees - 2025'!$G$3:$G$40,0)))}
I20: {=IF(A20="","",INDEX('BEV Entry Fees - 2025'!$E$3:$E$40,MATCH(A20,'BEV Entry Fees - 2025'!$G$3:$G$40,0)))}
I23: {=IF(A23="","",INDEX('BEV Entry Fees - 2025'!$E$3:$E$40,MATCH(A23,'BEV Entry Fees - 2025'!$G$3:$G$40,0)))}
I26: {=IF(A26="","",INDEX('BEV Entry Fees - 2025'!$E$3:$E$40,MATCH(A26,'BEV Entry Fees - 2025'!$G$3:$G$40,0)))}
I29: {=IF(A29="","",INDEX('BEV Entry Fees - 2025'!$E$3:$E$40,MATCH(A29,'BEV Entry Fees - 2025'!$G$3:$G$40,0)))}
I32: {=IF(A32="","",INDEX('BEV Entry Fees - 2025'!$E$3:$E$40,MATCH(A32,'BEV Entry Fees - 2025'!$G$3:$G$40,0)))}
I35: {=IF(A35="","",INDEX('BEV Entry Fees - 2025'!$E$3:$E$40,MATCH(A35,'BEV Entry Fees - 2025'!$G$3:$G$40,0)))}
... I47: {=IF(A47="","",INDEX('BEV Entry Fees - 2025'!$E$3:$E$40,MATCH(A47,'BEV Entry Fees - 2025'!$G$3:$G$40,0)))}

Sheet Squad Entries
A1: Class | B1: Squad Name | C1: Vaulter Name | D1: Age (Jan 1st) | E1: BEV # | F1: Horse | G1: BEV # | H1: Lunger | I1: BEV # | J1: Fee
J2: {=IF(A2="","",INDEX('BEV Entry Fees - 2025'!$E$3:$E$40,MATCH(A2,'BEV Entry Fees - 2025'!$G$3:$G$40,0)))}
J8: {=IF(A8="","",INDEX('BEV Entry Fees - 2025'!$E$3:$E$40,MATCH(A8,'BEV Entry Fees - 2025'!$G$3:$G$40,0)))}
J14: {=IF(A14="","",INDEX('BEV Entry Fees - 2025'!$E$3:$E$40,MATCH(A14,'BEV Entry Fees - 2025'!$G$3:$G$40,0)))}
J20: {=IF(A20="","",INDEX('BEV Entry Fees - 2025'!$E$3:$E$40,MATCH(A20,'BEV Entry Fees - 2025'!$G$3:$G$40,0)))}
J26: {=IF(A26="","",INDEX('BEV Entry Fees - 2025'!$E$3:$E$40,MATCH(A26,'BEV Entry Fees - 2025'!$G$3:$G$40,0)))}
J32: {=IF(A32="","",INDEX('BEV Entry Fees - 2025'!$E$3:$E$40,MATCH(A32,'BEV Entry Fees - 2025'!$G$3:$G$40,0)))}
J38: {=IF(A38="","",INDEX('BEV Entry Fees - 2025'!$E$3:$E$40,MATCH(A38,'BEV Entry Fees - 2025'!$G$3:$G$40,0)))}
J44: {=IF(A44="","",INDEX('BEV Entry Fees - 2025'!$E$3:$E$40,MATCH(A44,'BEV Entry Fees - 2025'!$G$3:$G$40,0)))}

Sheet Run Order Requests
B2: Run Order Requests
B3: We may not be able to accommodate all requests, but your asks will be considered where practicable.
B5: Please detail all relevant requests for accomodating in the run order (split by class)

Sheet Entry Approval
B2: In line with BEV rules, all clubs are required to provide helpers to run the competition.
B3: Clubs are required to provide a minimum of 1 helper per 3 vaulters competing, to a maximum of 10 helpers
B4: Where possible, their time commitment will be kept as low as possible, while maintaining a successful competition.
B6: =ROUNDDOWN(SUM('Club Summary'!D12:D33)/3,0) -> 0 | C6: Previous Roles supported (Y/N)
B7: Name of helper | C7: Writer | D7: Time Keeping | E7: Steward | F7: Score Collection
A8: 1
A9: 2
A10: 3
A11: 4
A12: 5
A13: 6
A14: 7
A15: 8
A16: 9
A17: 10
B20: I, and all participants herein, agree to abide by the rules produced by FEI & BEV.
B22: Club Liaison
B23: Email Address
B24: Phone Number
B25: On behalf of (club)
B27: If the above boxes are not completed, this form will be returned to sender and no entries processed.

Sheet Club Summary
L1: Entry Type | M1: Entry # | N1: Horse | O1: Check | P1: Names | Q1: Points | R1: Class | S1: Name | T1: Check | U1: Names | V1: Count
B2: Class | C2: Description | D2: # of Entries | E2: Fees | G2: Entered Vaulters | H2: Entered Horses | L2: =IF(ROW(A1)<=50,"Individual",IF(ROW(A1)<=100,"Pas De Deux","Squad"))&" Entries" -> Individual Entries | M2: =IF(L1<>L2,1,M1+1) -> 1 | N2: {=INDIRECT("'"&L2&"'!F"&M2+1)} -> 0 | O2: =IF(N2=0,"",IF(COUNTIF($N$1:N2,"="&N2)>1,"",N2)) | P2: {=IFERROR(INDEX($O$2:$O$200,SMALL(IF($O$2:$O$200<>"",ROW($O$2:$O$200)-ROW($A$2)+1),ROWS($A$1:$A1))),"")} | Q2: =IFERROR(INDEX('BEV Entry Fees - 2025'!$D$3:$D$37,MATCH('Individual Entries'!A2,'BEV Entry Fees - 2025'!$C$3:$C$37,0)),0) -> 0 | R2: {=INDIRECT("'"&L2&"'!A"&M2+1)} -> 0 | S2: {=INDIRECT("'"&L2&"'!"&IF(L2="Squad Entries","C","B")&M2+1)} -> 0 | T2: =IF(S2=0,"",IF(COUNTIF($N$1:S2,"="&S2)>1,"",S2)) | U2: {=IFERROR(INDEX($T$2:$T$200,SMALL(IF($T$2:$T$200<>"",ROW($T$2:$T$200)-ROW($A$2)+1),ROWS($A$1:$A1))),"")} | V2: =IF(U2="","",1) | W2: {=IF(U2<>"",SUMPRODUCT((U2>=$U$2:$U$199)+0)+1,"")} | X2: =MIN(W:W) -> 0
B3: ='BEV Entry Fees - 2025'!B3 -> 1 | C3: ='BEV Entry Fees - 2025'!G3 -> Senior Squad 3* | D3: =COUNTIF(R:R,"="&C3) -> 0 | E3: =D3*'BEV Entry Fees - 2025'!E3 -> 0 | G3: =IFERROR(INDEX($U$2:$U$199,MATCH($X$2-1+ROW(A1),$W$2:$W$199,0)),"") | H3: =IF(P2="","",P2) | L3: =IF(ROW(A2)<=50,"Individual",IF(ROW(A2)<=100,"Pas De Deux","Squad"))&" Entries" -> Individual Entries | M3: =IF(L2<>L3,1,M2+1) -> 2 | N3: {=INDIRECT("'"&L3&"'!F"&M3+1)} -> 0 | O3: =IF(N3=0,"",IF(COUNTIF($N$1:N3,"="&N3)>1,"",N3)) | P3: {=IFERROR(INDEX($O$2:$O$200,SMALL(IF($O$2:$O$200<>"",ROW($O$2:$O$200)-ROW($A$2)+1),ROWS($A$1:$A2))),"")} | Q3: =IFERROR(INDEX('BEV Entry Fees - 2025'!$D$3:$D$37,MATCH('Individual Entries'!A3,'BEV Entry Fees - 2025'!$C$3:$C$37,0)),0) -> 0 | R3: {=INDIRECT("'"&L3&"'!A"&M3+1)} -> 0 | S3: {=INDIRECT("'"&L3&"'!"&IF(L3="Squad Entries","C","B")&M3+1)} -> 0 | T3: =IF(S3=0,"",IF(COUNTIF($N$1:S3,"="&S3)>1,"",S3)) | U3: {=IFERROR(INDEX($T$2:$T$200,SMALL(IF($T$2:$T$200<>"",ROW($T$2:$T$200)-ROW($A$2)+1),ROWS($A$1:$A2))),"")} | V3: =IF(U3="","",1) | W3: {=IF(U3<>"",SUMPRODUCT((U3>=$U$2:$U$199)+0)+1,"")}
B4: ='BEV Entry Fees - 2025'!B4 -> 2 | C4: ='BEV Entry Fees - 2025'!G4 -> Senior Squad 2* | D4: =COUNTIF(R:R,"="&C4) -> 0 | E4: =D4*'BEV Entry Fees - 2025'!E4 -> 0 | G4: =IFERROR(INDEX($U$2:$U$199,MATCH($X$2-1+ROW(A2),$W$2:$W$199,0)),"") | H4: =IF(P3="","",P3) | L4: =IF(ROW(A3)<=50,"Individual",IF(ROW(A3)<=100,"Pas De Deux","Squad"))&" Entries" -> Individual Entries | M4: =IF(L3<>L4,1,M3+1) -> 3 | N4: {=INDIRECT("'"&L4&"'!F"&M4+1)} -> 0 | O4: =IF(N4=0,"",IF(COUNTIF($N$1:N4,"="&N4)>1,"",N4)) | P4: {=IFERROR(INDEX($O$2:$O$200,SMALL(IF($O$2:$O$200<>"",ROW($O$2:$O$200)-ROW($A$2)+1),ROWS($A$1:$A3))),"")} | Q4: =IFERROR(INDEX('BEV Entry Fees - 2025'!$D$3:$D$37,MATCH('Individual Entries'!A4,'BEV Entry Fees - 2025'!$C$3:$C$37,0)),0) -> 0 | R4: {=INDIRECT("'"&L4&"'!A"&M4+1)} -> 0 | S4: {=INDIRECT("'"&L4&"'!"&IF(L4="Squad Entries","C","B")&M4+1)} -> 0 | T4: =IF(S4=0,"",IF(COUNTIF($N$1:S4,"="&S4)>1,"",S4)) | U4: {=IFERROR(INDEX($T$2:$T$200,SMALL(IF($T$2:$T$200<>"",ROW($T$2:$T$200)-ROW($A$2)+1),ROWS($A$1:$A3))),"")} | V4: =IF(U4="","",1) | W4: {=IF(U4<>"",SUMPRODUCT((U4>=$U$2:$U$199)+0)+1,"")}
B5: ='BEV Entry Fees - 2025'!B5 -> 3 | C5: ='BEV Entry Fees - 2025'!G5 -> Open Squad 1* | D5: =COUNTIF(R:R,"="&C5) -> 0 | E5: =D5*'BEV Entry Fees - 2025'!E5 -> 0 | G5: =IFERROR(INDEX($U$2:$U$199,MATCH($X$2-1+ROW(A3),$W$2:$W$199,0)),"") | H5: =IF(P4="","",P4) | L5: =IF(ROW(A4)<=50,"Individual",IF(ROW(A4)<=100,"Pas De Deux","Squad"))&" Entries" -> Individual Entries | M5: =IF(L4<>L5,1,M4+1) -> 4 | N5: {=INDIRECT("'"&L5&"'!F"&M5+1)} -> 0 | O5: =IF(N5=0,"",IF(COUNTIF($N$1:N5,"="&N5)>1,"",N5)) | P5: {=IFERROR(INDEX($O$2:$O$200,SMALL(IF($O$2:$O$200<>"",ROW($O$2:$O$200)-ROW($A$2)+1),ROWS($A$1:$A4))),"")} | Q5: =IFERROR(INDEX('BEV Entry Fees - 2025'!$D$3:$D$37,MATCH('Individual Entries'!A5,'BEV Entry Fees - 2025'!$C$3:$C$37,0)),0) -> 0 | R5: {=INDIRECT("'"&L5&"'!A"&M5+1)} -> 0 | S5: {=INDIRECT("'"&L5&"'!"&IF(L5="Squad Entries","C","B")&M5+1)} -> 0 | T5: =IF(S5=0,"",IF(COUNTIF($N$1:S5,"="&S5)>1,"",S5)) | U5: {=IFERROR(INDEX($T$2:$T$200,SMALL(IF($T$2:$T$200<>"",ROW($T$2:$T$200)-ROW($A$2)+1),ROWS($A$1:$A4))),"")} | V5: =IF(U5="","",1) | W5: {=IF(U5<>"",SUMPRODUCT((U5>=$U$2:$U$199)+0)+1,"")}
B6: ='BEV Entry Fees - 2025'!B6 -> 4 | C6: ='BEV Entry Fees - 2025'!G6 -> Junior Squad 2* | D6: =COUNTIF(R:R,"="&C6) -> 0 | E6: =D6*'BEV Entry Fees - 2025'!E6 -> 0 | G6: =IFERROR(INDEX($U$2:$U$199,MATCH($X$2-1+ROW(A4),$W$2:$W$199,0)),"") | H6: =IF(P5="","",P5) | L6: =IF(ROW(A5)<=50,"Individual",IF(ROW(A5)<=100,"Pas De Deux","Squad"))&" Entries" -> Individual Entries | M6: =IF(L5<>L6,1,M5+1) -> 5 | N6: {=INDIRECT("'"&L6&"'!F"&M6+1)} -> 0 | O6: =IF(N6=0,"",IF(COUNTIF($N$1:N6,"="&N6)>1,"",N6)) | P6: {=IFERROR(INDEX($O$2:$O$200,SMALL(IF($O$2:$O$200<>"",ROW($O$2:$O$200)-ROW($A$2)+1),ROWS($A$1:$A5))),"")} | Q6: =IFERROR(INDEX('BEV Entry Fees - 2025'!$D$3:$D$37,MATCH('Individual Entries'!A6,'BEV Entry Fees - 2025'!$C$3:$C$37,0)),0) -> 0 | R6: {=INDIRECT("'"&L6&"'!A"&M6+1)} -> 0 | S6: {=INDIRECT("'"&L6&"'!"&IF(L6="Squad Entries","C","B")&M6+1)} -> 0 | T6: =IF(S6=0,"",IF(COUNTIF($N$1:S6,"="&S6)>1,"",S6)) | U6: {=IFERROR(INDEX($T$2:$T$200,SMALL(IF($T$2:$T$200<>"",ROW($T$2:$T$200)-ROW($A$2)+1),ROWS($A$1:$A5))),"")} | V6: =IF(U6="","",1) | W6: {=IF(U6<>"",SUMPRODUCT((U6>=$U$2:$U$199)+0)+1,"")}
B7: ='BEV Entry Fees - 2025'!B7 -> 5 | C7: ='BEV Entry Fees - 2025'!G7 -> Novice Squad | D7: =COUNTIF(R:R,"="&C7) -> 0 | E7: =D7*'BEV Entry Fees - 2025'!E7 -> 0 | G7: =IFERROR(INDEX($U$2:$U$199,MATCH($X$2-1+ROW(A5),$W$2:$W$199,0)),"") | H7: =IF(P6="","",P6) | L7: =IF(ROW(A6)<=50,"Individual",IF(ROW(A6)<=100,"Pas De Deux","Squad"))&" Entries" -> Individual Entries | M7: =IF(L6<>L7,1,M6+1) -> 6 | N7: {=INDIRECT("'"&L7&"'!F"&M7+1)} -> 0 | O7: =IF(N7=0,"",IF(COUNTIF($N$1:N7,"="&N7)>1,"",N7)) | P7: {=IFERROR(INDEX($O$2:$O$200,SMALL(IF($O$2:$O$200<>"",ROW($O$2:$O$200)-ROW($A$2)+1),ROWS($A$1:$A6))),"")} | Q7: =IFERROR(INDEX('BEV Entry Fees - 2025'!$D$3:$D$37,MATCH('Individual Entries'!A7,'BEV Entry Fees - 2025'!$C$3:$C$37,0)),0) -> 0 | R7: {=INDIRECT("'"&L7&"'!A"&M7+1)} -> 0 | S7: {=INDIRECT("'"&L7&"'!"&IF(L7="Squad Entries","C","B")&M7+1)} -> 0 | T7: =IF(S7=0,"",IF(COUNTIF($N$1:S7,"="&S7)>1,"",S7)) | U7: {=IFERROR(INDEX($T$2:$T$200,SMALL(IF($T$2:$T$200<>"",ROW($T$2:$T$200)-ROW($A$2)+1),ROWS($A$1:$A6))),"")} | V7: =IF(U7="","",1) | W7: {=IF(U7<>"",SUMPRODUCT((U7>=$U$2:$U$199)+0)+1,"")}
B8: ='BEV Entry Fees - 2025'!B8 -> 6 | C8: ='BEV Entry Fees - 2025'!G8 -> Senior 3* Pas de Deux | D8: =COUNTIF(R:R,"="&C8) -> 0 | E8: =D8*'BEV Entry Fees - 2025'!E8 -> 0 | G8: =IFERROR(INDEX($U$2:$U$199,MATCH($X$2-1+ROW(A6),$W$2:$W$199,0)),"") | H8: =IF(P7="","",P7) | L8: =IF(ROW(A7)<=50,"Individual",IF(ROW(A7)<=100,"Pas De Deux","Squad"))&" Entries" -> Individual Entries | M8: =IF(L7<>L8,1,M7+1) -> 7 | N8: {=INDIRECT("'"&L8&"'!F"&M8+1)} -> 0 | O8: =IF(N8=0,"",IF(COUNTIF($N$1:N8,"="&N8)>1,"",N8)) | P8: {=IFERROR(INDEX($O$2:$O$200,SMALL(IF($O$2:$O$200<>"",ROW($O$2:$O$200)-ROW($A$2)+1),ROWS($A$1:$A7))),"")} | Q8: =IFERROR(INDEX('BEV Entry Fees - 2025'!$D$3:$D$37,MATCH('Individual Entries'!A8,'BEV Entry Fees - 2025'!$C$3:$C$37,0)),0) -> 0 | R8: {=INDIRECT("'"&L8&"'!A"&M8+1)} -> 0 | S8: {=INDIRECT("'"&L8&"'!"&IF(L8="Squad Entries","C","B")&M8+1)} -> 0 | T8: =IF(S8=0,"",IF(COUNTIF($N$1:S8,"="&S8)>1,"",S8)) | U8: {=IFERROR(INDEX($T$2:$T$200,SMALL(IF($T$2:$T$200<>"",ROW($T$2:$T$200)-ROW($A$2)+1),ROWS($A$1:$A7))),"")} | V8: =IF(U8="","",1) | W8: {=IF(U8<>"",SUMPRODUCT((U8>=$U$2:$U$199)+0)+1,"")}
B9: ='BEV Entry Fees - 2025'!B9 -> 7 | C9: ='BEV Entry Fees - 2025'!G9 -> Junior 2* Pas de Deux | D9: =COUNTIF(R:R,"="&C9) -> 0 | E9: =D9*'BEV Entry Fees - 2025'!E9 -> 0 | G9: =IFERROR(INDEX($U$2:$U$199,MATCH($X$2-1+ROW(A7),$W$2:$W$199,0)),"") | H9: =IF(P8="","",P8) | L9: =IF(ROW(A8)<=50,"Individual",IF(ROW(A8)<=100,"Pas De Deux","Squad"))&" Entries" -> Individual Entries | M9: =IF(L8<>L9,1,M8+1) -> 8 | N9: {=INDIRECT("'"&L9&"'!F"&M9+1)} -> 0 | O9: =IF(N9=0,"",IF(COUNTIF($N$1:N9,"="&N9)>1,"",N9)) | P9: {=IFERROR(INDEX($O$2:$O$200,SMALL(IF($O$2:$O$200<>"",ROW($O$2:$O$200)-ROW($A$2)+1),ROWS($A$1:$A8))),"")} | Q9: =IFERROR(INDEX('BEV Entry Fees - 2025'!$D$3:$D$37,MATCH('Individual Entries'!A9,'BEV Entry Fees - 2025'!$C$3:$C$37,0)),0) -> 0 | R9: {=INDIRECT("'"&L9&"'!A"&M9+1)} -> 0 | S9: {=INDIRECT("'"&L9&"'!"&IF(L9="Squad Entries","C","B")&M9+1)} -> 0 | T9: =IF(S9=0,"",IF(COUNTIF($N$1:S9,"="&S9)>1,"",S9)) | U9: {=IFERROR(INDEX($T$2:$T$200,SMALL(IF($T$2:$T$200<>"",ROW($T$2:$T$200)-ROW($A$2)+1),ROWS($A$1:$A8))),"")} | V9: =IF(U9="","",1) | W9: {=IF(U9<>"",SUMPRODUCT((U9>=$U$2:$U$199)+0)+1,"")}
B10: ='BEV Entry Fees - 2025'!B10 -> 8 | C10: ='BEV Entry Fees - 2025'!G10 -> Open 1* Pas de Deux | D10: =COUNTIF(R:R,"="&C10) -> 0 | E10: =D10*'BEV Entry Fees - 2025'!E10 -> 0 | G10: =IFERROR(INDEX($U$2:$U$199,MATCH($X$2-1+ROW(A8),$W$2:$W$199,0)),"") | H10: =IF(P9="","",P9) | L10: =IF(ROW(A9)<=50,"Individual",IF(ROW(A9)<=100,"Pas De Deux","Squad"))&" Entries" -> Individual Entries | M10: =IF(L9<>L10,1,M9+1) -> 9 | N10: {=INDIRECT("'"&L10&"'!F"&M10+1)} -> 0 | O10: =IF(N10=0,"",IF(COUNTIF($N$1:N10,"="&N10)>1,"",N10)) | P10: {=IFERROR(INDEX($O$2:$O$200,SMALL(IF($O$2:$O$200<>"",ROW($O$2:$O$200)-ROW($A$2)+1),ROWS($A$1:$A9))),"")} | Q10: =IFERROR(INDEX('BEV Entry Fees - 2025'!$D$3:$D$37,MATCH('Individual Entries'!A10,'BEV Entry Fees - 2025'!$C$3:$C$37,0)),0) -> 0 | R10: {=INDIRECT("'"&L10&"'!A"&M10+1)} -> 0 | S10: {=INDIRECT("'"&L10&"'!"&IF(L10="Squad Entries","C","B")&M10+1)} -> 0 | T10: =IF(S10=0,"",IF(COUNTIF($N$1:S10,"="&S10)>1,"",S10)) | U10: {=IFERROR(INDEX($T$2:$T$200,SMALL(IF($T$2:$T$200<>"",ROW($T$2:$T$200)-ROW($A$2)+1),ROWS($A$1:$A9))),"")} | V10: =IF(U10="","",1) | W10: {=IF(U10<>"",SUMPRODUCT((U10>=$U$2:$U$199)+0)+1,"")}
B11: ='BEV Entry Fees - 2025'!B11 -> 9 | C11: ='BEV Entry Fees - 2025'!G11 -> Senior Individual 3* | D11: =COUNTIF(R:R,"="&C11) -> 0 | E11: =D11*'BEV Entry Fees - 2025'!E11 -> 0 | G11: =IFERROR(INDEX($U$2:$U$199,MATCH($X$2-1+ROW(A9),$W$2:$W$199,0)),"") | H11: =IF(P10="","",P10) | L11: =IF(ROW(A10)<=50,"Individual",IF(ROW(A10)<=100,"Pas De Deux","Squad"))&" Entries" -> Individual Entries | M11: =IF(L10<>L11,1,M10+1) -> 10 | N11: {=INDIRECT("'"&L11&"'!F"&M11+1)} -> 0 | O11: =IF(N11=0,"",IF(COUNTIF($N$1:N11,"="&N11)>1,"",N11)) | P11: {=IFERROR(INDEX($O$2:$O$200,SMALL(IF($O$2:$O$200<>"",ROW($O$2:$O$200)-ROW($A$2)+1),ROWS($A$1:$A10))),"")} | Q11: =IFERROR(INDEX('BEV Entry Fees - 2025'!$D$3:$D$37,MATCH('Individual Entries'!A11,'BEV Entry Fees - 2025'!$C$3:$C$37,0)),0) -> 0 | R11: {=INDIRECT("'"&L11&"'!A"&M11+1)} -> 0 | S11: {=INDIRECT("'"&L11&"'!"&IF(L11="Squad Entries","C","B")&M11+1)} -> 0 | T11: =IF(S11=0,"",IF(COUNTIF($N$1:S11,"="&S11)>1,"",S11)) | U11: {=IFERROR(INDEX($T$2:$T$200,SMALL(IF($T$2:$T$200<>"",ROW($T$2:$T$200)-ROW($A$2)+1),ROWS($A$1:$A10))),"")} | V11: =IF(U11="","",1) | W11: {=IF(U11<>"",SUMPRODUCT((U11>=$U$2:$U$199)+0)+1,"")}
B12: ='BEV Entry Fees - 2025'!B12 -> 10 | C12: ='BEV Entry Fees - 2025'!G12 -> Young Vaulter 2* | D12: =COUNTIF(R:R,"="&C12) -> 0 | E12: =D12*'BEV Entry Fees - 2025'!E12 -> 0 | G12: =IFERROR(INDEX($U$2:$U$199,MATCH($X$2-1+ROW(A10),$W$2:$W$199,0)),"") | H12: =IF(P11="","",P11) | L12: =IF(ROW(A11)<=50,"Individual",IF(ROW(A11)<=100,"Pas De Deux","Squad"))&" Entries" -> Individual Entries | M12: =IF(L11<>L12,1,M11+1) -> 11 | N12: {=INDIRECT("'"&L12&"'!F"&M12+1)} -> 0 | O12: =IF(N12=0,"",IF(COUNTIF($N$1:N12,"="&N12)>1,"",N12)) | P12: {=IFERROR(INDEX($O$2:$O$200,SMALL(IF($O$2:$O$200<>"",ROW($O$2:$O$200)-ROW($A$2)+1),ROWS($A$1:$A11))),"")} | Q12: =IFERROR(INDEX('BEV Entry Fees - 2025'!$D$3:$D$37,MATCH('Individual Entries'!A12,'BEV Entry Fees - 2025'!$C$3:$C$37,0)),0) -> 0 | R12: {=INDIRECT("'"&L12&"'!A"&M12+1)} -> 0 | S12: {=INDIRECT("'"&L12&"'!"&IF(L12="Squad Entries","C","B")&M12+1)} -> 0 | T12: =IF(S12=0,"",IF(COUNTIF($N$1:S12,"="&S12)>1,"",S12)) | U12: {=IFERROR(INDEX($T$2:$T$200,SMALL(IF($T$2:$T$200<>"",ROW($T$2:$T$200)-ROW($A$2)+1),ROWS($A$1:$A11))),"")} | V12: =IF(U12="","",1) | W12: {=IF(U12<>"",SUMPRODUCT((U12>=$U$2:$U$199)+0)+1,"")}
B13: ='BEV Entry Fees - 2025'!B13 -> 11 | C13: ='BEV Entry Fees - 2025'!G13 -> Senior Individual 2* | D13: =COUNTIF(R:R,"="&C13) -> 0 | E13: =D13*'BEV Entry Fees - 2025'!E13 -> 0 | G13: =IFERROR(INDEX($U$2:$U$199,MATCH($X$2-1+ROW(A11),$W$2:$W$199,0)),"") | H13: =IF(P12="","",P12) | L13: =IF(ROW(A12)<=50,"Individual",IF(ROW(A12)<=100,"Pas De Deux","Squad"))&" Entries" -> Individual Entries | M13: =IF(L12<>L13,1,M12+1) -> 12 | N13: {=INDIRECT("'"&L13&"'!F"&M13+1)} -> 0 | O13: =IF(N13=0,"",IF(COUNTIF($N$1:N13,"="&N13)>1,"",N13)) | P13: {=IFERROR(INDEX($O$2:$O$200,SMALL(IF($O$2:$O$200<>"",ROW($O$2:$O$200)-ROW($A$2)+1),ROWS($A$1:$A12))),"")} | Q13: =IFERROR(INDEX('BEV Entry Fees - 2025'!$D$3:$D$37,MATCH('Individual Entries'!A13,'BEV Entry Fees - 2025'!$C$3:$C$37,0)),0) -> 0 | R13: {=INDIRECT("'"&L13&"'!A"&M13+1)} -> 0 | S13: {=INDIRECT("'"&L13&"'!"&IF(L13="Squad Entries","C","B")&M13+1)} -> 0 | T13: =IF(S13=0,"",IF(COUNTIF($N$1:S13,"="&S13)>1,"",S13)) | U13: {=IFERROR(INDEX($T$2:$T$200,SMALL(IF($T$2:$T$200<>"",ROW($T$2:$T$200)-ROW($A$2)+1),ROWS($A$1:$A12))),"")} | V13: =IF(U13="","",1) | W13: {=IF(U13<>"",SUMPRODUCT((U13>=$U$2:$U$199)+0)+1,"")}
B14: ='BEV Entry Fees - 2025'!B14 -> 12 | C14: ='BEV Entry Fees - 2025'!G14 -> Senior Individual 1* | D14: =COUNTIF(R:R,"="&C14) -> 0 | E14: =D14*'BEV Entry Fees - 2025'!E14 -> 0 | G14: =IFERROR(INDEX($U$2:$U$199,MATCH($X$2-1+ROW(A12),$W$2:$W$199,0)),"") | H14: =IF(P13="","",P13) | L14: =IF(ROW(A13)<=50,"Individual",IF(ROW(A13)<=100,"Pas De Deux","Squad"))&" Entries" -> Individual Entries | M14: =IF(L13<>L14,1,M13+1) -> 13 | N14: {=INDIRECT("'"&L14&"'!F"&M14+1)} -> 0 | O14: =IF(N14=0,"",IF(COUNTIF($N$1:N14,"="&N14)>1,"",N14)) | P14: {=IFERROR(INDEX($O$2:$O$200,SMALL(IF($O$2:$O$200<>"",ROW($O$2:$O$200)-ROW($A$2)+1),ROWS($A$1:$A13))),"")} | Q14: =IFERROR(INDEX('BEV Entry Fees - 2025'!$D$3:$D$37,MATCH('Individual Entries'!A14,'BEV Entry Fees - 2025'!$C$3:$C$37,0)),0) -> 0 | R14: {=INDIRECT("'"&L14&"'!A"&M14+1)} -> 0 | S14: {=INDIRECT("'"&L14&"'!"&IF(L14="Squad Entries","C","B")&M14+1)} -> 0 | T14: =IF(S14=0,"",IF(COUNTIF($N$1:S14,"="&S14)>1,"",S14)) | U14: {=IFERROR(INDEX($T$2:$T$200,SMALL(IF($T$2:$T$200<>"",ROW($T$2:$T$200)-ROW($A$2)+1),ROWS($A$1:$A13))),"")} | V14: =IF(U14="","",1) | W14: {=IF(U14<>"",SUMPRODUCT((U14>=$U$2:$U$199)+0)+1,"")}
... B23: ='BEV Entry Fees - 2025'!B23 -> 19 | C23: ='BEV Entry Fees - 2025'!G23 -> Foundation Squad (Open) | D23: =COUNTIF(R:R,"="&C23) -> 0 | E23: =D23*'BEV Entry Fees - 2025'!E23 -> 0 | G23: =IFERROR(INDEX($U$2:$U$199,MATCH($X$2-1+ROW(A21),$W$2:$W$199,0)),"") | H23: =IF(P22="","",P22) | L23: =IF(ROW(A22)<=50,"Individual",IF(ROW(A22)<=100,"Pas De Deux","Squad"))&" Entries" -> Individual Entries | M23: =IF(L22<>L23,1,M22+1) -> 22 | N23: {=INDIRECT("'"&L23&"'!F"&M23+1)} -> 0 | O23: =IF(N23=0,"",IF(COUNTIF($N$1:N23,"="&N23)>1,"",N23)) | P23: {=IFERROR(INDEX($O$2:$O$200,SMALL(IF($O$2:$O$200<>"",ROW($O$2:$O$200)-ROW($A$2)+1),ROWS($A$1:$A22))),"")} | Q23: =IFERROR(INDEX('BEV Entry Fees - 2025'!$D$3:$D$37,MATCH('Individual Entries'!A23,'BEV Entry Fees - 2025'!$C$3:$C$37,0)),0) -> 0 | R23: {=INDIRECT("'"&L23&"'!A"&M23+1)} -> 0 | S23: {=INDIRECT("'"&L23&"'!"&IF(L23="Squad Entries","C","B")&M23+1)} -> 0 | T23: =IF(S23=0,"",IF(COUNTIF($N$1:S23,"="&S23)>1,"",S23)) | U23: {=IFERROR(INDEX($T$2:$T$200,SMALL(IF($T$2:$T$200<>"",ROW($T$2:$T$200)-ROW($A$2)+1),ROWS($A$1:$A22))),"")} | V23: =IF(U23="","",1) | W23: {=IF(U23<>"",SUMPRODUCT((U23>=$U$2:$U$199)+0)+1,"")}
B24: ='BEV Entry Fees - 2025'!B25 -> 20 | C24: ='BEV Entry Fees - 2025'!G25 -> Intro B W/C Individual | D24: =COUNTIF(R:R,"="&C24) -> 0 | E24: =D24*'BEV Entry Fees - 2025'!E25 -> 0 | G24: =IFERROR(INDEX($U$2:$U$199,MATCH($X$2-1+ROW(A22),$W$2:$W$199,0)),"") | H24: =IF(P23="","",P23) | L24: =IF(ROW(A23)<=50,"Individual",IF(ROW(A23)<=100,"Pas De Deux","Squad"))&" Entries" -> Individual Entries | M24: =IF(L23<>L24,1,M23+1) -> 23 | N24: {=INDIRECT("'"&L24&"'!F"&M24+1)} -> 0 | O24: =IF(N24=0,"",IF(COUNTIF($N$1:N24,"="&N24)>1,"",N24)) | P24: {=IFERROR(INDEX($O$2:$O$200,SMALL(IF($O$2:$O$200<>"",ROW($O$2:$O$200)-ROW($A$2)+1),ROWS($A$1:$A23))),"")} | Q24: =IFERROR(INDEX('BEV Entry Fees - 2025'!$D$3:$D$37,MATCH('Individual Entries'!A24,'BEV Entry Fees - 2025'!$C$3:$C$37,0)),0) -> 0 | R24: {=INDIRECT("'"&L24&"'!A"&M24+1)} -> 0 | S24: {=INDIRECT("'"&L24&"'!"&IF(L24="Squad Entries","C","B")&M24+1)} -> 0 | T24: =IF(S24=0,"",IF(COUNTIF($N$1:S24,"="&S24)>1,"",S24)) | U24: {=IFERROR(INDEX($T$2:$T$200,SMALL(IF($T$2:$T$200<>"",ROW($T$2:$T$200)-ROW($A$2)+1),ROWS($A$1:$A23))),"")} | V24: =IF(U24="","",1) | W24: {=IF(U24<>"",SUMPRODUCT((U24>=$U$2:$U$199)+0)+1,"")}
B25: ='BEV Entry Fees - 2025'!B26 -> 20p | C25: ='BEV Entry Fees - 2025'!G26 -> Intro B W/C Individual (para) | D25: =COUNTIF(R:R,"="&C25) -> 0 | E25: =D25*'BEV Entry Fees - 2025'!E26 -> 0 | G25: =IFERROR(INDEX($U$2:$U$199,MATCH($X$2-1+ROW(A23),$W$2:$W$199,0)),"") | H25: =IF(P24="","",P24) | L25: =IF(ROW(A24)<=50,"Individual",IF(ROW(A24)<=100,"Pas De Deux","Squad"))&" Entries" -> Individual Entries | M25: =IF(L24<>L25,1,M24+1) -> 24 | N25: {=INDIRECT("'"&L25&"'!F"&M25+1)} -> 0 | O25: =IF(N25=0,"",IF(COUNTIF($N$1:N25,"="&N25)>1,"",N25)) | P25: {=IFERROR(INDEX($O$2:$O$200,SMALL(IF($O$2:$O$200<>"",ROW($O$2:$O$200)-ROW($A$2)+1),ROWS($A$1:$A24))),"")} | Q25: =IFERROR(INDEX('BEV Entry Fees - 2025'!$D$3:$D$37,MATCH('Individual Entries'!A25,'BEV Entry Fees - 2025'!$C$3:$C$37,0)),0) -> 0 | R25: {=INDIRECT("'"&L25&"'!A"&M25+1)} -> 0 | S25: {=INDIRECT("'"&L25&"'!"&IF(L25="Squad Entries","C","B")&M25+1)} -> 0 | T25: =IF(S25=0,"",IF(COUNTIF($N$1:S25,"="&S25)>1,"",S25)) | U25: {=IFERROR(INDEX($T$2:$T$200,SMALL(IF($T$2:$T$200<>"",ROW($T$2:$T$200)-ROW($A$2)+1),ROWS($A$1:$A24))),"")} | V25: =IF(U25="","",1) | W25: {=IF(U25<>"",SUMPRODUCT((U25>=$U$2:$U$199)+0)+1,"")}
B26: ='BEV Entry Fees - 2025'!B27 -> 21 | C26: ='BEV Entry Fees - 2025'!G27 -> Foundation B C/W or T/W Individual | D26: =COUNTIF(R:R,"="&C26) -> 0 | E26: =D26*'BEV Entry Fees - 2025'!E27 -> 0 | G26: =IFERROR(INDEX($U$2:$U$199,MATCH($X$2-1+ROW(A24),$W$2:$W$199,0)),"") | H26: =IF(P25="","",P25) | L26: =IF(ROW(A25)<=50,"Individual",IF(ROW(A25)<=100,"Pas De Deux","Squad"))&" Entries" -> Individual Entries | M26: =IF(L25<>L26,1,M25+1) -> 25 | N26: {=INDIRECT("'"&L26&"'!F"&M26+1)} -> 0 | O26: =IF(N26=0,"",IF(COUNTIF($N$1:N26,"="&N26)>1,"",N26)) | P26: {=IFERROR(INDEX($O$2:$O$200,SMALL(IF($O$2:$O$200<>"",ROW($O$2:$O$200)-ROW($A$2)+1),ROWS($A$1:$A25))),"")} | Q26: =IFERROR(INDEX('BEV Entry Fees - 2025'!$D$3:$D$37,MATCH('Individual Entries'!A26,'BEV Entry Fees - 2025'!$C$3:$C$37,0)),0) -> 0 | R26: {=INDIRECT("'"&L26&"'!A"&M26+1)} -> 0 | S26: {=INDIRECT("'"&L26&"'!"&IF(L26="Squad Entries","C","B")&M26+1)} -> 0 | T26: =IF(S26=0,"",IF(COUNTIF($N$1:S26,"="&S26)>1,"",S26)) | U26: {=IFERROR(INDEX($T$2:$T$200,SMALL(IF($T$2:$T$200<>"",ROW($T$2:$T$200)-ROW($A$2)+1),ROWS($A$1:$A25))),"")} | V26: =IF(U26="","",1) | W26: {=IF(U26<>"",SUMPRODUCT((U26>=$U$2:$U$199)+0)+1,"")}
B27: ='BEV Entry Fees - 2025'!B28 -> 21p | C27: ='BEV Entry Fees - 2025'!G28 -> Foundation B C/W or T/W Individual (para) | D27: =COUNTIF(R:R,"="&C27) -> 0 | E27: =D27*'BEV Entry Fees - 2025'!E28 -> 0 | G27: =IFERROR(INDEX($U$2:$U$199,MATCH($X$2-1+ROW(A25),$W$2:$W$199,0)),"") | H27: =IF(P26="","",P26) | L27: =IF(ROW(A26)<=50,"Individual",IF(ROW(A26)<=100,"Pas De Deux","Squad"))&" Entries" -> Individual Entries | M27: =IF(L26<>L27,1,M26+1) -> 26 | N27: {=INDIRECT("'"&L27&"'!F"&M27+1)} -> 0 | O27: =IF(N27=0,"",IF(COUNTIF($N$1:N27,"="&N27)>1,"",N27)) | P27: {=IFERROR(INDEX($O$2:$O$200,SMALL(IF($O$2:$O$200<>"",ROW($O$2:$O$200)-ROW($A$2)+1),ROWS($A$1:$A26))),"")} | Q27: =IFERROR(INDEX('BEV Entry Fees - 2025'!$D$3:$D$37,MATCH('Individual Entries'!A27,'BEV Entry Fees - 2025'!$C$3:$C$37,0)),0) -> 0 | R27: {=INDIRECT("'"&L27&"'!A"&M27+1)} -> 0 | S27: {=INDIRECT("'"&L27&"'!"&IF(L27="Squad Entries","C","B")&M27+1)} -> 0 | T27: =IF(S27=0,"",IF(COUNTIF($N$1:S27,"="&S27)>1,"",S27)) | U27: {=IFERROR(INDEX($T$2:$T$200,SMALL(IF($T$2:$T$200<>"",ROW($T$2:$T$200)-ROW($A$2)+1),ROWS($A$1:$A26))),"")} | V27: =IF(U27="","",1) | W27: {=IF(U27<>"",SUMPRODUCT((U27>=$U$2:$U$199)+0)+1,"")}
B28: ='BEV Entry Fees - 2025'!B29 -> 22 | C28: ='BEV Entry Fees - 2025'!G29 -> Intro A W/W Individual | D28: =COUNTIF(R:R,"="&C28) -> 0 | E28: =D28*'BEV Entry Fees - 2025'!E29 -> 0 | G28: =IFERROR(INDEX($U$2:$U$199,MATCH($X$2-1+ROW(A26),$W$2:$W$199,0)),"") | H28: =IF(P27="","",P27) | L28: =IF(ROW(A27)<=50,"Individual",IF(ROW(A27)<=100,"Pas De Deux","Squad"))&" Entries" -> Individual Entries | M28: =IF(L27<>L28,1,M27+1) -> 27 | N28: {=INDIRECT("'"&L28&"'!F"&M28+1)} -> 0 | O28: =IF(N28=0,"",IF(COUNTIF($N$1:N28,"="&N28)>1,"",N28)) | P28: {=IFERROR(INDEX($O$2:$O$200,SMALL(IF($O$2:$O$200<>"",ROW($O$2:$O$200)-ROW($A$2)+1),ROWS($A$1:$A27))),"")} | Q28: =IFERROR(INDEX('BEV Entry Fees - 2025'!$D$3:$D$37,MATCH('Individual Entries'!A28,'BEV Entry Fees - 2025'!$C$3:$C$37,0)),0) -> 0 | R28: {=INDIRECT("'"&L28&"'!A"&M28+1)} -> 0 | S28: {=INDIRECT("'"&L28&"'!"&IF(L28="Squad Entries","C","B")&M28+1)} -> 0 | T28: =IF(S28=0,"",IF(COUNTIF($N$1:S28,"="&S28)>1,"",S28)) | U28: {=IFERROR(INDEX($T$2:$T$200,SMALL(IF($T$2:$T$200<>"",ROW($T$2:$T$200)-ROW($A$2)+1),ROWS($A$1:$A27))),"")} | V28: =IF(U28="","",1) | W28: {=IF(U28<>"",SUMPRODUCT((U28>=$U$2:$U$199)+0)+1,"")}
B29: ='BEV Entry Fees - 2025'!B30 -> 22p | C29: ='BEV Entry Fees - 2025'!G30 -> Intro A W/W Individual (para) | D29: =COUNTIF(R:R,"="&C29) -> 0 | E29: =D29*'BEV Entry Fees - 2025'!E30 -> 0 | G29: =IFERROR(INDEX($U$2:$U$199,MATCH($X$2-1+ROW(A27),$W$2:$W$199,0)),"") | H29: =IF(P28="","",P28) | L29: =IF(ROW(A28)<=50,"Individual",IF(ROW(A28)<=100,"Pas De Deux","Squad"))&" Entries" -> Individual Entries | M29: =IF(L28<>L29,1,M28+1) -> 28 | N29: {=INDIRECT("'"&L29&"'!F"&M29+1)} -> 0 | O29: =IF(N29=0,"",IF(COUNTIF($N$1:N29,"="&N29)>1,"",N29)) | P29: {=IFERROR(INDEX($O$2:$O$200,SMALL(IF($O$2:$O$200<>"",ROW($O$2:$O$200)-ROW($A$2)+1),ROWS($A$1:$A28))),"")} | Q29: =IFERROR(INDEX('BEV Entry Fees - 2025'!$D$3:$D$37,MATCH('Individual Entries'!A29,'BEV Entry Fees - 2025'!$C$3:$C$37,0)),0) -> 0 | R29: {=INDIRECT("'"&L29&"'!A"&M29+1)} -> 0 | S29: {=INDIRECT("'"&L29&"'!"&IF(L29="Squad Entries","C","B")&M29+1)} -> 0 | T29: =IF(S29=0,"",IF(COUNTIF($N$1:S29,"="&S29)>1,"",S29)) | U29: {=IFERROR(INDEX($T$2:$T$200,SMALL(IF($T$2:$T$200<>"",ROW($T$2:$T$200)-ROW($A$2)+1),ROWS($A$1:$A28))),"")} | V29: =IF(U29="","",1) | W29: {=IF(U29<>"",SUMPRODUCT((U29>=$U$2:$U$199)+0)+1,"")}
B30: ='BEV Entry Fees - 2025'!B31 -> 23 | C30: ='BEV Entry Fees - 2025'!G31 -> Foundation A W/W Individual | D30: =COUNTIF(R:R,"="&C30) -> 0 | E30: =D30*'BEV Entry Fees - 2025'!E31 -> 0 | G30: =IFERROR(INDEX($U$2:$U$199,MATCH($X$2-1+ROW(A28),$W$2:$W$199,0)),"") | H30: =IF(P29="","",P29) | L30: =IF(ROW(A29)<=50,"Individual",IF(ROW(A29)<=100,"Pas De Deux","Squad"))&" Entries" -> Individual Entries | M30: =IF(L29<>L30,1,M29+1) -> 29 | N30: {=INDIRECT("'"&L30&"'!F"&M30+1)} -> 0 | O30: =IF(N30=0,"",IF(COUNTIF($N$1:N30,"="&N30)>1,"",N30)) | P30: {=IFERROR(INDEX($O$2:$O$200,SMALL(IF($O$2:$O$200<>"",ROW($O$2:$O$200)-ROW($A$2)+1),ROWS($A$1:$A29))),"")} | Q30: =IFERROR(INDEX('BEV Entry Fees - 2025'!$D$3:$D$37,MATCH('Individual Entries'!A30,'BEV Entry Fees - 2025'!$C$3:$C$37,0)),0) -> 0 | R30: {=INDIRECT("'"&L30&"'!A"&M30+1)} -> 0 | S30: {=INDIRECT("'"&L30&"'!"&IF(L30="Squad Entries","C","B")&M30+1)} -> 0 | T30: =IF(S30=0,"",IF(COUNTIF($N$1:S30,"="&S30)>1,"",S30)) | U30: {=IFERROR(INDEX($T$2:$T$200,SMALL(IF($T$2:$T$200<>"",ROW($T$2:$T$200)-ROW($A$2)+1),ROWS($A$1:$A29))),"")} | V30: =IF(U30="","",1) | W30: {=IF(U30<>"",SUMPRODUCT((U30>=$U$2:$U$199)+0)+1,"")}
B31: ='BEV Entry Fees - 2025'!B32 -> 23p | C31: ='BEV Entry Fees - 2025'!G32 -> Foundation A W/W Individual (para) | D31: =COUNTIF(R:R,"="&C31) -> 0 | E31: =D31*'BEV Entry Fees - 2025'!E32 -> 0 | G31: =IFERROR(INDEX($U$2:$U$199,MATCH($X$2-1+ROW(A29),$W$2:$W$199,0)),"") | H31: =IF(P30="","",P30) | L31: =IF(ROW(A30)<=50,"Individual",IF(ROW(A30)<=100,"Pas De Deux","Squad"))&" Entries" -> Individual Entries | M31: =IF(L30<>L31,1,M30+1) -> 30 | N31: {=INDIRECT("'"&L31&"'!F"&M31+1)} -> 0 | O31: =IF(N31=0,"",IF(COUNTIF($N$1:N31,"="&N31)>1,"",N31)) | P31: {=IFERROR(INDEX($O$2:$O$200,SMALL(IF($O$2:$O$200<>"",ROW($O$2:$O$200)-ROW($A$2)+1),ROWS($A$1:$A30))),"")} | Q31: =IFERROR(INDEX('BEV Entry Fees - 2025'!$D$3:$D$37,MATCH('Individual Entries'!A31,'BEV Entry Fees - 2025'!$C$3:$C$37,0)),0) -> 0 | R31: {=INDIRECT("'"&L31&"'!A"&M31+1)} -> 0 | S31: {=INDIRECT("'"&L31&"'!"&IF(L31="Squad Entries","C","B")&M31+1)} -> 0 | T31: =IF(S31=0,"",IF(COUNTIF($N$1:S31,"="&S31)>1,"",S31)) | U31: {=IFERROR(INDEX($T$2:$T$200,SMALL(IF($T$2:$T$200<>"",ROW($T$2:$T$200)-ROW($A$2)+1),ROWS($A$1:$A30))),"")} | V31: =IF(U31="","",1) | W31: {=IF(U31<>"",SUMPRODUCT((U31>=$U$2:$U$199)+0)+1,"")}
B32: ='BEV Entry Fees - 2025'!B33 -> 24o | C32: ='BEV Entry Fees - 2025'!G33 -> Walk Pas de Deux (Open) | D32: =COUNTIF(R:R,"="&C32) -> 0 | E32: =D32*'BEV Entry Fees - 2025'!E33 -> 0 | G32: =IFERROR(INDEX($U$2:$U$199,MATCH($X$2-1+ROW(A30),$W$2:$W$199,0)),"") | H32: =IF(P31="","",P31) | L32: =IF(ROW(A31)<=50,"Individual",IF(ROW(A31)<=100,"Pas De Deux","Squad"))&" Entries" -> Individual Entries | M32: =IF(L31<>L32,1,M31+1) -> 31 | N32: {=INDIRECT("'"&L32&"'!F"&M32+1)} -> 0 | O32: =IF(N32=0,"",IF(COUNTIF($N$1:N32,"="&N32)>1,"",N32)) | P32: {=IFERROR(INDEX($O$2:$O$200,SMALL(IF($O$2:$O$200<>"",ROW($O$2:$O$200)-ROW($A$2)+1),ROWS($A$1:$A31))),"")} | Q32: =IFERROR(INDEX('BEV Entry Fees - 2025'!$D$3:$D$37,MATCH('Individual Entries'!A32,'BEV Entry Fees - 2025'!$C$3:$C$37,0)),0) -> 0 | R32: {=INDIRECT("'"&L32&"'!A"&M32+1)} -> 0 | S32: {=INDIRECT("'"&L32&"'!"&IF(L32="Squad Entries","C","B")&M32+1)} -> 0 | T32: =IF(S32=0,"",IF(COUNTIF($N$1:S32,"="&S32)>1,"",S32)) | U32: {=IFERROR(INDEX($T$2:$T$200,SMALL(IF($T$2:$T$200<>"",ROW($T$2:$T$200)-ROW($A$2)+1),ROWS($A$1:$A31))),"")} | V32: =IF(U32="","",1) | W32: {=IF(U32<>"",SUMPRODUCT((U32>=$U$2:$U$199)+0)+1,"")}
B33: ='BEV Entry Fees - 2025'!B34 -> 24g | C33: ='BEV Entry Fees - 2025'!G34 -> Walk Pas de Deux (Grassroots) | D33: =COUNTIF(R:R,"="&C33) -> 0 | E33: =D33*'BEV Entry Fees - 2025'!E34 -> 0 | G33: =IFERROR(INDEX($U$2:$U$199,MATCH($X$2-1+ROW(A31),$W$2:$W$199,0)),"") | H33: =IF(P32="","",P32) | L33: =IF(ROW(A32)<=50,"Individual",IF(ROW(A32)<=100,"Pas De Deux","Squad"))&" Entries" -> Individual Entries | M33: =IF(L32<>L33,1,M32+1) -> 32 | N33: {=INDIRECT("'"&L33&"'!F"&M33+1)} -> 0 | O33: =IF(N33=0,"",IF(COUNTIF($N$1:N33,"="&N33)>1,"",N33)) | P33: {=IFERROR(INDEX($O$2:$O$200,SMALL(IF($O$2:$O$200<>"",ROW($O$2:$O$200)-ROW($A$2)+1),ROWS($A$1:$A32))),"")} | Q33: =IFERROR(INDEX('BEV Entry Fees - 2025'!$D$3:$D$37,MATCH('Individual Entries'!A33,'BEV Entry Fees - 2025'!$C$3:$C$37,0)),0) -> 0 | R33: {=INDIRECT("'"&L33&"'!A"&M33+1)} -> 0 | S33: {=INDIRECT("'"&L33&"'!"&IF(L33="Squad Entries","C","B")&M33+1)} -> 0 | T33: =IF(S33=0,"",IF(COUNTIF($N$1:S33,"="&S33)>1,"",S33)) | U33: {=IFERROR(INDEX($T$2:$T$200,SMALL(IF($T$2:$T$200<>"",ROW($T$2:$T$200)-ROW($A$2)+1),ROWS($A$1:$A32))),"")} | V33: =IF(U33="","",1) | W33: {=IF(U33<>"",SUMPRODUCT((U33>=$U$2:$U$199)+0)+1,"")}
B34: 24p | C34: ='BEV Entry Fees - 2025'!G35 -> Walk Pas de Deux (Para) | D34: =COUNTIF(R:R,"="&C34) -> 0 | E34: =D34*'BEV Entry Fees - 2025'!E36 -> 0 | G34: =IFERROR(INDEX($U$2:$U$199,MATCH($X$2-1+ROW(A32),$W$2:$W$199,0)),"") | H34: =IF(P33="","",P33) | L34: =IF(ROW(A33)<=50,"Individual",IF(ROW(A33)<=100,"Pas De Deux","Squad"))&" Entries" -> Individual Entries | M34: =IF(L33<>L34,1,M33+1) -> 33 | N34: {=INDIRECT("'"&L34&"'!F"&M34+1)} -> 0 | O34: =IF(N34=0,"",IF(COUNTIF($N$1:N34,"="&N34)>1,"",N34)) | P34: {=IFERROR(INDEX($O$2:$O$200,SMALL(IF($O$2:$O$200<>"",ROW($O$2:$O$200)-ROW($A$2)+1),ROWS($A$1:$A33))),"")} | Q34: =IFERROR(INDEX('BEV Entry Fees - 2025'!$D$3:$D$37,MATCH('Individual Entries'!A34,'BEV Entry Fees - 2025'!$C$3:$C$37,0)),0) -> 0 | R34: {=INDIRECT("'"&L34&"'!A"&M34+1)} -> 0 | S34: {=INDIRECT("'"&L34&"'!"&IF(L34="Squad Entries","C","B")&M34+1)} -> 0 | T34: =IF(S34=0,"",IF(COUNTIF($N$1:S34,"="&S34)>1,"",S34)) | U34: {=IFERROR(INDEX($T$2:$T$200,SMALL(IF($T$2:$T$200<>"",ROW($T$2:$T$200)-ROW($A$2)+1),ROWS($A$1:$A33))),"")} | V34: =IF(U34="","",1) | W34: {=IF(U34<>"",SUMPRODUCT((U34>=$U$2:$U$199)+0)+1,"")}
B35: 25o | C35: ='BEV Entry Fees - 2025'!G36 -> Walk Squad (Open) | D35: =COUNTIF(R:R,"="&C35) -> 0 | E35: =D35*'BEV Entry Fees - 2025'!E37 -> 0 | G35: =IFERROR(INDEX($U$2:$U$199,MATCH($X$2-1+ROW(A33),$W$2:$W$199,0)),"") | H35: =IF(P34="","",P34) | L35: =IF(ROW(A34)<=50,"Individual",IF(ROW(A34)<=100,"Pas De Deux","Squad"))&" Entries" -> Individual Entries | M35: =IF(L34<>L35,1,M34+1) -> 34 | N35: {=INDIRECT("'"&L35&"'!F"&M35+1)} -> 0 | O35: =IF(N35=0,"",IF(COUNTIF($N$1:N35,"="&N35)>1,"",N35)) | P35: {=IFERROR(INDEX($O$2:$O$200,SMALL(IF($O$2:$O$200<>"",ROW($O$2:$O$200)-ROW($A$2)+1),ROWS($A$1:$A34))),"")} | Q35: =IFERROR(INDEX('BEV Entry Fees - 2025'!$D$3:$D$37,MATCH('Individual Entries'!A35,'BEV Entry Fees - 2025'!$C$3:$C$37,0)),0) -> 0 | R35: {=INDIRECT("'"&L35&"'!A"&M35+1)} -> 0 | S35: {=INDIRECT("'"&L35&"'!"&IF(L35="Squad Entries","C","B")&M35+1)} -> 0 | T35: =IF(S35=0,"",IF(COUNTIF($N$1:S35,"="&S35)>1,"",S35)) | U35: {=IFERROR(INDEX($T$2:$T$200,SMALL(IF($T$2:$T$200<>"",ROW($T$2:$T$200)-ROW($A$2)+1),ROWS($A$1:$A34))),"")} | V35: =IF(U35="","",1) | W35: {=IF(U35<>"",SUMPRODUCT((U35>=$U$2:$U$199)+0)+1,"")}
B36: 25g | C36: ='BEV Entry Fees - 2025'!G37 -> Walk Squad (Grassroots) | D36: =COUNTIF(R:R,"="&C36) -> 0 | E36: =D36*'BEV Entry Fees - 2025'!E38 -> 0 | G36: =IFERROR(INDEX($U$2:$U$199,MATCH($X$2-1+ROW(A34),$W$2:$W$199,0)),"") | H36: =IF(P35="","",P35) | L36: =IF(ROW(A35)<=50,"Individual",IF(ROW(A35)<=100,"Pas De Deux","Squad"))&" Entries" -> Individual Entries | M36: =IF(L35<>L36,1,M35+1) -> 35 | N36: {=INDIRECT("'"&L36&"'!F"&M36+1)} -> 0 | O36: =IF(N36=0,"",IF(COUNTIF($N$1:N36,"="&N36)>1,"",N36)) | P36: {=IFERROR(INDEX($O$2:$O$200,SMALL(IF($O$2:$O$200<>"",ROW($O$2:$O$200)-ROW($A$2)+1),ROWS($A$1:$A35))),"")} | Q36: =IFERROR(INDEX('BEV Entry Fees - 2025'!$D$3:$D$37,MATCH('Individual Entries'!A36,'BEV Entry Fees - 2025'!$C$3:$C$37,0)),0) -> 0 | R36: {=INDIRECT("'"&L36&"'!A"&M36+1)} -> 0 | S36: {=INDIRECT("'"&L36&"'!"&IF(L36="Squad Entries","C","B")&M36+1)} -> 0 | T36: =IF(S36=0,"",IF(COUNTIF($N$1:S36,"="&S36)>1,"",S36)) | U36: {=IFERROR(INDEX($T$2:$T$200,SMALL(IF($T$2:$T$200<>"",ROW($T$2:$T$200)-ROW($A$2)+1),ROWS($A$1:$A35))),"")} | V36: =IF(U36="","",1) | W36: {=IF(U36<>"",SUMPRODUCT((U36>=$U$2:$U$199)+0)+1,"")}
B37: 25p | C37: ='BEV Entry Fees - 2025'!G38 -> Walk Squad (Para) | D37: =COUNTIF(R:R,"="&C37) -> 0 | E37: =D37*'BEV Entry Fees - 2025'!E39 -> 0 | G37: =IFERROR(INDEX($U$2:$U$199,MATCH($X$2-1+ROW(A35),$W$2:$W$199,0)),"") | H37: =IF(P36="","",P36) | L37: =IF(ROW(A36)<=50,"Individual",IF(ROW(A36)<=100,"Pas De Deux","Squad"))&" Entries" -> Individual Entries | M37: =IF(L36<>L37,1,M36+1) -> 36 | N37: {=INDIRECT("'"&L37&"'!F"&M37+1)} -> 0 | O37: =IF(N37=0,"",IF(COUNTIF($N$1:N37,"="&N37)>1,"",N37)) | P37: {=IFERROR(INDEX($O$2:$O$200,SMALL(IF($O$2:$O$200<>"",ROW($O$2:$O$200)-ROW($A$2)+1),ROWS($A$1:$A36))),"")} | Q37: =IFERROR(INDEX('BEV Entry Fees - 2025'!$D$3:$D$37,MATCH('Individual Entries'!A37,'BEV Entry Fees - 2025'!$C$3:$C$37,0)),0) -> 0 | R37: {=INDIRECT("'"&L37&"'!A"&M37+1)} -> 0 | S37: {=INDIRECT("'"&L37&"'!"&IF(L37="Squad Entries","C","B")&M37+1)} -> 0 | T37: =IF(S37=0,"",IF(COUNTIF($N$1:S37,"="&S37)>1,"",S37)) | U37: {=IFERROR(INDEX($T$2:$T$200,SMALL(IF($T$2:$T$200<>"",ROW($T$2:$T$200)-ROW($A$2)+1),ROWS($A$1:$A36))),"")} | V37: =IF(U37="","",1) | W37: {=IF(U37<>"",SUMPRODUCT((U37>=$U$2:$U$199)+0)+1,"")}
E38: =D38*'BEV Entry Fees - 2025'!E40 -> 0 | G38: =IFERROR(INDEX($U$2:$U$199,MATCH($X$2-1+ROW(A36),$W$2:$W$199,0)),"") | H38: =IF(P37="","",P37) | L38: =IF(ROW(A37)<=50,"Individual",IF(ROW(A37)<=100,"Pas De Deux","Squad"))&" Entries" -> Individual Entries | M38: =IF(L37<>L38,1,M37+1) -> 37 | N38: {=INDIRECT("'"&L38&"'!F"&M38+1)} -> 0 | O38: =IF(N38=0,"",IF(COUNTIF($N$1:N38,"="&N38)>1,"",N38)) | P38: {=IFERROR(INDEX($O$2:$O$200,SMALL(IF($O$2:$O$200<>"",ROW($O$2:$O$200)-ROW($A$2)+1),ROWS($A$1:$A37))),"")} | Q38: =IFERROR(INDEX('BEV Entry Fees - 2025'!$D$3:$D$37,MATCH('Individual Entries'!A38,'BEV Entry Fees - 2025'!$C$3:$C$37,0)),0) -> 0 | R38: {=INDIRECT("'"&L38&"'!A"&M38+1)} -> 0 | S38: {=INDIRECT("'"&L38&"'!"&IF(L38="Squad Entries","C","B")&M38+1)} -> 0 | T38: =IF(S38=0,"",IF(COUNTIF($N$1:S38,"="&S38)>1,"",S38)) | U38: {=IFERROR(INDEX($T$2:$T$200,SMALL(IF($T$2:$T$200<>"",ROW($T$2:$T$200)-ROW($A$2)+1),ROWS($A$1:$A37))),"")} | V38: =IF(U38="","",1) | W38: {=IF(U38<>"",SUMPRODUCT((U38>=$U$2:$U$199)+0)+1,"")}
E39: =D39*'BEV Entry Fees - 2025'!E40 -> 0 | G39: =IFERROR(INDEX($U$2:$U$199,MATCH($X$2-1+ROW(A37),$W$2:$W$199,0)),"") | H39: =IF(P38="","",P38) | L39: =IF(ROW(A38)<=50,"Individual",IF(ROW(A38)<=100,"Pas De Deux","Squad"))&" Entries" -> Individual Entries | M39: =IF(L38<>L39,1,M38+1) -> 38 | N39: {=INDIRECT("'"&L39&"'!F"&M39+1)} -> 0 | O39: =IF(N39=0,"",IF(COUNTIF($N$1:N39,"="&N39)>1,"",N39)) | P39: {=IFERROR(INDEX($O$2:$O$200,SMALL(IF($O$2:$O$200<>"",ROW($O$2:$O$200)-ROW($A$2)+1),ROWS($A$1:$A38))),"")} | Q39: =IFERROR(INDEX('BEV Entry Fees - 2025'!$D$3:$D$37,MATCH('Individual Entries'!A39,'BEV Entry Fees - 2025'!$C$3:$C$37,0)),0) -> 0 | R39: {=INDIRECT("'"&L39&"'!A"&M39+1)} -> 0 | S39: {=INDIRECT("'"&L39&"'!"&IF(L39="Squad Entries","C","B")&M39+1)} -> 0 | T39: =IF(S39=0,"",IF(COUNTIF($N$1:S39,"="&S39)>1,"",S39)) | U39: {=IFERROR(INDEX($T$2:$T$200,SMALL(IF($T$2:$T$200<>"",ROW($T$2:$T$200)-ROW($A$2)+1),ROWS($A$1:$A38))),"")} | V39: =IF(U39="","",1) | W39: {=IF(U39<>"",SUMPRODUCT((U39>=$U$2:$U$199)+0)+1,"")}
G40: =IFERROR(INDEX($U$2:$U$199,MATCH($X$2-1+ROW(A38),$W$2:$W$199,0)),"") | H40: =IF(P39="","",P39) | L40: =IF(ROW(A39)<=50,"Individual",IF(ROW(A39)<=100,"Pas De Deux","Squad"))&" Entries" -> Individual Entries | M40: =IF(L39<>L40,1,M39+1) -> 39 | N40: {=INDIRECT("'"&L40&"'!F"&M40+1)} -> 0 | O40: =IF(N40=0,"",IF(COUNTIF($N$1:N40,"="&N40)>1,"",N40)) | P40: {=IFERROR(INDEX($O$2:$O$200,SMALL(IF($O$2:$O$200<>"",ROW($O$2:$O$200)-ROW($A$2)+1),ROWS($A$1:$A39))),"")} | Q40: =IFERROR(INDEX('BEV Entry Fees - 2025'!$D$3:$D$37,MATCH('Individual Entries'!A40,'BEV Entry Fees - 2025'!$C$3:$C$37,0)),0) -> 0 | R40: {=INDIRECT("'"&L40&"'!A"&M40+1)} -> 0 | S40: {=INDIRECT("'"&L40&"'!"&IF(L40="Squad Entries","C","B")&M40+1)} -> 0 | T40: =IF(S40=0,"",IF(COUNTIF($N$1:S40,"="&S40)>1,"",S40)) | U40: {=IFERROR(INDEX($T$2:$T$200,SMALL(IF($T$2:$T$200<>"",ROW($T$2:$T$200)-ROW($A$2)+1),ROWS($A$1:$A39))),"")} | V40: =IF(U40="","",1) | W40: {=IF(U40<>"",SUMPRODUCT((U40>=$U$2:$U$199)+0)+1,"")}
C41: Admin fee of £7.00 per unqiue vaulter | E41: =SUM(V2:V198)*7 -> 0 | G41: =IFERROR(INDEX($U$2:$U$199,MATCH($X$2-1+ROW(A39),$W$2:$W$199,0)),"") | H41: =IF(P40="","",P40) | L41: =IF(ROW(A40)<=50,"Individual",IF(ROW(A40)<=100,"Pas De Deux","Squad"))&" Entries" -> Individual Entries | M41: =IF(L40<>L41,1,M40+1) -> 40 | N41: {=INDIRECT("'"&L41&"'!F"&M41+1)} -> 0 | O41: =IF(N41=0,"",IF(COUNTIF($N$1:N41,"="&N41)>1,"",N41)) | P41: {=IFERROR(INDEX($O$2:$O$200,SMALL(IF($O$2:$O$200<>"",ROW($O$2:$O$200)-ROW($A$2)+1),ROWS($A$1:$A40))),"")} | Q41: =IFERROR(INDEX('BEV Entry Fees - 2025'!$D$3:$D$37,MATCH('Individual Entries'!A41,'BEV Entry Fees - 2025'!$C$3:$C$37,0)),0) -> 0 | R41: {=INDIRECT("'"&L41&"'!A"&M41+1)} -> 0 | S41: {=INDIRECT("'"&L41&"'!"&IF(L41="Squad Entries","C","B")&M41+1)} -> 0 | T41: =IF(S41=0,"",IF(COUNTIF($N$1:S41,"="&S41)>1,"",S41)) | U41: {=IFERROR(INDEX($T$2:$T$200,SMALL(IF($T$2:$T$200<>"",ROW($T$2:$T$200)-ROW($A$2)+1),ROWS($A$1:$A40))),"")} | V41: =IF(U41="","",1) | W41: {=IF(U41<>"",SUMPRODUCT((U41>=$U$2:$U$199)+0)+1,"")}
G42: =IFERROR(INDEX($U$2:$U$199,MATCH($X$2-1+ROW(A40),$W$2:$W$199,0)),"") | H42: =IF(P41="","",P41) | L42: =IF(ROW(A41)<=50,"Individual",IF(ROW(A41)<=100,"Pas De Deux","Squad"))&" Entries" -> Individual Entries | M42: =IF(L41<>L42,1,M41+1) -> 41 | N42: {=INDIRECT("'"&L42&"'!F"&M42+1)} -> 0 | O42: =IF(N42=0,"",IF(COUNTIF($N$1:N42,"="&N42)>1,"",N42)) | P42: {=IFERROR(INDEX($O$2:$O$200,SMALL(IF($O$2:$O$200<>"",ROW($O$2:$O$200)-ROW($A$2)+1),ROWS($A$1:$A41))),"")} | Q42: =IFERROR(INDEX('BEV Entry Fees - 2025'!$D$3:$D$37,MATCH('Individual Entries'!A42,'BEV Entry Fees - 2025'!$C$3:$C$37,0)),0) -> 0 | R42: {=INDIRECT("'"&L42&"'!A"&M42+1)} -> 0 | S42: {=INDIRECT("'"&L42&"'!"&IF(L42="Squad Entries","C","B")&M42+1)} -> 0 | T42: =IF(S42=0,"",IF(COUNTIF($N$1:S42,"="&S42)>1,"",S42)) | U42: {=IFERROR(INDEX($T$2:$T$200,SMALL(IF($T$2:$T$200<>"",ROW($T$2:$T$200)-ROW($A$2)+1),ROWS($A$1:$A41))),"")} | V42: =IF(U42="","",1) | W42: {=IF(U42<>"",SUMPRODUCT((U42>=$U$2:$U$199)+0)+1,"")}
C43: Total Competition Fees Due | E43: =SUM(E3:E42) -> 0 | L43: =IF(ROW(A42)<=50,"Individual",IF(ROW(A42)<=100,"Pas De Deux","Squad"))&" Entries" -> Individual Entries | M43: =IF(L42<>L43,1,M42+1) -> 42 | N43: {=INDIRECT("'"&L43&"'!F"&M43+1)} -> 0 | O43: =IF(N43=0,"",IF(COUNTIF($N$1:N43,"="&N43)>1,"",N43)) | P43: {=IFERROR(INDEX($O$2:$O$200,SMALL(IF($O$2:$O$200<>"",ROW($O$2:$O$200)-ROW($A$2)+1),ROWS($A$1:$A42))),"")} | Q43: =IFERROR(INDEX('BEV Entry Fees - 2025'!$D$3:$D$37,MATCH('Individual Entries'!A43,'BEV Entry Fees - 2025'!$C$3:$C$37,0)),0) -> 0 | R43: {=INDIRECT("'"&L43&"'!A"&M43+1)} -> 0 | S43: {=INDIRECT("'"&L43&"'!"&IF(L43="Squad Entries","C","B")&M43+1)} -> 0 | T43: =IF(S43=0,"",IF(COUNTIF($N$1:S43,"="&S43)>1,"",S43)) | U43: {=IFERROR(INDEX($T$2:$T$200,SMALL(IF($T$2:$T$200<>"",ROW($T$2:$T$200)-ROW($A$2)+1),ROWS($A$1:$A42))),"")}
C44: ***Please verify the total cost separately, as incorrect spelling of names can produce misleading costs. | G44: =IFERROR(INDEX($U$2:$U$199,MATCH($X$2-1+ROW(A41),$W$2:$W$199,0)),"") | H44: =IF(P42="","",P42) | L44: =IF(ROW(A43)<=50,"Individual",IF(ROW(A43)<=100,"Pas De Deux","Squad"))&" Entries" -> Individual Entries | M44: =IF(L43<>L44,1,M43+1) -> 43 | N44: {=INDIRECT("'"&L44&"'!F"&M44+1)} -> 0 | O44: =IF(N44=0,"",IF(COUNTIF($N$1:N44,"="&N44)>1,"",N44)) | P44: {=IFERROR(INDEX($O$2:$O$200,SMALL(IF($O$2:$O$200<>"",ROW($O$2:$O$200)-ROW($A$2)+1),ROWS($A$1:$A43))),"")} | Q44: =IFERROR(INDEX('BEV Entry Fees - 2025'!$D$3:$D$37,MATCH('Individual Entries'!A44,'BEV Entry Fees - 2025'!$C$3:$C$37,0)),0) -> 0 | R44: {=INDIRECT("'"&L44&"'!A"&M44+1)} -> 0 | S44: {=INDIRECT("'"&L44&"'!"&IF(L44="Squad Entries","C","B")&M44+1)} -> 0 | T44: =IF(S44=0,"",IF(COUNTIF($N$1:S44,"="&S44)>1,"",S44)) | U44: {=IFERROR(INDEX($T$2:$T$200,SMALL(IF($T$2:$T$200<>"",ROW($T$2:$T$200)-ROW($A$2)+1),ROWS($A$1:$A43))),"")} | V44: =IF(U44="","",1) | W44: {=IF(U44<>"",SUMPRODUCT((U44>=$U$2:$U$199)+0)+1,"")}
G45: =IFERROR(INDEX($U$2:$U$199,MATCH($X$2-1+ROW(A42),$W$2:$W$199,0)),"") | H45: =IF(P44="","",P44) | L45: =IF(ROW(A44)<=50,"Individual",IF(ROW(A44)<=100,"Pas De Deux","Squad"))&" Entries" -> Individual Entries | M45: =IF(L44<>L45,1,M44+1) -> 44 | N45: {=INDIRECT("'"&L45&"'!F"&M45+1)} -> 0 | O45: =IF(N45=0,"",IF(COUNTIF($N$1:N45,"="&N45)>1,"",N45)) | P45: {=IFERROR(INDEX($O$2:$O$200,SMALL(IF($O$2:$O$200<>"",ROW($O$2:$O$200)-ROW($A$2)+1),ROWS($A$1:$A44))),"")} | Q45: =IFERROR(INDEX('BEV Entry Fees - 2025'!$D$3:$D$37,MATCH('Individual Entries'!A45,'BEV Entry Fees - 2025'!$C$3:$C$37,0)),0) -> 0 | R45: {=INDIRECT("'"&L45&"'!A"&M45+1)} -> 0 | S45: {=INDIRECT("'"&L45&"'!"&IF(L45="Squad Entries","C","B")&M45+1)} -> 0 | T45: =IF(S45=0,"",IF(COUNTIF($N$1:S45,"="&S45)>1,"",S45)) | U45: {=IFERROR(INDEX($T$2:$T$200,SMALL(IF($T$2:$T$200<>"",ROW($T$2:$T$200)-ROW($A$2)+1),ROWS($A$1:$A44))),"")} | V45: =IF(U45="","",1) | W45: {=IF(U45<>"",SUMPRODUCT((U45>=$U$2:$U$199)+0)+1,"")}
C46: Payment Methods: | G46: =IFERROR(INDEX($U$2:$U$199,MATCH($X$2-1+ROW(A44),$W$2:$W$199,0)),"") | H46: =IF(P45="","",P45) | L46: =IF(ROW(A45)<=50,"Individual",IF(ROW(A45)<=100,"Pas De Deux","Squad"))&" Entries" -> Individual Entries | M46: =IF(L45<>L46,1,M45+1) -> 45 | N46: {=INDIRECT("'"&L46&"'!F"&M46+1)} -> 0 | O46: =IF(N46=0,"",IF(COUNTIF($N$1:N46,"="&N46)>1,"",N46)) | P46: {=IFERROR(INDEX($O$2:$O$200,SMALL(IF($O$2:$O$200<>"",ROW($O$2:$O$200)-ROW($A$2)+1),ROWS($A$1:$A45))),"")} | Q46: =IFERROR(INDEX('BEV Entry Fees - 2025'!$D$3:$D$37,MATCH('Individual Entries'!A46,'BEV Entry Fees - 2025'!$C$3:$C$37,0)),0) -> 0 | R46: {=INDIRECT("'"&L46&"'!A"&M46+1)} -> 0 | S46: {=INDIRECT("'"&L46&"'!"&IF(L46="Squad Entries","C","B")&M46+1)} -> 0 | T46: =IF(S46=0,"",IF(COUNTIF($N$1:S46,"="&S46)>1,"",S46)) | U46: {=IFERROR(INDEX($T$2:$T$200,SMALL(IF($T$2:$T$200<>"",ROW($T$2:$T$200)-ROW($A$2)+1),ROWS($A$1:$A45))),"")} | V46: =IF(U46="","",1) | W46: {=IF(U46<>"",SUMPRODUCT((U46>=$U$2:$U$199)+0)+1,"")}
C47: Please send electronic payment to Sort Code: 80-91-29 Account No: 00515473 with the club or vaulter’s name as reference, email final entry form to the secretary advising the fee has been sent electronically, | G47: =IFERROR(INDEX($U$2:$U$199,MATCH($X$2-1+ROW(A45),$W$2:$W$199,0)),"") | H47: =IF(P46="","",P46) | L47: =IF(ROW(A46)<=50,"Individual",IF(ROW(A46)<=100,"Pas De Deux","Squad"))&" Entries" -> Individual Entries | M47: =IF(L46<>L47,1,M46+1) -> 46 | N47: {=INDIRECT("'"&L47&"'!F"&M47+1)} -> 0 | O47: =IF(N47=0,"",IF(COUNTIF($N$1:N47,"="&N47)>1,"",N47)) | P47: {=IFERROR(INDEX($O$2:$O$200,SMALL(IF($O$2:$O$200<>"",ROW($O$2:$O$200)-ROW($A$2)+1),ROWS($A$1:$A46))),"")} | Q47: =IFERROR(INDEX('BEV Entry Fees - 2025'!$D$3:$D$37,MATCH('Individual Entries'!A47,'BEV Entry Fees - 2025'!$C$3:$C$37,0)),0) -> 0 | R47: {=INDIRECT("'"&L47&"'!A"&M47+1)} -> 0 | S47: {=INDIRECT("'"&L47&"'!"&IF(L47="Squad Entries","C","B")&M47+1)} -> 0 | T47: =IF(S47=0,"",IF(COUNTIF($N$1:S47,"="&S47)>1,"",S47)) | U47: {=IFERROR(INDEX($T$2:$T$200,SMALL(IF($T$2:$T$200<>"",ROW($T$2:$T$200)-ROW($A$2)+1),ROWS($A$1:$A46))),"")} | V47: =IF(U47="","",1) | W47: {=IF(U47<>"",SUMPRODUCT((U47>=$U$2:$U$199)+0)+1,"")}
G48: =IFERROR(INDEX($U$2:$U$199,MATCH($X$2-1+ROW(A46),$W$2:$W$199,0)),"") | H48: =IF(P47="","",P47) | L48: =IF(ROW(A47)<=50,"Individual",IF(ROW(A47)<=100,"Pas De Deux","Squad"))&" Entries" -> Individual Entries | M48: =IF(L47<>L48,1,M47+1) -> 47 | N48: {=INDIRECT("'"&L48&"'!F"&M48+1)} -> 0 | O48: =IF(N48=0,"",IF(COUNTIF($N$1:N48,"="&N48)>1,"",N48)) | P48: {=IFERROR(INDEX($O$2:$O$200,SMALL(IF($O$2:$O$200<>"",ROW($O$2:$O$200)-ROW($A$2)+1),ROWS($A$1:$A47))),"")} | Q48: =IFERROR(INDEX('BEV Entry Fees - 2025'!$D$3:$D$37,MATCH('Individual Entries'!A48,'BEV Entry Fees - 2025'!$C$3:$C$37,0)),0) -> 0 | R48: {=INDIRECT("'"&L48&"'!A"&M48+1)} -> 0 | S48: {=INDIRECT("'"&L48&"'!"&IF(L48="Squad Entries","C","B")&M48+1)} -> 0 | T48: =IF(S48=0,"",IF(COUNTIF($N$1:S48,"="&S48)>1,"",S48)) | U48: {=IFERROR(INDEX($T$2:$T$200,SMALL(IF($T$2:$T$200<>"",ROW($T$2:$T$200)-ROW($A$2)+1),ROWS($A$1:$A47))),"")} | V48: =IF(U48="","",1) | W48: {=IF(U48<>"",SUMPRODUCT((U48>=$U$2:$U$199)+0)+1,"")}
...

Sheet BEV Entry Fees - 2025
B2: Class | C2: Description | D2: Horse Points | E2: Entry Fee | G2: All Classes | H2: Ind | I2: PdD | J2: Trio | K2: Squad
B3: 1 | C3: Senior Squad 3* | D3: 4 | E3: 90 | G3: Senior Squad 3* | H3: Senior Individual 3* | I3: Senior 3* Pas de Deux | J3: Walk Trio | K3: Senior Squad 3*
B4: 2 | C4: Senior Squad 2* | D4: 4 | E4: 90 | G4: Senior Squad 2* | H4: Young Vaulter 2* | I4: Junior 2* Pas de Deux | J4: Walk Trio (para) | K4: Senior Squad 2*
B5: 3 | C5: Open Squad 1* | D5: 4 | E5: 90 | G5: Open Squad 1* | H5: Senior Individual 2* | I5: Open 1* Pas de Deux | K5: Open Squad 1*
B6: 4 | C6: Junior Squad 2* | D6: 4 | E6: 90 | G6: Junior Squad 2* | H6: Senior Individual 1* | I6: Walk Pas de Deux (Open) | K6: Junior Squad 2*
B7: 5 | C7: Novice Squad | D7: 4 | E7: 90 | G7: Novice Squad | H7: Junior Individual 2* | I7: Walk Pas de Deux (Grassroots) | K7: Novice Squad
B8: 6 | C8: Senior 3* Pas de Deux | D8: 1 | E8: 44 | G8: Senior 3* Pas de Deux | H8: Junior Individual 1* | I8: Walk Pas de Deux (para) | K8: Foundation Squad (Open)
B9: 7 | C9: Junior 2* Pas de Deux | D9: 1 | E9: 44 | G9: Junior 2* Pas de Deux | H9: Child Individual 2* | K9: Foundation Squad (Grassroots)
B10: 8 | C10: Open 1* Pas de Deux | D10: 1 | E10: 44 | G10: Open 1* Pas de Deux | H10: Child Individual 1* | K10: Walk Squad (Grassroots)
B11: 9 | C11: Senior Individual 3* | D11: 1 | E11: 35 | G11: Senior Individual 3* | H11: Novice Individual | K11: Walk Squad (para)
B12: 10 | C12: Young Vaulter 2* | D12: 1 | E12: 35 | G12: Young Vaulter 2* | H12: Novice Individual (para) | K12: Walk Squad (Open)
B13: 11 | C13: Senior Individual 2* | D13: 1 | E13: 35 | G13: Senior Individual 2* | H13: Pre-Novice Individual | K13: Walk Squad (Grassroots)
B14: 12 | C14: Senior Individual 1* | D14: 1 | E14: 35 | G14: Senior Individual 1* | H14: Pre-Novice Individual (para) | K14: Walk Squad (Para)
B15: 13 | C15: Junior Individual 2* | D15: 1 | E15: 35 | G15: Junior Individual 2* | H15: Intro B W/C Individual
B16: 14 | C16: Junior Individual 1* | D16: 1 | E16: 35 | G16: Junior Individual 1* | H16: Intro B W/C Individual (para)
B17: 15 | C17: Child Individual 2* | D17: 1 | E17: 35 | G17: Child Individual 2* | H17: Foundation B C/W or T/W Individual
B18: 16 | C18: Child Individual 1* | D18: 1 | E18: 35 | G18: Child Individual 1* | H18: Foundation B C/W or T/W Individual (para)
B19: 17 | C19: Novice Individual | D19: 1 | E19: 35 | G19: Novice Individual | H19: Intro A W/W Individual
B20: 17p | C20: Novice Individual (para) | D20: 1 | E20: 35 | G20: Novice Individual (para) | H20: Intro A W/W Individual (para)
B21: 18 | C21: Pre-Novice Individual | D21: 1 | E21: 35 | G21: Pre-Novice Individual | H21: Foundation A W/W Individual
B22: 18p | C22: Pre-Novice Individual (para) | D22: 1 | E22: 35 | G22: Pre-Novice Individual (para) | H22: Foundation A W/W Individual (para)
B23: 19 | C23: Foundation Squad (Open) | D23: 2 | E23: 90 | G23: Foundation Squad (Open)
B24: 19g | C24: Foundation Squad (Grassroots) | D24: 2 | E24: 90 | G24: Foundation Squad (Grassroots)
B25: 20 | C25: Intro B W/C Individual | D25: 0.5 | E25: 20 | G25: Intro B W/C Individual
B26: 20p | C26: =C25&" (para)" -> Intro B W/C Individual (para) | D26: 0.5 | E26: 20 | G26: Intro B W/C Individual (para)
B27: 21 | C27: Foundation B C/W or T/W Individual | D27: 0.5 | E27: 20 | G27: Foundation B C/W or T/W Individual
B28: 21p | C28: =C27&" (para)" -> Foundation B C/W or T/W Individual (para) | D28: 0.5 | E28: 20 | G28: Foundation B C/W or T/W Individual (para)
B29: 22 | C29: Intro A W/W Individual | D29: 0.25 | E29: 20 | G29: Intro A W/W Individual
B30: 22p | C30: =C29&" (para)" -> Intro A W/W Individual (para) | D30: 0.25 | E30: 20 | G30: Intro A W/W Individual (para)
B31: 23 | C31: Foundation A W/W Individual | D31: 0.25 | E31: 20 | G31: Foundation A W/W Individual
B32: 23p | C32: =C31&" (para)" -> Foundation A W/W Individual (para) | D32: 0.25 | E32: 20 | G32: Foundation A W/W Individual (para)
B33: 24o | C33: Walk Pas de Deux (Open) | D33: 0.5 | E33: 24 | G33: Walk Pas de Deux (Open)
B34: 24g | C34: Walk Pas de Deux (Grassroots) | D34: 0.5 | E34: 24 | G34: Walk Pas de Deux (Grassroots)
B35: 24p | C35: Walk Pas de Deux (Para) | D35: 0.5 | E35: 24 | G35: Walk Pas de Deux (Para)
B36: 25o | C36: Walk Squad (Open) | D36: 1 | E36: 60 | G36: Walk Squad (Open)
B37: 25g | C37: Walk Squad (Grassroots) | D37: 1 | E37: 60 | G37: Walk Squad (Grassroots)
B38: 25p | C38: Walk Squad (Para) | D38: 1 | E38: 60 | G38: Walk Squad (Para)
B42: Please refer to BEV rules for full details on the above information including age restrictions

Sheet BEV Entry Summary
A1: Tab | B1: Row | C1: V Name | D1: V Age | E1: V Gender | F1: V # | G1: H Name | H1: H # | I1: L Name | J1: L # | K1: VN Uniq | L1: HN Uniq | M1: LN Uniq | N1: Vaulter Name | O1: Vaulter Age | P1: BEV # | Q1: Horse Name | R1: BEV # | S1: Lunger Name | T1: BEV # | X1: Number | Y1: Tab
A2: =VLOOKUP((ROUNDUP(ROW(A1)/50,0)),$X$1:$Y$6,2,FALSE) -> Individual | B2: =IF(ROW(B1)=1,2,IF(B1=51,2,B1+1)) -> 2 | C2: {=IF($A2="Trio",INDIRECT("'"&$A2&" Entries'!"&SUBSTITUTE(ADDRESS(1,IF(COLUMN(B$1)<5,COLUMN(B$1),COLUMN(B$1)-1),4),"1","")&$B2),IF($A2="Squad",INDIRECT("'"&$A2&" Entries'!"&SUBSTITUTE(ADDRESS(1,IF(COLUMN(C$1)<6,COLUMN(C$1),COLUMN(C$1)-1),4),"1","")&$B2),INDIRECT("'"&$A2&" Entries'!"&SUBSTITUTE(ADDRESS(1,COLUMN(B$1),4),"1","")&$B2)))} -> 0 | D2: {=IF($A2="Trio",INDIRECT("'"&$A2&" Entries'!"&SUBSTITUTE(ADDRESS(1,IF(COLUMN(C$1)<5,COLUMN(C$1),COLUMN(C$1)-1),4),"1","")&$B2),IF($A2="Squad",INDIRECT("'"&$A2&" Entries'!"&SUBSTITUTE(ADDRESS(1,IF(COLUMN(D$1)<6,COLUMN(D$1),COLUMN(D$1)-1),4),"1","")&$B2),INDIRECT("'"&$A2&" Entries'!"&SUBSTITUTE(ADDRESS(1,COLUMN(C$1),4),"1","")&$B2)))} -> 0 | E2: {=IF($A2="Trio",INDIRECT("'"&$A2&" Entries'!"&SUBSTITUTE(ADDRESS(1,IF(COLUMN(D$1)<5,COLUMN(D$1),COLUMN(D$1)-1),4),"1","")&$B2),IF($A2="Squad",INDIRECT("'"&$A2&" Entries'!"&SUBSTITUTE(ADDRESS(1,IF(COLUMN(E$1)<6,COLUMN(E$1),COLUMN(E$1)-1),4),"1","")&$B2),INDIRECT("'"&$A2&" Entries'!"&SUBSTITUTE(ADDRESS(1,COLUMN(D$1),4),"1","")&$B2)))} -> 0 | F2: {=IF($A2="Trio",INDIRECT("'"&$A2&" Entries'!"&SUBSTITUTE(ADDRESS(1,IF(COLUMN(E$1)<5,COLUMN(E$1),COLUMN(E$1)-1),4),"1","")&$B2),IF($A2="Squad",INDIRECT("'"&$A2&" Entries'!"&SUBSTITUTE(ADDRESS(1,IF(COLUMN(F$1)<6,COLUMN(F$1),COLUMN(F$1)-1),4),"1","")&$B2),INDIRECT("'"&$A2&" Entries'!"&SUBSTITUTE(ADDRESS(1,COLUMN(E$1),4),"1","")&$B2)))} -> 0 | G2: {=IF($A2="Trio",INDIRECT("'"&$A2&" Entries'!"&SUBSTITUTE(ADDRESS(1,IF(COLUMN(F$1)<5,COLUMN(F$1),COLUMN(F$1)-1),4),"1","")&$B2),IF($A2="Squad",INDIRECT("'"&$A2&" Entries'!"&SUBSTITUTE(ADDRESS(1,IF(COLUMN(G$1)<6,COLUMN(G$1),COLUMN(G$1)-1),4),"1","")&$B2),INDIRECT("'"&$A2&" Entries'!"&SUBSTITUTE(ADDRESS(1,COLUMN(F$1),4),"1","")&$B2)))} -> 0 | H2: {=IF($A2="Trio",INDIRECT("'"&$A2&" Entries'!"&SUBSTITUTE(ADDRESS(1,IF(COLUMN(G$1)<5,COLUMN(G$1),COLUMN(G$1)-1),4),"1","")&$B2),IF($A2="Squad",INDIRECT("'"&$A2&" Entries'!"&SUBSTITUTE(ADDRESS(1,IF(COLUMN(H$1)<6,COLUMN(H$1),COLUMN(H$1)-1),4),"1","")&$B2),INDIRECT("'"&$A2&" Entries'!"&SUBSTITUTE(ADDRESS(1,COLUMN(G$1),4),"1","")&$B2)))} -> 0 | I2: {=IF($A2="Trio",INDIRECT("'"&$A2&" Entries'!"&SUBSTITUTE(ADDRESS(1,IF(COLUMN(H$1)<5,COLUMN(H$1),COLUMN(H$1)-1),4),"1","")&$B2),IF($A2="Squad",INDIRECT("'"&$A2&" Entries'!"&SUBSTITUTE(ADDRESS(1,IF(COLUMN(I$1)<6,COLUMN(I$1),COLUMN(I$1)-1),4),"1","")&$B2),INDIRECT("'"&$A2&" Entries'!"&SUBSTITUTE(ADDRESS(1,COLUMN(H$1),4),"1","")&$B2)))} -> 0 | J2: {=IF($A2="Trio",INDIRECT("'"&$A2&" Entries'!"&SUBSTITUTE(ADDRESS(1,IF(COLUMN(I$1)<5,COLUMN(I$1),COLUMN(I$1)-1),4),"1","")&$B2),IF($A2="Squad",INDIRECT("'"&$A2&" Entries'!"&SUBSTITUTE(ADDRESS(1,IF(COLUMN(J$1)<6,COLUMN(J$1),COLUMN(J$1)-1),4),"1","")&$B2),INDIRECT("'"&$A2&" Entries'!"&SUBSTITUTE(ADDRESS(1,COLUMN(I$1),4),"1","")&$B2)))} -> 0 | K2: =IF(C2=0,"",IF(COUNTIF($C$1:C2,"="&C2)>1,"",C2)) | L2: =IF(G2=0,"",IF(COUNTIF($G$1:G2,"="&G2)>1,"",G2)) | M2: =IF(I2=0,"",IF(COUNTIF($I$1:I2,"="&I2)>1,"",I2)) | N2: {=IFERROR(INDEX($K$2:$K$201,SMALL(IF($K$2:$K$201<>"",ROW($K$2:$K$201)-ROW($A$2)+1),ROWS($A$1:$A1))),"")} | O2: =IFERROR(VLOOKUP(N2,C:D,2,FALSE),"") | P2: =IFERROR(VLOOKUP(N2,C:F,4,FALSE),"") | Q2: {=IFERROR(INDEX($L$2:$L$201,SMALL(IF($L$2:$L$201<>"",ROW($L$2:$L$201)-ROW($A$2)+1),ROWS($A$1:$A1))),"")} | R2: =IFERROR(VLOOKUP(Q2,G:H,2,FALSE),"") | S2: {=IFERROR(INDEX($M$2:$M$201,SMALL(IF($M$2:$M$201<>"",ROW($M$2:$M$201)-ROW($A$2)+1),ROWS($A$1:$A1))),"")} | T2: =IFERROR(VLOOKUP(S2,I:J,2,FALSE),"") | X2: 1 | Y2: Individual
