Workbook

Sheet Individual Entries
A1: Class | B1: Vaulter Name | C1: Age (Jan 1st) | D1: Gender | E1: BEV # | F1: Horse | G1: BEV # | H1: Lunger | I1: BEV # | J1: Fee
J2: {=IF(A2="","",INDEX('BEV Entry Fees - 2025'!$E$3:$E$40,MATCH(A2,'BEV Entry Fees - 2025'!$G$3:$G$40,0)))}
J3: {=IF(A3="","",INDEX('BEV Entry Fees - 2025'!$E$3:$E$40,MATCH(A3,'BEV Entry Fees - 2025'!$G$3:$G$40,0)))}
J4: {=IF(A4="","",INDEX('BEV Entry Fees - 2025'!$E$3:$E$40,MATCH(A4,'BEV Entry Fees - 2025'!$G$3:$G$40,0)))}
J5: {=IF(A5="","",INDEX('BEV Entry Fees - 2025'!$E$3:$E$40,MATCH(A5,'BEV Entry Fees - 2025'!$G$3:$G$40,0)))}
J6: {=IF(A6="","",INDEX('BEV Entry Fees - 2025'!$E$3:$E$40,MATCH(A6,'BEV Entry Fees - 2025'!$G$3:$G$40,0)))}
J7: {=IF(A7="","",INDEX('BEV Entry Fees - 2025'!$E$3:$E$40,MATCH(A7,'BEV Entry Fees - 2025'!$G$3:$G$40,0)))}
J8: {=IF(A8="","",INDEX('BEV Entry Fees - 2025'!$E$3:$E$40,MATCH(A8,'BEV Entry Fees - 2025'!$G$3:$G$40,0)))}
J9: {=IF(A9="","",INDEX('BEV Entry Fees - 2025'!$E$3:$E$40,MATCH(A9,'BEV Entry Fees - 2025'!$G$3:$G$40,0)))}
J10: {=IF(A10="","",INDEX('BEV Entry Fees - 2025'!$E$3:$E$40,MATCH(A10,'BEV Entry Fees - 2025'!$G$3:$G$40,0)))}
J11: {=IF(A11="","",INDEX('BEV Entry Fees - 2025'!$E$3:$E$40,MATCH(A11,'BEV Entry Fees - 2025'!$G$3:$G$40,0)))}
J12: {=IF(A12="","",INDEX('BEV Entry Fees - 2025'!$E$3:$E$40,MATCH(A12,'BEV Entry Fees - 2025'!$G$3:$G$40,0)))}
J13: {=IF(A13="","",INDEX('BEV Entry Fees - 2025'!$E$3:$E$40,MATCH(A13,'BEV Entry Fees - 2025'!$G$3:$G$40,0)))}
... J50: {=IF(A50="","",INDEX('BEV Entry Fees - 2025'!$E$3:$E$40,MATCH(A50,'BEV Entry Fees - 2025'!$G$3:$G$40,0)))}

Sheet Pas De Deux Entries
A1: Class | B1: Vaulter Name | C1: Age (Jan 1st) | D1: Gender | E1: BEV # | F1: Horse | G1: BEV # | H1: Lunger | I1: BEV # | J1: Fee
J2: {=IF(A2="","",INDEX('BEV Entry Fees - 2025'!$E$3:$E$40,MATCH(A2,'BEV Entry Fees - 2025'!$G$3:$G$40,0)))}
J4: {=IF(A4="","",INDEX('BEV Entry Fees - 2025'!$E$3:$E$40,MATCH(A4,'BEV Entry Fees - 2025'!$G$3:$G$40,0)))}
J6: {=IF(A6="","",INDEX('BEV Entry Fees - 2025'!$E$3:$E$40,MATCH(A6,'BEV Entry Fees - 2025'!$G$3:$G$40,0)))}
J8: {=IF(A8="","",INDEX('BEV Entry Fees - 2025'!$E$3:$E$40,MATCH(A8,'BEV Entry Fees - 2025'!$G$3:$G$40,0)))}
J10: {=IF(A10="","",INDEX('BEV Entry Fees - 2025'!$E$3:$E$40,MATCH(A10,'BEV Entry Fees - 2025'!$G$3:$G$40,0)))}
J12: {=IF(A12="","",INDEX('BEV Entry Fees - 2025'!$E$3:$E$40,MATCH(A12,'BEV Entry Fees - 2025'!$G$3:$G$40,0)))}
J14: {=IF(A14="","",INDEX('BEV Entry Fees - 2025'!$E$3:$E$40,MATCH(A14,'BEV Entry Fees - 2025'!$G$3:$G$40,0)))}
J16: {=IF(A16="","",INDEX('BEV Entry Fees - 2025'!$E$3:$E$40,MATCH(A16,'BEV Entry Fees - 2025'!$G$3:$G$40,0)))}
J18: {=IF(A18="","",INDEX('BEV Entry Fees - 2025'!$E$3:$E$40,MATCH(A18,'BEV Entry Fees - 2025'!$G$3:$G$40,0)))}
J20: {=IF(A20="","",INDEX('BEV Entry Fees - 2025'!$E$3:$E$40,MATCH(A20,'BEV Entry Fees - 2025'!$G$3:$G$40,0)))}
J22: {=IF(A22="","",INDEX('BEV Entry Fees - 2025'!$E$3:$E$40,MATCH(A22,'BEV Entry Fees - 2025'!$G$3:$G$40,0)))}
J24: {=IF(A24="","",INDEX('BEV Entry Fees - 2025'!$E$3:$E$40,MATCH(A24,'BEV Entry Fees - 2025'!$G$3:$G$40,0)))}
... J48: {=IF(A48="","",INDEX('BEV Entry Fees - 2025'!$E$3:$E$40,MATCH(A48,'BEV Entry Fees - 2025'!$G$3:$G$40,0)))}

Sheet Trio Entries
A1: Class | B1: Vaulter Name | C1: Age (Jan 1st) | D1: BEV # | E1: Horse | F1: BEV # | G1: Lunger | H1: BEV # | I1: Fee
I2: {=IF(A2="","",INDEX('BEV Entry Fees - 2025'!$E$3:$E$40,MATCH(A2,'BEV Entry Fees - 2025'!$G$3:$G$40,0)))}
I5: {=IF(A5="","",INDEX('BEV Entry Fees - 2025'!$E$3:$E$40,MATCH(A5,'BEV Entry Fees - 2025'!$G$3:$G$40,0)))}
I8: {=IF(A8="","",INDEX('BEV Entry Fees - 2025'!$E$3:$E$40,MATCH(A8,'BEV Entry Fees - 2025'!$G$3:$G$40,0)))}
I11: {=IF(A11="","",INDEX('BEV Entry Fees - 2025'!$E$3:$E$40,MATCH(A11,'BEV Entry Fees - 2025'!$G$3:$G$40,0)))}
I14: {=IF(A14="","",INDEX('BEV Entry Fees - 2025'!$E$3:$E$40,MATCH(A14,'BEV Entry Fees - 2025'!$G$3:$G$40,0)))}
I17: {=IF(A17="","",INDEX('BEV Entry Fees - 2025'!$E$3:$E$40,MATCH(A17,'BEV Entry Fees - 2025'!$G$3:$G$40,0)))}
I20: {=IF(A20="","",INDEX('BEV Entry Fees - 2025'!$E$3:$E$40,MATCH(A20,'BEV Entry Fees - 2025'!$G$3:$G$40,0)))}
I23: {=IF(A23="","",INDEX('BEV Entry Fees - 2025'!$E$3:$E$40,MATCH(A23,'BEV Entry Fees - 2025'!$G$3:$G$40,0)))}
I26: {=IF(A26="","",INDEX('BEV Entry Fees - 2025'!$E$3:$E$40,MATCH(A26,'BEV Entry Fees - 2025'!$G$3:$G$40,0)))}
I29: {=IF(A29="","",INDEX('BEV Entry Fees - 2025'!$E$3:$E$40,MATCH(A29,'BEV Entry Fees - 2025'!$G$3:$G$40,0)))}
I32: {=IF(A32="","",INDEX('BEV Entry Fees - 2025'!$E$3:$E$40,MATCH(A32,'BEV Entry Fees - 2025'!$G$3:$G$40,0)))}
I35: {=IF(A35="","",INDEX('BEV Entry Fees - 2025'!$E$3:$E$40,MATCH(A35,'BEV Entry Fees - 2025'!$G$3:$G$40,0)))}
... I47: {=IF(A47="","",INDEX('BEV Entry Fees - 2025'!$E$3:$E$40,MATCH(A47,'BEV Entry Fees - 2025'!$G$3:$G$40,0)))}

Sheet Squad Entries
A1: Class | B1: Squad Name | C1: Vaulter Name | D1: Age (Jan 1st) | E1: BEV # | F1: Horse | G1: BEV # | H1: Lunger | I1: BEV # | J1: Fee
J2: {=IF(A2="","",INDEX('BEV Entry Fees - 2025'!$E$3:$E$40,MATCH(A2,'BEV Entry Fees - 2025'!$G$3:$G$40,0)))}
J8: {=IF(A8="","",INDEX('BEV Entry Fees - 2025'!$E$3:$E$40,MATCH(A8,'BEV Entry Fees - 2025'!$G$3:$G$40,0)))}
J14: {=IF(A14="","",INDEX('BEV Entry Fees - 2025'!$E$3:$E$40,MATCH(A14,'BEV Entry Fees - 2025'!$G$3:$G$40,0)))}
J20: {=IF(A20="","",INDEX('BEV Entry Fees - 2025'!$E$3:$E$40,MATCH(A20,'BEV Entry Fees - 2025'!$G$3:$G$40,0)))}
J26: {=IF(A26="","",INDEX('BEV Entry Fees - 2025'!$E$3:$E$40,MATCH(A26,'BEV Entry Fees - 2025'!$G$3:$G$40,0)))}
J32: {=IF(A32="","",INDEX('BEV Entry Fees - 2025'!$E$3:$E$40,MATCH(A32,'BEV Entry Fees - 2025'!$G$3:$G$40,0)))}
J38: {=IF(A38="","",INDEX('BEV Entry Fees - 2025'!$E$3:$E$40,MATCH(A38,'BEV Entry Fees - 2025'!$G$3:$G$40,0)))}
J44: {=IF(A44="","",INDEX('BEV Entry Fees - 2025'!$E$3:$E$40,MATCH(A44,'BEV Entry Fees - 2025'!$G$3:$G$40,0)))}

Sheet Run Order Requests
B2: Run Order Requests
B3: We may not be able to accommodate all requests, but your asks will be considered where practicable.
B5: Please detail all relevant requests for accomodating in the run order (split by class)

Sheet Entry Approval
B2: In line with BEV rules, all clubs are required to provide helpers to run the competition.
B3: Clubs are required to provide a minimum of 1 helper per 3 vaulters competing, to a maximum of 10 helpers
B4: Where possible, their time commitment will be kept as low as possible, while maintaining a successful competition.
B6: =ROUNDDOWN(SUM('Club Summary'!D12:D33)/3,0) -> 0 | C6: Previous Roles supported (Y/N)
B7: Name of helper | C7: Writer | D7: Time Keeping | E7: Steward | F7: Score Collection
A8: 1
A9: 2
A10: 3
A11: 4
A12: 5
A13: 6
A14: 7
A15: 8
A16: 9
A17: 10
B20: I, and all participants herein, agree to abide by the rules produced by FEI & BEV.
B22: Club Liaison
B23: Email Address
B24: Phone Number
B25: On behalf of (club)
B27: If the above boxes are not completed, this form will be returned to sender and no entries processed.

Sheet Club Summary
L1: Entry Type | M1: Entry # | N1: Horse | O1: Check | P1: Names | Q1: Points | R1: Class | S1: Name | T1: Check | U1: Names | V1: Count
B2: Class | C2: Description | D2: # of Entries | E2: Fees | G2: Entered Vaulters | H2: Entered Horses | L2: =IF(ROW(A1)<=50,"Individual",IF(ROW(A1)<=100,"Pas De Deux","Squad"))&" Entries" -> Individual Entries | M2: =IF(L1<>L2,1,M1+1) -> 1 | N2: {=INDIRECT("'"&L2&"'!F"&M2+1)} -> 0 | O2: =IF(N2=0,"",IF(COUNTIF($N$1:N2,"="&N2)>1,"",N2)) | P2: {=IFERROR(INDEX($O$2:$O$200,SMALL(IF($O$2:$O$200<>"",ROW($O$2:$O$200)-ROW($A$2)+1),ROWS($A$1:$A1))),"")} | Q2: =IFERROR(INDEX('BEV Entry Fees - 2025'!$D$3:$D$37,MATCH('Individual Entries'!A2,'BEV Entry Fees - 2025'!$C$3:$C$37,0)),0) -> 0 | R2: {=INDIRECT("'"&L2&"'!A"&M2+1)} -> 0 | S2: {=INDIRECT("'"&L2&"'!"&IF(L2="Squad Entries","C","B")&M2+1)} -> 0 | T2: =IF(S2=0,"",IF(COUNTIF($N$1:S2,"="&S2)>1,"",S2)) | U2: {=IFERROR(INDEX($T$2:$T$200,SMALL(IF($T$2:$T$200<>"",ROW($T$2:$T$200)-ROW($A$2)+1),ROWS($A$1:$A1))),"")} | V2: =IF(U2="","",1) | W2: {=IF(U2<>"",SUMPRODUCT((U2>=$U$2:$U$199)+0)+1,"")} | X2: =MIN(W:W) -> 0
B3: ='BEV Entry Fees - 2025'!B3 -> 1 | C3: ='BEV Entry Fees - 2025'!G3 -> Senior Squad 3* | D3: =COUNTIF(R:R,"="&C3) -> 0 | E3: =D3*'BEV Entry Fees - 2025'!E3 -> 0 | G3: =IFERROR(INDEX($U$2:$U$199,MATCH($X$2-1+ROW(A1),$W$2:$W$199,0)),"") | H3: =IF(P2="","",P2) | L3: =IF(ROW(A2)<=50,"Individual",IF(ROW(A2)<=100,"Pas De Deux","Squad"))&" Entries" -> Individual Entries | M3: =IF(L2<>L3,1,M2+1) -> 2 | N3: {=INDIRECT("'"&L3&"'!F"&M3+1)} -> 0 | O3: =IF(N3=0,"",IF(COUNTIF($N$1:N3,"="&N3)>1,"",N3)) | P3: {=IFERROR(INDEX($O$2:$O$200,SMALL(IF($O$2:$O$200<>"",ROW($O$2:$O$200)-ROW($A$2)+1),ROWS($A$1:$A2))),"")} | Q3: =IFERROR(INDEX('BEV Entry Fees - 2025'!$D$3:$D$37,MATCH('Individual Entries'!A3,'BEV Entry Fees - 2025'!$C$3:$C$37,0)),0) -> 0 | R3: {=INDIRECT("'"&L3&"'!A"&M3+1)} -> 0 | S3: {=INDIRECT("'"&L3&"'!"&IF(L3="Squad Entries","C","B")&M3+1)} -> 0 | T3: =IF(S3=0,"",IF(COUNTIF($N$1:S3,"="&S3)>1,"",S3)) | U3: {=IFERROR(INDEX($T$2:$T$200,SMALL(IF($T$2:$T$200<>"",ROW($T$2:$T$200)-ROW($A$2)+1),ROWS($A$1:$A2))),"")} | V3: =IF(U3="","",1) | W3: {=IF(U3<>"",SUMPRODUCT((U3>=$U$2:$U$199)+0)+1,"")}
B4: ='BEV Entry Fees - 2025'!B4 -> 2 | C4: ='BEV Entry Fees - 2025'!G4 -> Senior Squad 2* | D4: =COUNTIF(R:R,"="&C4) -> 0 | E4: =D4*'BEV Entry Fees - 2025'!E4 -> 0 | G4: =IFERROR(INDEX($U$2:$U$199,MATCH($X$2-1+ROW(A2),$W$2:$W$199,0)),"") | H4: =IF(P3="","",P3) | L4: =IF(ROW(A3)<=50,"Individual",IF(ROW(A3)<=100,"Pas De Deux","Squad"))&" Entries" -> Individual Entries | M4: =IF(L3<>L4,1,M3+1) -> 3 | N4: {=INDIRECT("'"&L4&"'!F"&M4+1)} -> 0 | O4: =IF(N4=0,"",IF(COUNTIF($N$1:N4,"="&N4)>1,"",N4)) | P4: {=IFERROR(INDEX($O$2:$O$200,SMALL(IF($O$2:$O$200<>"",ROW($O$2:$O$200)-ROW($A$2)+1),ROWS($A$1:$A3))),"")} | Q4: =IFERROR(INDEX('BEV Entry Fees - 2025'!$D$3:$D$37,MATCH('Individual Entries'!A4,'BEV Entry Fees - 2025'!$C$3:$C$37,0)),0) -> 0 | R4: {=INDIRECT("'"&L4&"'!A"&M4+1)} -> 0 | S4: {=INDIRECT("'"&L4&"'!"&IF(L4="Squad Entries","C","B")&M4+1)} -> 0 | T4: =IF(S4=0,"",IF(COUNTIF($N$1:S4,"="&S4)>1,"",S4)) | U4: {=IFERROR(INDEX($T$2:$T$200,SMALL(IF($T$2:$T$200<>"",ROW($T$2:$T$200)-ROW($A$2)+1),ROWS($A$1:$A3))),"")} | V4: =IF(U4="","",1) | W4: {=IF(U4<>"",SUMPRODUCT((U4>=$U$2:$U$199)+0)+1,"")}
B5: ='BEV Entry Fees - 2025'!B5 -> 3 | C5: ='BEV Entry Fees - 2025'!G5 -> Open Squad 1* | D5: =COUNTIF(R:R,"="&C5) -> 0 | E5: =D5*'BEV Entry Fees - 2025'!E5 -> 0 | G5: =IFERROR(INDEX($U$2:$U$199,MATCH($X$2-1+ROW(A3),$W$2:$W$199,0)),"") | H5: =IF(P4="","",P4) | L5: =IF(ROW(A4)<=50,"Individual",IF(ROW(A4)<=100,"Pas De Deux","Squad"))&" Entries" -> Individual Entries | M5: =IF(L4<>L5,1,M4+1) -> 4 | N5: {=INDIRECT("'"&L5&"'!F"&M5+1)} -> 0 | O5: =IF(N5=0,"",IF(COUNTIF($N$1:N5,"="&N5)>1,"",N5)) | P5: {=IFERROR(INDEX($O$2:$O$200,SMALL(IF($O$2:$O$200<>"",ROW($O$2:$O$200)-ROW($A$2)+1),ROWS($A$1:$A4))),"")} | Q5: =IFERROR(INDEX('BEV Entry Fees - 2025'!$D$3:$D$37,MATCH('Individual Entries'!A5,'BEV Entry Fees - 2025'!$C$3:$C$37,0)),0) -> 0 | R5: {=INDIRECT("'"&L5&"'!A"&M5+1)} -> 0 | S5: {=INDIRECT("'"&L5&"'!"&IF(L5="Squad Entries","C","B")&M5+1)} -> 0 | T5: =IF(S5=0,"",IF(COUNTIF($N$1:S5,"="&S5)>1,"",S5)) | U5: {=IFERROR(INDEX($T$2:$T$200,SMALL(IF($T$2:$T$200<>"",ROW($T$2:$T$200)-ROW($A$2)+1),ROWS($A$1:$A4))),"")} | V5: =IF(U5="","",1) | W5: {=IF(U5<>"",SUMPRODUCT((U5>=$U$2:$U$199)+0)+1,"")}
B6: ='BEV Entry Fees - 2025'!B6 -> 4 | C6: ='BEV Entry Fees - 2025'!G6 -> Junior Squad 2* | D6: =COUNTIF(R:R,"="&C6) -> 0 | E6: =D6*'BEV Entry Fees - 2025'!E6 -> 0 | G6: =IFERROR(INDEX($U$2:$U$199,MATCH($X$2-1+ROW(A4),$W$2:$W$199,0)),"") | H6: =IF(P5="","",P5) | L6: =IF(ROW(A5)<=50,"Individual",IF(ROW(A5)<=100,"Pas De Deux","Squad"))&" Entries" -> Individual Entries | M6: =IF(L5<>L6,1,M5+1) -> 5 | N6: {=INDIRECT("'"&L6&"'!F"&M6+1)} -> 0 | O6: =IF(N6=0,"",IF(COUNTIF($N$1:N6,"="&N6)>1,"",N6)) | P6: {=IFERROR(INDEX($O$2:$O$200,SMALL(IF($O$2:$O$200<>"",ROW($O$2:$O$200)-ROW($A$2)+1),ROWS($A$1:$A5))),"")} | Q6: =IFERROR(INDEX('BEV Entry Fees - 2025'!$D$3:$D$37,MATCH('Individual Entries'!A6,'BEV Entry Fees - 2025'!$C$3:$C$37,0)),0) -> 0 | R6: {=INDIRECT("'"&L6&"'!A"&M6+1)} -> 0 | S6: {=INDIRECT("'"&L6&"'!"&IF(L6="Squad Entries","C","B")&M6+1)} -> 0 | T6: =IF(S6=0,"",IF(COUNTIF($N$1:S6,"="&S6)>1,"",S6)) | U6: {=IFERROR(INDEX($T$2:$T$200,SMALL(IF($T$2:$T$200<>"",ROW($T$2:$T$200)-ROW($A$2)+1),ROWS($A$1:$A5))),"")} | V6: =IF(U6="","",1) | W6: {=IF(U6<>"",SUMPRODUCT((U6>=$U$2:$U$199)+0)+1,"")}
B7: ='BEV Entry Fees - 2025'!B7 -> 5 | C7: ='BEV Entry Fees - 2025'!G7 -> Novice Squad | D7: =COUNTIF(R:R,"="&C7) -> 0 | E7: =D7*'BEV Entry Fees - 2025'!E7 -> 0 | G7: =IFERROR(INDEX($U$2:$U$199,MATCH($X$2-1+ROW(A5),$W$2:$W$199,0)),"") | H7: =IF(P6="","",P6) | L7: =IF(ROW(A6)<=50,"Individual",IF(ROW(A6)<=100,"Pas De Deux","Squad"))&" Entries" -> Individual Entries | M7: =IF(L6<>L7,1,M6+1) -> 6 | N7: {=INDIRECT("'"&L7&"'!F"&M7+1)} -> 0 | O7: =IF(N7=0,"",IF(COUNTIF($N$1:N7,"="&N7)>1,"",N7)) | P7: {=IFERROR(INDEX($O$2:$O$200,SMALL(IF($O$2:$O$200<>"",ROW($O$2:$O$200)-ROW($A$2)+1),ROWS($A$1:$A6))),"")} | Q7: =IFERROR(INDEX('BEV Entry Fees - 2025'!$D$3:$D$37,MATCH('Individual Entries'!A7,'BEV Entry Fees - 2025'!$C$3:$C$37,0)),0) -> 0 | R7: {=INDIRECT("'"&L7&"'!A"&M7+1)} -> 0 | S7: {=INDIRECT("'"&L7&"'!"&IF(L7="Squad Entries","C","B")&M7+1)} -> 0 | T7: =IF(S7=0,"",IF(COUNTIF($N$1:S7,"="&S7)>1,"",S7)) | U7: {=IFERROR(INDEX($T$2:$T$200,SMALL(IF($T$2:$T$200<>"",ROW($T$2:$T$200)-ROW($A$2)+1),ROWS($A$1:$A6))),"")} | V7: =IF(U7="","",1) | W7: {=IF(U7<>"",SUMPRODUCT((U7>=$U$2:$U$199)+0)+1,"")}
B8: ='BEV Entry Fees - 2025'!B8 -> 6 | C8: ='BEV Entry Fees - 2025'!G8 -> Senior 3* Pas de Deux | D8: =COUNTIF(R:R,"="&C8) -> 0 | E8: =D8*'BEV Entry Fees - 2025'!E8 -> 0 | G8: =IFERROR(INDEX($U$2:$U$199,MATCH($X$2-1+ROW(A6),$W$2:$W$199,0)),"") | H8: =IF(P7="","",P7) | L8: =IF(ROW(A7)<=50,"Individual",IF(ROW(A7)<=100,"Pas De Deux","Squad"))&" Entries" -> Individual Entries | M8: =IF(L7<>L8,1,M7+1) -> 7 | N8: {=INDIRECT("'"&L8&"'!F"&M8+1)} -> 0 | O8: =IF(N8=0,"",IF(COUNTIF($N$1:N8,"="&N8)>1,"",N8)) | P8: {=IFERROR(INDEX($O$2:$O$200,SMALL(IF($O$2:$O$200<>"",ROW($O$2:$O$200)-ROW($A$2)+1),ROWS($A$1:$A7))),"")} | Q8: =IFERROR(INDEX('BEV Entry Fees - 2025'!$D$3:$D$37,MATCH('Individual Entries'!A8,'BEV Entry Fees - 2025'!$C$3:$C$37,0)),0) -> 0 | R8: {=INDIRECT("'"&L8&"'!A"&M8+1)} -> 0 | S8: {=INDIRECT("'"&L8&"'!"&IF(L8="Squad Entries","C","B")&M8+1)} -> 0 | T8: =IF(S8=0,"",IF(COUNTIF($N$1:S8,"="&S8)>1,"",S8)) | U8: {=IFERROR(INDEX($T$2:$T$200,SMALL(IF($T$2:$T$200<>"",ROW($T$2:$T$200)-ROW($A$2)+1),ROWS($A$1:$A7))),"")} | V8: =IF(U8="","",1) | W8: {=IF(U8<>"",SUMPRODUCT((U8>=$U$2:$U$199)+0)+1,"")}
B9: ='BEV Entry Fees - 2025'!B9 -> 7 | C9: ='BEV Entry Fees - 2025'!G9 -> Junior 2* Pas de Deux | D9: =COUNTIF(R:R,"="&C9) -> 0 | E9: =D9*'BEV Entry Fees - 2025'!E9 -> 0 | G9: =IFERROR(INDEX($U$2:$U$199,MATCH($X$2-1+ROW(A7),$W$2:$W$199,0)),"") | H9: =IF(P8="","",P8) | L9: =IF(ROW(A8)<=50,"Individual",IF(ROW(A8)<=100,"Pas De Deux","Squad"))&" Entries" -> Individual Entries | M9: =IF(L8<>L9,1,M8+1) -> 8 | N9: {=INDIRECT("'"&L9&"'!F"&M9+1)} -> 0 | O9: =IF(N9=0,"",IF(COUNTIF($N$1:N9,"="&N9)>1,"",N9)) | P9: {=IFERROR(INDEX($O$2:$O$200,SMALL(IF($O$2:$O$200<>"",ROW($O$2:$O$200)-ROW($A$2)+1),ROWS($A$1:$A8))),"")} | Q9: =IFERROR(INDEX('BEV Entry Fees - 2025'!$D$3:$D$37,MATCH('Individual Entries'!A9,'BEV Entry Fees - 2025'!$C$3:$C$37,0)),0) -> 0 | R9: {=INDIRECT("'"&L9&"'!A"&M9+1)} -> 0 | S9: {=INDIRECT("'"&L9&"'!"&IF(L9="Squad Entries","C","B")&M9+1)} -> 0 | T9: =IF(S9=0,"",IF(COUNTIF($N$1:S9,"="&S9)>1,"",S9)) | U9: {=IFERROR(INDEX($T$2:$T$200,SMALL(IF($T$2:$T$200<>"",ROW($T$2:$T$200)-ROW($A$2)+1),ROWS($A$1:$A8))),"")} | V9: =IF(U9="","",1) | W9: {=IF(U9<>"",SUMPRODUCT((U9>=$U$2:$U$199)+0)+1,"")}
B10: ='BEV Entry Fees - 2025'!B10 -> 8 | C10: ='BEV Entry Fees - 2025'!G10 -> Open 1* Pas de Deux | D10: =COUNTIF(R:R,"="&C10) -> 0 | E10: =D10*'BEV Entry Fees - 2025'!E10 -> 0 | G10: =IFERROR(INDEX($U$2:$U$199,MATCH($X$2-1+ROW(A8),$W$2:$W$199,0)),"") | H10: =IF(P9="","",P9) | L10: =IF(ROW(A9)<=50,"Individual",IF(ROW(A9)<=100,"Pas De Deux","Squad"))&" Entries" -> Individual Entries | M10: =IF(L9<>L10,1,M9+1) -> 9 | N10: {=INDIRECT("'"&L10&"'!F"&M10+1)} -> 0 | O10: =IF(N10=0,"",IF(COUNTIF($N$1:N10,"="&N10)>1,"",N10)) | P10: {=IFERROR(INDEX($O$2:$O$200,SMALL(IF($O$2:$O$200<>"",ROW($O$2:$O$200)-ROW($A$2)+1),ROWS($A$1:$A9))),"")} | Q10: =IFERROR(INDEX('BEV Entry Fees - 2025'!$D$3:$D$37,MATCH('Individual Entries'!A10,'BEV Entry Fees - 2025'!$C$3:$C$37,0)),0) -> 0 | R10: {=INDIRECT("'"&L10&"'!A"&M10+1)} -> 0 | S10: {=INDIRECT("'"&L10&"'!"&IF(L10="Squad Entries","C","B")&M10+1)} -> 0 | T10: =IF(S10=0,"",IF(COUNTIF($N$1:S10,"="&S10)>1,"",S10)) | U10: {=IFERROR(INDEX($T$2:$T$200,SMALL(IF($T$2:$T$200<>"",ROW($T$2:$T$200)-ROW($A$2)+1),ROWS($A$1:$A9))),"")} | V10: =IF(U10="","",1) | W10: {=IF(U10<>"",SUMPRODUCT((U10>=$U$2:$U$199)+0)+1,"")}
B11: ='BEV Entry Fees - 2025'!B11 -> 9 | C11: ='BEV Entry Fees - 2025'!G11 -> Senior Individual 3* | D11: =COUNTIF(R:R,"="&C11) -> 0 | E11: =D11*'BEV Entry Fees - 2025'!E11 -> 0 | G11: =IFERROR(INDEX($U$2:$U$199,MATCH($X$2-1+ROW(A9),$W$2:$W$199,0)),"") | H11: =IF(P10="","",P10) | L11: =IF(ROW(A10)<=50,"Individual",IF(ROW(A10)<=100,"Pas De Deux","Squad"))&" Entries" -> Individual Entries | M11: =IF(L10<>L11,1,M10+1) -> 10 | N11: {=INDIRECT("'"&L11&"'!F"&M11+1)} -> 0 | O11: =IF(N11=0,"",IF(COUNTIF($N$1:N11,"="&N11)>1,"",N11)) | P11: {=IFERROR(INDEX($O$2:$O$200,SMALL(IF($O$2:$O$200<>"",ROW($O$2:$O$200)-ROW($A$2)+1),ROWS($A$1:$A10))),"")} | Q11: =IFERROR(INDEX('BEV Entry Fees - 2025'!$D$3:$D$37,MATCH('Individual Entries'!A11,'BEV Entry Fees - 2025'!$C$3:$C$37,0)),0) -> 0 | R11: {=INDIRECT("'"&L11&"'!A"&M11+1)} -> 0 | S11: {=INDIRECT("'"&L11&"'!"&IF(L11="Squad Entries","C","B")&M11+1)} -> 0 | T11: =IF(S11=0,"",IF(COUNTIF($N$1:S11,"="&S11)>1,"",S11)) | U11: {=IFERROR(INDEX($T$2:$T$200,SMALL(IF($T$2:$T$200<>"",ROW($T$2:$T$200)-ROW($A$2)+1),ROWS($A$1:$A10))),"")} | V11: =IF(U11="","",1) | W11: {=IF(U11<>"",SUMPRODUCT((U11>=$U$2:$U$199)+0)+1,"")}
B12: ='BEV Entry Fees - 2025'!B12 -> 10 | C12: ='BEV Entry Fees - 2025'!G12 -> Young Vaulter 2* | D12: =COUNTIF(R:R,"="&C12) -> 0 | E12: =D12*'BEV Entry Fees - 2025'!E12 -> 0 | G12: =IFERROR(INDEX($U$2:$U$199,MATCH($X$2-1+ROW(A10),$W$2:$W$199,0)),"") | H12: =IF(P11="","",P11) | L12: =IF(ROW(A11)<=50,"Individual",IF(ROW(A11)<=100,"Pas De Deux","Squad"))&" Entries" -> Individual Entries | M12: =IF(L11<>L12,1,M11+1) -> 11 | N12: {=INDIRECT("'"&L12&"'!F"&M12+1)} -> 0 | O12: =IF(N12=0,"",IF(COUNTIF($N$1:N12,"="&N12)>1,"",N12)) | P12: {=IFERROR(INDEX($O$2:$O$200,SMALL(IF($O$2:$O$200<>"",ROW($O$2:$O$200)-ROW($A$2)+1),ROWS($A$1:$A11))),"")} | Q12: =IFERROR(INDEX('BEV Entry Fees - 2025'!$D$3:$D$37,MATCH('Individual Entries'!A12,'BEV Entry Fees - 2025'!$C$3:$C$37,0)),0) -> 0 | R12: {=INDIRECT("'"&L12&"'!A"&M12+1)} -> 0 | S12: {=INDIRECT("'"&L12&"'!"&IF(L12="Squad Entries","C","B")&M12+1)} -> 0 | T12: =IF(S12=0,"",IF(COUNTIF($N$1:S12,"="&S12)>1,"",S12)) | U12: {=IFERROR(INDEX($T$2:$T$200,SMALL(IF($T$2:$T$200<>"",ROW($T$2:$T$200)-ROW($A$2)+1),ROWS($A$1:$A11))),"")} | V12: =IF(U12="","",1) | W12: {=IF(U12<>"",SUMPRODUCT((U12>=$U$2:$U$199)+0)+1,"")}
B13: ='BEV Entry Fees - 2025'!B13 -> 11 | C13: ='BEV Entry Fees - 2025'!G13 -> Senior Individual 2* | D13: =COUNTIF(R:R,"="&C13) -> 0 | E13: =D13*'BEV Entry Fees - 2025'!E13 -> 0 | G13: =IFERROR(INDEX($U$2:$U$199,MATCH($X$2-1+ROW(A11),$W$2:$W$199,0)),"") | H13: =IF(P12="","",P12) | L13: =IF(ROW(A12)<=50,"Individual",IF(ROW(A12)<=100,"Pas De Deux","Squad"))&" Entries" -> Individual Entries | M13: =IF(L12<>L13,1,M12+1) -> 12 | N13: {=INDIRECT("'"&L13&"'!F"&M13+1)} -> 0 | O13: =IF(N13=0,"",IF(COUNTIF($N$1:N13,"="&N13)>1,"",N13)) | P13: {=IFERROR(INDEX($O$2:$O$200,SMALL(IF($O$2:$O$200<>"",ROW($O$2:$O$200)-ROW($A$2)+1),ROWS($A$1:$A12))),"")} | Q13: =IFERROR(INDEX('BEV Entry Fees - 2025'!$D$3:$D$37,MATCH('Individual Entries'!A13,'BEV Entry Fees - 2025'!$C$3:$C$37,0)),0) -> 0 | R13: {=INDIRECT("'"&L13&"'!A"&M13+1)} -> 0 | S13: {=INDIRECT("'"&L13&"'!"&IF(L13="Squad Entries","C","B")&M13+1)} -> 0 | T13: =IF(S13=0,"",IF(COUNTIF($N$1:S13,"="&S13)>1,"",S13)) | U13: {=IFERROR(INDEX($T$2:$T$200,SMALL(IF($T$2:$T$200<>"",ROW($T$2:$T$200)-ROW($A$2)+1),ROWS($A$1:$A12))),"")} | V13: =IF(U13="","",1) | W13: {=IF(U13<>"",SUMPRODUCT((U13>=$U$2:$U$199)+0)+1,"")}
B14: ='BEV Entry Fees - 2025'!B14 -> 12 | C14: ='BEV Entry Fees - 2025'!G14 -> Senior Individual 1* | D14: =COUNTIF(R:R,"="&C14) -> 0 | E14: =D14*'BEV Entry Fees - 2025'!E14 -> 0 | G14: =IFERROR(INDEX($U$2:$U$199,MATCH($X$2-1+ROW(A12),$W$2:$W$199,0)),"") | H14: =IF(P13="","",P13) | L14: =IF(ROW(A13)<=50,"Individual",IF(ROW(A13)<=100,"Pas De Deux","Squad"))&" Entries" -> Individual Entries | M14: =IF(L13<>L14,1,M13+1) -> 13 | N14: {=INDIRECT("'"&L14&"'!F"&M14+1)} -> 0 | O14: =IF(N14=0,"",IF(COUNTIF($N$1:N14,"="&N14)>1,"",N14)) | P14: {=IFERROR(INDEX($O$2:$O$200,SMALL(IF($O$2:$O$200<>"",ROW($O$2:$O$200)-ROW($A$2)+1),ROWS($A$1:$A13))),"")} | Q14: =IFERROR(INDEX('BEV Entry Fees - 2025'!$D$3:$D$37,MATCH('Individual Entries'!A14,'BEV Entry Fees - 2025'!$C$3:$C$37,0)),0) -> 0 | R14: {=INDIRECT("'"&L14&"'!A"&M14+1)} -> 0 | S14: {=INDIRECT("'"&L14&"'!"&IF(L14="Squad Entries","C","B")&M14+1)} -> 0 | T14: =IF(S14=0,"",IF(COUNTIF($N$1:S14,"="&S14)>1,"",S14)) | U14: {=IFERROR(INDEX($T$2:$T$200,SMALL(IF($T$2:$T$200<>"",ROW($T$2:$T$200)-ROW($A$2)+1),ROWS($A$1:$A13))),"")} | V14: =IF(U14="","",1) | W14: {=IF(U14<>"",SUMPRODUCT((U14>=$U$2:$U$199)+0)+1,"")}
... B23: ='BEV Entry Fees - 2025'!B23 -> 19 | C23: ='BEV Entry Fees - 2025'!G23 -> Foundation Squad (Open) | D23: =COUNTIF(R:R,"="&C23) -> 0 | E23: =D23*'BEV Entry Fees - 2025'!E23 -> 0 | G23: =IFERROR(INDEX($U$2:$U$199,MATCH($X$2-1+ROW(A21),$W$2:$W$199,0)),"") | H23: =IF(P22="","",P22) | L23: =IF(ROW(A22)<=50,"Individual",IF(ROW(A22)<=100,"Pas De Deux","Squad"))&" Entries" -> Individual Entries | M23: =IF(L22<>L23,1,M22+1) -> 22 | N23: {=INDIRECT("'"&L23&"'!F"&M23+1)} -> 0 | O23: =IF(N23=0,"",IF(COUNTIF($N$1:N23,"="&N23)>1,"",N23)) | P23: {=IFERROR(INDEX($O$2:$O$200,SMALL(IF($O$2:$O$200<>"",ROW($O$2:$O$200)-ROW($A$2)+1),ROWS($A$1:$A22))),"")} | Q23: =IFERROR(INDEX('BEV Entry Fees - 2025'!$D$3:$D$37,MATCH('Individual Entries'!A23,'BEV Entry Fees - 2025'!$C$3:$C$37,0)),0) -> 0 | R23: {=INDIRECT("'"&L23&"'!A"&M23+1)} -> 0 | S23: {=INDIRECT("'"&L23&"'!"&IF(L23="Squad Entries","C","B")&M23+1)} -> 0 | T23: =IF(S23=0,"",IF(COUNTIF($N$1:S23,"="&S23)>1,"",S23)) | U23: {=IFERROR(INDEX($T$2:$T$200,SMALL(IF($T$2:$T$200<>"",ROW($T$2:$T$200)-ROW($A$2)+1),ROWS($A$1:$A22))),"")} | V23: =IF(U23="","",1) | W23: {=IF(U23<>"",SUMPRODUCT((U23>=$U$2:$U$199)+0)+1,"")}
B24: ='BEV Entry Fees - 2025'!B25 -> 20 | C24: ='BEV Entry Fees - 2025'!G25 -> Intro B W/C Individual | D24: =COUNTIF(R:R,"="&C24) -> 0 | E24: =D24*'BEV Entry Fees - 2025'!E25 -> 0 | G24: =IFERROR(INDEX($U$2:$U$199,MATCH($X$2-1+ROW(A22),$W$2:$W$199,0)),"") | H24: =IF(P23="","",P23) | L24: =IF(ROW(A23)<=50,"Individual",IF(ROW(A23)<=100,"Pas De Deux","Squad"))&" Entries" -> Individual Entries | M24: =IF(L23<>L24,1,M23+1) -> 23 | N24: {=INDIRECT("'"&L24&"'!F"&M24+1)} -> 0 | O24: =IF(N24=0,"",IF(COUNTIF($N$1:N24,"="&N24)>1,"",N24)) | P24: {=IFERROR(INDEX($O$2:$O$200,SMALL(IF($O$2:$O$200<>"",ROW($O$2:$O$200)-ROW($A$2)+1),ROWS($A$1:$A23))),"")} | Q24: =IFERROR(INDEX('BEV Entry Fees - 2025'!$D$3:$D$37,MATCH('Individual Entries'!A24,'BEV Entry Fees - 2025'!$C$3:$C$37,0)),0) -> 0 | R24: {=INDIRECT("'"&L24&"'!A"&M24+1)} -> 0 | S24: {=INDIRECT("'"&L24&"'!"&IF(L24="Squad Entries","C","B")&M24+1)} -> 0 | T24: =IF(S24=0,"",IF(COUNTIF($N$1:S24,"="&S24)>1,"",S24)) | U24: {=IFERROR(INDEX($T$2:$T$200,SMALL(IF($T$2:$T$200<>"",ROW($T$2:$T$200)-ROW($A$2)+1),ROWS($A$1:$A23))),"")} | V24: =IF(U24="","",1) | W24: {=IF(U24<>"",SUMPRODUCT((U24>=$U$2:$U$199)+0)+1,"")}
B25: ='BEV Entry Fees - 2025'!B26 -> 20p | C25: ='BEV Entry Fees - 2025'!G26 -> Intro B W/C Individual (para) | D25: =COUNTIF(R:R,"="&C25) -> 0 | E25: =D25*'BEV Entry Fees - 2025'!E26 -> 0 | G25: =IFERROR(INDEX($U$2:$U$199,MATCH($X$2-1+ROW(A23),$W$2:$W$199,0)),"") | H25: =IF(P24="","",P24) | L25: =IF(ROW(A24)<=50,"Individual",IF(ROW(A24)<=100,"Pas De Deux","Squad"))&" Entries" -> Individual Entries | M25: =IF(L24<>L25,1,M24+1) -> 24 | N25: {=INDIRECT("'"&L25&"'!F"&M25+1)} -> 0 | O25: =IF(N25=0,"",IF(COUNTIF($N$1:N25,"="&N25)>1,"",N25)) | P25: {=IFERROR(INDEX($O$2:$O$200,SMALL(IF($O$2:$O$200<>"",ROW($O$2:$O$200)-ROW($A$2)+1),ROWS($A$1:$A24))),"")} | Q25: =IFERROR(INDEX('BEV Entry Fees - 2025'!$D$3:$D$37,MATCH('Individual Entries'!A25,'BEV Entry Fees - 2025'!$C$3:$C$37,0)),0) -> 0 | R25: {=INDIRECT("'"&L25&"'!A"&M25+1)} -> 0 | S25: {=INDIRECT("'"&L25&"'!"&IF(L25="Squad Entries","C","B")&M25+1)} -> 0 | T25: =IF(S25=0,"",IF(COUNTIF($N$1:S25,"="&S25)>1,"",S25)) | U25: {=IFERROR(INDEX($T$2:$T$200,SMALL(IF($T$2:$T$200<>"",ROW($T$2:$T$200)-ROW($A$2)+1),ROWS($A$1:$A24))),"")} | V25: =IF(U25="","",1) | W25: {=IF(U25<>"",SUMPRODUCT((U25>=$U$2:$U$199)+0)+1,"")}
B26: ='BEV Entry Fees - 2025'!B27 -> 21 | C26: ='BEV Entry Fees - 2025'!G27 -> Foundation B C/W or T/W Individual | D26: =COUNTIF(R:R,"="&C26) -> 0 | E26: =D26*'BEV Entry Fees - 2025'!E27 -> 0 | G26: =IFERROR(INDEX($U$2:$U$199,MATCH($X$2-1+ROW(A24),$W$2:$W$199,0)),"") | H26: =IF(P25="","",P25) | L26: =IF(ROW(A25)<=50,"Individual",IF(ROW(A25)<=100,"Pas De Deux","Squad"))&" Entries" -> Individual Entries | M26: =IF(L25<>L26,1,M25+1) -> 25 | N26: {=INDIRECT("'"&L26&"'!F"&M26+1)} -> 0 | O26: =IF(N26=0,"",IF(COUNTIF($N$1:N26,"="&N26)>1,"",N26)) | P26: {=IFERROR(INDEX($O$2:$O$200,SMALL(IF($O$2:$O$200<>"",ROW($O$2:$O$200)-ROW($A$2)+1),ROWS($A$1:$A25))),"")} | Q26: =IFERROR(INDEX('BEV Entry Fees - 2025'!$D$3:$D$37,MATCH('Individual Entries'!A26,'BEV Entry Fees - 2025'!$C$3:$C$37,0)),0) -> 0 | R26: {=INDIRECT("'"&L26&"'!A"&M26+1)} -> 0 | S26: {=INDIRECT("'"&L26&"'!"&IF(L26="Squad Entries","C","B")&M26+1)} -> 0 | T26: =IF(S26=0,"",IF(COUNTIF($N$1:S26,"="&S26)>1,"",S26)) | U26: {=IFERROR(INDEX($T$2:$T$200,SMALL(IF($T$2:$T$200<>"",ROW($T$2:$T$200)-ROW($A$2)+1),ROWS($A$1:$A25))),"")} | V26: =IF(U26="","",1) | W26: {=IF(U26<>"",SUMPRODUCT((U26>=$U$2:$U$199)+0)+1,"")}
B27: ='BEV Entry Fees - 2025'!B28 -> 21p | C27: ='BEV Entry Fees - 2025'!G28 -> Foundation B C/W or T/W Individual (para) | D27: =COUNTIF(R:R,"="&C27) -> 0 | E27: =D27*'BEV Entry Fees - 2025'!E28 -> 0 | G27: =IFERROR(INDEX($U$2:$U$199,MATCH($X$2-1+ROW(A25),$W$2:$W$199,0)),"") | H27: =IF(P26="","",P26) | L27: =IF(ROW(A26)<=50,"Individual",IF(ROW(A26)<=100,"Pas De Deux","Squad"))&" Entries" -> Individual Entries | M27: =IF(L26<>L27,1,M26+1) -> 26 | N27: {=INDIRECT("'"&L27&"'!F"&M27+1)} -> 0 | O27: =IF(N27=0,"",IF(COUNTIF($N$1:N27,"="&N27)>1,"",N27)) | P27: {=IFERROR(INDEX($O$2:$O$200,SMALL(IF($O$2:$O$200<>"",ROW($O$2:$O$200)-ROW($A$2)+1),ROWS($A$1:$A26))),"")} | Q27: =IFERROR(INDEX('BEV Entry Fees - 2025'!$D$3:$D$37,MATCH('Individual Entries'!A27,'BEV Entry Fees - 2025'!$C$3:$C$37,0)),0) -> 0 | R27: {=INDIRECT("'"&L27&"'!A"&M27+1)} -> 0 | S27: {=INDIRECT("'"&L27&"'!"&IF(L27="Squad Entries","C","B")&M27+1)} -> 0 | T27: =IF(S27=0,"",IF(COUNTIF($N$1:S27,"="&S27)>1,"",S27)) | U27: {=IFERROR(INDEX($T$2:$T$200,SMALL(IF($T$2:$T$200<>"",ROW($T$2:$T$200)-ROW($A$2)+1),ROWS($A$1:$A26))),"")} | V27: =IF(U27="","",1) | W27: {=IF(U27<>"",SUMPRODUCT((U27>=$U$2:$U$199)+0)+1,"")}
B28: ='BEV Entry Fees - 2025'!B29 -> 22 | C28: ='BEV Entry Fees - 2025'!G29 -> Intro A W/W Individual | D28: =COUNTIF(R:R,"="&C28) -> 0 | E28: =D28*'BEV Entry Fees - 2025'!E29 -> 0 | G28: =IFERROR(INDEX($U$2:$U$199,MATCH($X$2-1+ROW(A26),$W$2:$W$199,0)),"") | H28: =IF(P27="","",P27) | L28: =IF(ROW(A27)<=50,"Individual",IF(ROW(A27)<=100,"Pas De Deux","Squad"))&" Entries" -> Individual Entries | M28: =IF(L27<>L28,1,M27+1) -> 27 | N28: {=INDIRECT("'"&L28&"'!F"&M28+1)} -> 0 | O28: =IF(N28=0,"",IF(COUNTIF($N$1:N28,"="&N28)>1,"",N28)) | P28: {=IFERROR(INDEX($O$2:$O$200,SMALL(IF($O$2:$O$200<>"",ROW($O$2:$O$200)-ROW($A$2)+1),ROWS($A$1:$A27))),"")} | Q28: =IFERROR(INDEX('BEV Entry Fees - 2025'!$D$3:$D$37,MATCH('Individual Entries'!A28,'BEV Entry Fees - 2025'!$C$3:$C$37,0)),0) -> 0 | R28: {=INDIRECT("'"&L28&"'!A"&M28+1)} -> 0 | S28: {=INDIRECT("'"&L28&"'!"&IF(L28="Squad Entries","C","B")&M28+1)} -> 0 | T28: =IF(S28=0,"",IF(COUNTIF($N$1:S28,"="&S28)>1,"",S28)) | U28: {=IFERROR(INDEX($T$2:$T$200,SMALL(IF($T$2:$T$200<>"",ROW($T$2:$T$200)-ROW($A$2)+1),ROWS($A$1:$A27))),"")} | V28: =IF(U28="","",1) | W28: {=IF(U28<>"",SUMPRODUCT((U28>=$U$2:$U$199)+0)+1,"")}
B29: ='BEV Entry Fees - 2025'!B30 -> 22p | C29: ='BEV Entry Fees - 2025'!G30 -> Intro A W/W Individual (para) | D29: =COUNTIF(R:R,"="&C29) -> 0 | E29: =D29*'BEV Entry Fees - 2025'!E30 -> 0 | G29: =IFERROR(INDEX($U$2:$U$199,MATCH($X$2-1+ROW(A27),$W$2:$W$199,0)),"") | H29: =IF(P28="","",P28) | L29: =IF(ROW(A28)<=50,"Individual",IF(ROW(A28)<=100,"Pas De Deux","Squad"))&" Entries" -> Individual Entries | M29: =IF(L28<>L29,1,M28+1) -> 28 | N29: {=INDIRECT("'"&L29&"'!F"&M29+1)} -> 0 | O29: =IF(N29=0,"",IF(COUNTIF($N$1:N29,"="&N29)>1,"",N29)) | P29: {=IFERROR(INDEX($O$2:$O$200,SMALL(IF($O$2:$O$200<>"",ROW($O$2:$O$200)-ROW($A$2)+1),ROWS($A$1:$A28))),"")} | Q29: =IFERROR(INDEX('BEV Entry Fees - 2025'!$D$3:$D$37,MATCH('Individual Entries'!A29,'BEV Entry Fees - 2025'!$C$3:$C$37,0)),0) -> 0 | R29: {=INDIRECT("'"&L29&"'!A"&M29+1)} -> 0 | S29: {=INDIRECT("'"&L29&"'!"&IF(L29="Squad Entries","C","B")&M29+1)} -> 0 | T29: =IF(S29=0,"",IF(COUNTIF($N$1:S29,"="&S29)>1,"",S29)) | U29: {=IFERROR(INDEX($T$2:$T$200,SMALL(IF($T$2:$T$200<>"",ROW($T$2:$T$200)-ROW($A$2)+1),ROWS($A$1:$A28))),"")} | V29: =IF(U29="","",1) | W29: {=IF(U29<>"",SUMPRODUCT((U29>=$U$2:$U$199)+0)+1,"")}
B30: ='BEV Entry Fees - 2025'!B31 -> 23 | C30: ='BEV Entry Fees - 2025'!G31 -> Foundation A W/W Individual | D30: =COUNTIF(R:R,"="&C30) -> 0 | E30: =D30*'BEV Entry Fees - 2025'!E31 -> 0 | G30: =IFERROR(INDEX($U$2:$U$199,MATCH($X$2-1+ROW(A28),$W$2:$W$199,0)),"") | H30: =IF(P29="","",P29) | L30: =IF(ROW(A29)<=50,"Individual",IF(ROW(A29)<=100,"Pas De Deux","Squad"))&" Entries" -> Individual Entries | M30: =IF(L29<>L30,1,M29+1) -> 29 | N30: {=INDIRECT("'"&L30&"'!F"&M30+1)} -> 0 | O30: =IF(N30=0,"",IF(COUNTIF($N$1:N30,"="&N30)>1,"",N30)) | P30: {=IFERROR(INDEX($O$2:$O$200,SMALL(IF($O$2:$O$200<>"",ROW($O$2:$O$200)-ROW($A$2)+1),ROWS($A$1:$A29))),"")} | Q30: =IFERROR(INDEX('BEV Entry Fees - 2025'!$D$3:$D$37,MATCH('Individual Entries'!A30,'BEV Entry Fees - 2025'!$C$3:$C$37,0)),0) -> 0 | R30: {=INDIRECT("'"&L30&"'!A"&M30+1)} -> 0 | S30: {=INDIRECT("'"&L30&"'!"&IF(L30="Squad Entries","C","B")&M30+1)} -> 0 | T30: =IF(S30=0,"",IF(COUNTIF($N$1:S30,"="&S30)>1,"",S30)) | U30: {=IFERROR(INDEX($T$2:$T$200,SMALL(IF($T$2:$T$200<>"",ROW($T$2:$T$200)-ROW($A$2)+1),ROWS($A$1:$A29))),"")} | V30: =IF(U30="","",1) | W30: {=IF(U30<>"",SUMPRODUCT((U30>=$U$2:$U$199)+0)+1,"")}
B31: ='BEV Entry Fees - 2025'!B32 -> 23p | C31: ='BEV Entry Fees - 2025'!G32 -> Foundation A W/W Individual (para) | D31: =COUNTIF(R:R,"="&C31) -> 0 | E31: =D31*'BEV Entry Fees - 2025'!E32 -> 0 | G31: =IFERROR(INDEX($U$2:$U$199,MATCH($X$2-1+ROW(A29),$W$2:$W$199,0)),"") | H31: =IF(P30="","",P30) | L31: =IF(ROW(A30)<=50,"Individual",IF(ROW(A30)<=100,"Pas De Deux","Squad"))&" Entries" -> Individual Entries | M31: =IF(L30<>L31,1,M30+1) -> 30 | N31: {=INDIRECT("'"&L31&"'!F"&M31+1)} -> 0 | O31: =IF(N31=0,"",IF(COUNTIF($N$1:N31,"="&N31)>1,"",N31)) | P31: {=IFERROR(INDEX($O$2:$O$200,SMALL(IF($O$2:$O$200<>"",ROW($O$2:$O$200)-ROW($A$2)+1),ROWS($A$1:$A30))),"")} | Q31: =IFERROR(INDEX('BEV Entry Fees - 2025'!$D$3:$D$37,MATCH('Individual Entries'!A31,'BEV Entry Fees - 2025'!$C$3:$C$37,0)),0) -> 0 | R31: {=INDIRECT("'"&L31&"'!A"&M31+1)} -> 0 | S31: {=INDIRECT("'"&L31&"'!"&IF(L31="Squad Entries","C","B")&M31+1)} -> 0 | T31: =IF(S31=0,"",IF(COUNTIF($N$1:S31,"="&S31)>1,"",S31)) | U31: {=IFERROR(INDEX($T$2:$T$200,SMALL(IF($T$2:$T$200<>"",ROW($T$2:$T$200)-ROW($A$2)+1),ROWS($A$1:$A30))),"")} | V31: =IF(U31="","",1) | W31: {=IF(U31<>"",SUMPRODUCT((U31>=$U$2:$U$199)+0)+1,"")}
B32: ='BEV Entry Fees - 2025'!B33 -> 24o | C32: ='BEV Entry Fees - 2025'!G33 -> Walk Pas de Deux (Open) | D32: =COUNTIF(R:R,"="&C32) -> 0 | E32: =D32*'BEV Entry Fees - 2025'!E33 -> 0 | G32: =IFERROR(INDEX($U$2:$U$199,MATCH($X$2-1+ROW(A30),$W$2:$W$199,0)),"") | H32: =IF(P31="","",P31) | L32: =IF(ROW(A31)<=50,"Individual",IF(ROW(A31)<=100,"Pas De Deux","Squad"))&" Entries" -> Individual Entries | M32: =IF(L31<>L32,1,M31+1) -> 31 | N32: {=INDIRECT("'"&L32&"'!F"&M32+1)} -> 0 | O32: =IF(N32=0,"",IF(COUNTIF($N$1:N32,"="&N32)>1,"",N32)) | P32: {=IFERROR(INDEX($O$2:$O$200,SMALL(IF($O$2:$O$200<>"",ROW($O$2:$O$200)-ROW($A$2)+1),ROWS($A$1:$A31))),"")} | Q32: =IFERROR(INDEX('BEV Entry Fees - 2025'!$D$3:$D$37,MATCH('Individual Entries'!A32,'BEV Entry Fees - 2025'!$C$3:$C$37,0)),0) -> 0 | R32: {=INDIRECT("'"&L32&"'!A"&M32+1)} -> 0 | S32: {=INDIRECT("'"&L32&"'!"&IF(L32="Squad Entries","C","B")&M32+1)} -> 0 | T32: =IF(S32=0,"",IF(COUNTIF($N$1:S32,"="&S32)>1,"",S32)) | U32: {=IFERROR(INDEX($T$2:$T$200,SMALL(IF($T$2:$T$200<>"",ROW($T$2:$T$200)-ROW($A$2)+1),ROWS($A$1:$A31))),"")} | V32: =IF(U32="","",1) | W32: {=IF(U32<>"",SUMPRODUCT((U32>=$U$2:$U$199)+0)+1,"")}
B33: ='BEV Entry Fees - 2025'!B34 -> 24g | C33: ='BEV Entry Fees - 2025'!G34 -> Walk Pas de Deux (Grassroots) | D33: =COUNTIF(R:R,"="&C33) -> 0 | E33: =D33*'BEV Entry Fees - 2025'!E34 -> 0 | G33: =IFERROR(INDEX($U$2:$U$199,MATCH($X$2-1+ROW(A31),$W$2:$W$199,0)),"") | H33: =IF(P32="","",P32) | L33: =IF(ROW(A32)<=50,"Individual",IF(ROW(A32)<=100,"Pas De Deux","Squad"))&" Entries" -> Individual Entries | M33: =IF(L32<>L33,1,M32+1) -> 32 | N33: {=INDIRECT("'"&L33&"'!F"&M33+1)} -> 0 | O33: =IF(N33=0,"",IF(COUNTIF($N$1:N33,"="&N33)>1,"",N33)) | P33: {=IFERROR(INDEX($O$2:$O$200,SMALL(IF($O$2:$O$200<>"",ROW($O$2:$O$200)-ROW($A$2)+1),ROWS($A$1:$A32))),"")} | Q33: =IFERROR(INDEX('BEV Entry Fees - 2025'!$D$3:$D$37,MATCH('Individual Entries'!A33,'BEV Entry Fees - 2025'!$C$3:$C$37,0)),0) -> 0 | R33: {=INDIRECT("'"&L33&"'!A"&M33+1)} -> 0 | S33: {=INDIRECT("'"&L33&"'!"&IF(L33="Squad Entries","C","B")&M33+1)} -> 0 | T33: =IF(S33=0,"",IF(COUNTIF($N$1:S33,"="&S33)>1,"",S33)) | U33: {=IFERROR(INDEX($T$2:$T$200,SMALL(IF($T$2:$T$200<>"",ROW($T$2:$T$200)-ROW($A$2)+1),ROWS($A$1:$A32))),"")} | V33: =IF(U33="","",1) | W33: {=IF(U33<>"",SUMPRODUCT((U33>=$U$2:$U$199)+0)+1,"")}
B34: 24p | C34: ='BEV Entry Fees - 2025'!G35 -> Walk Pas de Deux (Para) | D34: =COUNTIF(R:R,"="&C34) -> 0 | E34: =D34*'BEV Entry Fees - 2025'!E36 -> 0 | G34: =IFERROR(INDEX($U$2:$U$199,MATCH($X$2-1+ROW(A32),$W$2:$W$199,0)),"") | H34: =IF(P33="","",P33) | L34: =IF(ROW(A33)<=50,"Individual",IF(ROW(A33)<=100,"Pas De Deux","Squad"))&" Entries" -> Individual Entries | M34: =IF(L33<>L34,1,M33+1) -> 33 | N34: {=INDIRECT("'"&L34&"'!F"&M34+1)} -> 0 | O34: =IF(N34=0,"",IF(COUNTIF($N$1:N34,"="&N34)>1,"",N34)) | P34: {=IFERROR(INDEX($O$2:$O$200,SMALL(IF($O$2:$O$200<>"",ROW($O$2:$O$200)-ROW($A$2)+1),ROWS($A$1:$A33))),"")} | Q34: =IFERROR(INDEX('BEV Entry Fees - 2025'!$D$3:$D$37,MATCH('Individual Entries'!A34,'BEV Entry Fees - 2025'!$C$3:$C$37,0)),0) -> 0 | R34: {=INDIRECT("'"&L34&"'!A"&M34+1)} -> 0 | S34: {=INDIRECT("'"&L34&"'!"&IF(L34="Squad Entries","C","B")&M34+1)} -> 0 | T34: =IF(S34=0,"",IF(COUNTIF($N$1:S34,"="&S34)>1,"",S34)) | U34: {=IFERROR(INDEX($T$2:$T$200,SMALL(IF($T$2:$T$200<>"",ROW($T$2:$T$200)-ROW($A$2)+1),ROWS($A$1:$A33))),"")} | V34: =IF(U34="","",1) | W34: {=IF(U34<>"",SUMPRODUCT((U34>=$U$2:$U$199)+0)+1,"")}
B35: 25o | C35: ='BEV Entry Fees - 2025'!G36 -> Walk Squad (Open) | D35: =COUNTIF(R:R,"="&C35) -> 0 | E35: =D35*'BEV Entry Fees - 2025'!E37 -> 0 | G35: =IFERROR(INDEX($U$2:$U$199,MATCH($X$2-1+ROW(A33),$W$2:$W$199,0)),"") | H35: =IF(P34="","",P34) | L35: =IF(ROW(A34)<=50,"Individual",IF(ROW(A34)<=100,"Pas De Deux","Squad"))&" Entries" -> Individual Entries | M35: =IF(L34<>L35,1,M34+1) -> 34 | N35: {=INDIRECT("'"&L35&"'!F"&M35+1)} -> 0 | O35: =IF(N35=0,"",IF(COUNTIF($N$1:N35,"="&N35)>1,"",N35)) | P35: {=IFERROR(INDEX($O$2:$O$200,SMALL(IF($O$2:$O$200<>"",ROW($O$2:$O$200)-ROW($A$2)+1),ROWS($A$1:$A34))),"")} | Q35: =IFERROR(INDEX('BEV Entry Fees - 2025'!$D$3:$D$37,MATCH('Individual Entries'!A35,'BEV Entry Fees - 2025'!$C$3:$C$37,0)),0) -> 0 | R35: {=INDIRECT("'"&L35&"'!A"&M35+1)} -> 0 | S35: {=INDIRECT("'"&L35&"'!"&IF(L35="Squad Entries","C","B")&M35+1)} -> 0 | T35: =IF(S35=0,"",IF(COUNTIF($N$1:S35,"="&S35)>1,"",S35)) | U35: {=IFERROR(INDEX($T$2:$T$200,SMALL(IF($T$2:$T$200<>"",ROW($T$2:$T$200)-ROW($A$2)+1),ROWS($A$1:$A34))),"")} | V35: =IF(U35="","",1) | W35: {=IF(U35<>"",SUMPRODUCT((U35>=$U$2:$U$199)+0)+1,"")}
B36: 25g | C36: ='BEV Entry Fees - 2025'!G37 -> Walk Squad (Grassroots) | D36: =COUNTIF(R:R,"="&C36) -> 0 | E36: =D36*'BEV Entry Fees - 2025'!E38 -> 0 | G36: =IFERROR(INDEX($U$2:$U$199,MATCH($X$2-1+ROW(A34),$W$2:$W$199,0)),"") | H36: =IF(P35="","",P35) | L36: =IF(ROW(A35)<=50,"Individual",IF(ROW(A35)<=100,"Pas De Deux","Squad"))&" Entries" -> Individual Entries | M36: =IF(L35<>L36,1,M35+1) -> 35 | N36: {=INDIRECT("'"&L36&"'!F"&M36+1)} -> 0 | O36: =IF(N36=0,"",IF(COUNTIF($N$1:N36,"="&N36)>1,"",N36)) | P36: {=IFERROR(INDEX($O$2:$O$200,SMALL(IF($O$2:$O$200<>"",ROW($O$2:$O$200)-ROW($A$2)+1),ROWS($A$1:$A35))),"")} | Q36: =IFERROR(INDEX('BEV Entry Fees - 2025'!$D$3:$D$37,MATCH('Individual Entries'!A36,'BEV Entry Fees - 2025'!$C$3:$C$37,0)),0) -> 0 | R36: {=INDIRECT("'"&L36&"'!A"&M36+1)} -> 0 | S36: {=INDIRECT("'"&L36&"'!"&IF(L36="Squad Entries","C","B")&M36+1)} -> 0 | T36: =IF(S36=0,"",IF(COUNTIF($N$1:S36,"="&S36)>1,"",S36)) | U36: {=IFERROR(INDEX($T$2:$T$200,SMALL(IF($T$2:$T$200<>"",ROW($T$2:$T$200)-ROW($A$2)+1),ROWS($A$1:$A35))),"")} | V36: =IF(U36="","",1) | W36: {=IF(U36<>"",SUMPRODUCT((U36>=$U$2:$U$199)+0)+1,"")}
B37: 25p | C37: ='BEV Entry Fees - 2025'!G38 -> Walk Squad (Para) | D37: =COUNTIF(R:R,"="&C37) -> 0 | E37: =D37*'BEV Entry Fees - 2025'!E39 -> 0 | G37: =IFERROR(INDEX($U$2:$U$199,MATCH($X$2-1+ROW(A35),$W$2:$W$199,0)),"") | H37: =IF(P36="","",P36) | L37: =IF(ROW(A36)<=50,"Individual",IF(ROW(A36)<=100,"Pas De Deux","Squad"))&" Entries" -> Individual Entries | M37: =IF(L36<>L37,1,M36+1) -> 36 | N37: {=INDIRECT("'"&L37&"'!F"&M37+1)} -> 0 | O37: =IF(N37=0,"",IF(COUNTIF($N$1:N37,"="&N37)>1,"",N37)) | P37: {=IFERROR(INDEX($O$2:$O$200,SMALL(IF($O$2:$O$200<>"",ROW($O$2:$O$200)-ROW($A$2)+1),ROWS($A$1:$A36))),"")} | Q37: =IFERROR(INDEX('BEV Entry Fees - 2025'!$D$3:$D$37,MATCH('Individual Entries'!A37,'BEV Entry Fees - 2025'!$C$3:$C$37,0)),0) -> 0 | R37: {=INDIRECT("'"&L37&"'!A"&M37+1)} -> 0 | S37: {=INDIRECT("'"&L37&"'!"&IF(L37="Squad Entries","C","B")&M37+1)} -> 0 | T37: =IF(S37=0,"",IF(COUNTIF($N$1:S37,"="&S37)>1,"",S37)) | U37: {=IFERROR(INDEX($T$2:$T$200,SMALL(IF($T$2:$T$200<>"",ROW($T$2:$T$200)-ROW($A$2)+1),ROWS($A$1:$A36))),"")} | V37: =IF(U37="","",1) | W37: {=IF(U37<>"",SUMPRODUCT((U37>=$U$2:$U$199)+0)+1,"")}
E38: =D38*'BEV Entry Fees - 2025'!E40 -> 0 | G38: =IFERROR(INDEX($U$2:$U$199,MATCH($X$2-1+ROW(A36),$W$2:$W$199,0)),"") | H38: =IF(P37="","",P37) | L38: =IF(ROW(A37)<=50,"Individual",IF(ROW(A37)<=100,"Pas De Deux","Squad"))&" Entries" -> Individual Entries | M38: =IF(L37<>L38,1,M37+1) -> 37 | N38: {=INDIRECT("'"&L38&"'!F"&M38+1)} -> 0 | O38: =IF(N38=0,"",IF(COUNTIF($N$1:N38,"="&N38)>1,"",N38)) | P38: {=IFERROR(INDEX($O$2:$O$200,SMALL(IF($O$2:$O$200<>"",ROW($O$2:$O$200)-ROW($A$2)+1),ROWS($A$1:$A37))),"")} | Q38: =IFERROR(INDEX('BEV Entry Fees - 2025'!$D$3:$D$37,MATCH('Individual Entries'!A38,'BEV Entry Fees - 2025'!$C$3:$C$37,0)),0) -> 0 | R38: {=INDIRECT("'"&L38&"'!A"&M38+1)} -> 0 | S38: {=INDIRECT("'"&L38&"'!"&IF(L38="Squad Entries","C","B")&M38+1)} -> 0 | T38: =IF(S38=0,"",IF(COUNTIF($N$1:S38,"="&S38)>1,"",S38)) | U38: {=IFERROR(INDEX($T$2:$T$200,SMALL(IF($T$2:$T$200<>"",ROW($T$2:$T$200)-ROW($A$2)+1),ROWS($A$1:$A37))),"")} | V38: =IF(U38="","",1) | W38: {=IF(U38<>"",SUMPRODUCT((U38>=$U$2:$U$199)+0)+1,"")}
E39: =D39*'BEV Entry Fees - 2025'!E40 -> 0 | G39: =IFERROR(INDEX($U$2:$U$199,MATCH($X$2-1+ROW(A37),$W$2:$W$199,0)),"") | H39: =IF(P38="","",P38) | L39: =IF(ROW(A38)<=50,"Individual",IF(ROW(A38)<=100,"Pas De Deux","Squad"))&" Entries" -> Individual Entries | M39: =IF(L38<>L39,1,M38+1) -> 38 | N39: {=INDIRECT("'"&L39&"'!F"&M39+1)} -> 0 | O39: =IF(N39=0,"",IF(COUNTIF($N$1:N39,"="&N39)>1,"",N39)) | P39: {=IFERROR(INDEX($O$2:$O$200,SMALL(IF($O$2:$O$200<>"",ROW($O$2:$O$200)-ROW($A$2)+1),ROWS($A$1:$A38))),"")} | Q39: =IFERROR(INDEX('BEV Entry Fees - 2025'!$D$3:$D$37,MATCH('Individual Entries'!A39,'BEV Entry Fees - 2025'!$C$3:$C$37,0)),0) -> 0 | R39: {=INDIRECT("'"&L39&"'!A"&M39+1)} -> 0 | S39: {=INDIRECT("'"&L39&"'!"&IF(L39="Squad Entries","C","B")&M39+1)} -> 0 | T39: =IF(S39=0,"",IF(COUNTIF($N$1:S39,"="&S39)>1,"",S39)) | U39: {=IFERROR(INDEX($T$2:$T$200,SMALL(IF($T$2:$T$200<>"",ROW($T$2:$T$200)-ROW($A$2)+1),ROWS($A$1:$A38))),"")} | V39: =IF(U39="","",1) | W39: {=IF(U39<>"",SUMPRODUCT((U39>=$U$2:$U$199)+0)+1,"")}
G40: =IFERROR(INDEX($U$2:$U$199,MATCH($X$2-1+ROW(A38),$W$2:$W$199,0)),"") | H40: =IF(P39="","",P39) | L40: =IF(ROW(A39)<=50,"Individual",IF(ROW(A39)<=100,"Pas De Deux","Squad"))&" Entries" -> Individual Entries | M40: =IF(L39<>L40,1,M39+1) -> 39 | N40: {=INDIRECT("'"&L40&"'!F"&M40+1)} -> 0 | O40: =IF(N40=0,"",IF(COUNTIF($N$1:N40,"="&N40)>1,"",N40)) | P40: {=IFERROR(INDEX($O$2:$O$200,SMALL(IF($O$2:$O$200<>"",ROW($O$2:$O$200)-ROW($A$2)+1),ROWS($A$1:$A39))),"")} | Q40: =IFERROR(INDEX('BEV Entry Fees - 2025'!$D$3:$D$37,MATCH('Individual Entries'!A40,'BEV Entry Fees - 2025'!$C$3:$C$37,0)),0) -> 0 | R40: {=INDIRECT("'"&L40&"'!A"&M40+1)} -> 0 | S40: {=INDIRECT("'"&L40&"'!"&IF(L40="Squad Entries","C","B")&M40+1)} -> 0 | T40: =IF(S40=0,"",IF(COUNTIF($N$1:S40,"="&S40)>1,"",S40)) | U40: {=IFERROR(INDEX($T$2:$T$200,SMALL(IF($T$2:$T$200<>"",ROW($T$2:$T$200)-ROW($A$2)+1),ROWS($A$1:$A39))),"")} | V40: =IF(U40="","",1) | W40: {=IF(U40<>"",SUMPRODUCT((U40>=$U$2:$U$199)+0)+1,"")}
C41: Admin fee of £7.00 per unqiue vaulter | E41: =SUM(V2:V198)*7 -> 0 | G41: =IFERROR(INDEX($U$2:$U$199,MATCH($X$2-1+ROW(A39),$W$2:$W$199,0)),"") | H41: =IF(P40="","",P40) | L41: =IF(ROW(A40)<=50,"Individual",IF(ROW(A40)<=100,"Pas De Deux","Squad"))&" Entries" -> Individual Entries | M41: =IF(L40<>L41,1,M40+1) -> 40 | N41: {=INDIRECT("'"&L41&"'!F"&M41+1)} -> 0 | O41: =IF(N41=0,"",IF(COUNTIF($N$1:N41,"="&N41)>1,"",N41)) | P41: {=IFERROR(INDEX($O$2:$O$200,SMALL(IF($O$2:$O$200<>"",ROW($O$2:$O$200)-ROW($A$2)+1),ROWS($A$1:$A40))),"")} | Q41: =IFERROR(INDEX('BEV Entry Fees - 2025'!$D$3:$D$37,MATCH('Individual Entries'!A41,'BEV Entry Fees - 2025'!$C$3:$C$37,0)),0) -> 0 | R41: {=INDIRECT("'"&L41&"'!A"&M41+1)} -> 0 | S41: {=INDIRECT("'"&L41&"'!"&IF(L41="Squad Entries","C","B")&M41+1)} -> 0 | T41: =IF(S41=0,"",IF(COUNTIF($N$1:S41,"="&S41)>1,"",S41)) | U41: {=IFERROR(INDEX($T$2:$T$200,SMALL(IF($T$2:$T$200<>"",ROW($T$2:$T$200)-ROW($A$2)+1),ROWS($A$1:$A40))),"")} | V41: =IF(U41="","",1) | W41: {=IF(U41<>"",SUMPRODUCT((U41>=$U$2:$U$199)+0)+1,"")}
G42: =IFERROR(INDEX($U$2:$U$199,MATCH($X$2-1+ROW(A40),$W$2:$W$199,0)),"") | H42: =IF(P41="","",P41) | L42: =IF(ROW(A41)<=50,"Individual",IF(ROW(A41)<=100,"Pas De Deux","Squad"))&" Entries" -> Individual Entries | M42: =IF(L41<>L42,1,M41+1) -> 41 | N42: {=INDIRECT("'"&L42&"'!F"&M42+1)} -> 0 | O42: =IF(N42=0,"",IF(COUNTIF($N$1:N42,"="&N42)>1,"",N42)) | P42: {=IFERROR(INDEX($O$2:$O$200,SMALL(IF($O$2:$O$200<>"",ROW($O$2:$O$200)-ROW($A$2)+1),ROWS($A$1:$A41))),"")} | Q42: =IFERROR(INDEX('BEV Entry Fees - 2025'!$D$3:$D$37,MATCH('Individual Entries'!A42,'BEV Entry Fees - 2025'!$C$3:$C$37,0)),0) -> 0 | R42: {=INDIRECT("'"&L42&"'!A"&M42+1)} -> 0 | S42: {=INDIRECT("'"&L42&"'!"&IF(L42="Squad Entries","C","B")&M42+1)} -> 0 | T42: =IF(S42=0,"",IF(COUNTIF($N$1:S42,"="&S42)>1,"",S42)) | U42: {=IFERROR(INDEX($T$2:$T$200,SMALL(IF($T$2:$T$200<>"",ROW($T$2:$T$200)-ROW($A$2)+1),ROWS($A$1:$A41))),"")} | V42: =IF(U42="","",1) | W42: {=IF(U42<>"",SUMPRODUCT((U42>=$U$2:$U$199)+0)+1,"")}
C43: Total Competition Fees Due | E43: =SUM(E3:E42) -> 0 | L43: =IF(ROW(A42)<=50,"Individual",IF(ROW(A42)<=100,"Pas De Deux","Squad"))&" Entries" -> Individual Entries | M43: =IF(L42<>L43,1,M42+1) -> 42 | N43: {=INDIRECT("'"&L43&"'!F"&M43+1)} -> 0 | O43: =IF(N43=0,"",IF(COUNTIF($N$1:N43,"="&N43)>1,"",N43)) | P43: {=IFERROR(INDEX($O$2:$O$200,SMALL(IF($O$2:$O$200<>"",ROW($O$2:$O$200)-ROW($A$2)+1),ROWS($A$1:$A42))),"")} | Q43: =IFERROR(INDEX('BEV Entry Fees - 2025'!$D$3:$D$37,MATCH('Individual Entries'!A43,'BEV Entry Fees - 2025'!$C$3:$C$37,0)),0) -> 0 | R43: {=INDIRECT("'"&L43&"'!A"&M43+1)} -> 0 | S43: {=INDIRECT("'"&L43&"'!"&IF(L43="Squad Entries","C","B")&M43+1)} -> 0 | T43: =IF(S43=0,"",IF(COUNTIF($N$1:S43,"="&S43)>1,"",S43)) | U43: {=IFERROR(INDEX($T$2:$T$200,SMALL(IF($T$2:$T$200<>"",ROW($T$2:$T$200)-ROW($A$2)+1),ROWS($A$1:$A42))),"")}
C44: ***Please verify the total cost separately, as incorrect spelling of names can produce misleading costs. | G44: =IFERROR(INDEX($U$2:$U$199,MATCH($X$2-1+ROW(A41),$W$2:$W$199,0)),"") | H44: =IF(P42="","",P42) | L44: =IF(ROW(A43)<=50,"Individual",IF(ROW(A43)<=100,"Pas De Deux","Squad"))&" Entries" -> Individual Entries | M44: =IF(L43<>L44,1,M43+1) -> 43 | N44: {=INDIRECT("'"&L44&"'!F"&M44+1)} -> 0 | O44: =IF(N44=0,"",IF(COUNTIF($N$1:N44,"="&N44)>1,"",N44)) | P44: {=IFERROR(INDEX($O$2:$O$200,SMALL(IF($O$2:$O$200<>"",ROW($O$2:$O$200)-ROW($A$2)+1),ROWS($A$1:$A43))),"")} | Q44: =IFERROR(INDEX('BEV Entry Fees - 2025'!$D$3:$D$37,MATCH('Individual Entries'!A44,'BEV Entry Fees - 2025'!$C$3:$C$37,0)),0) -> 0 | R44: {=INDIRECT("'"&L44&"'!A"&M44+1)} -> 0 | S44: {=INDIRECT("'"&L44&"'!"&IF(L44="Squad Entries","C","B")&M44+1)} -> 0 | T44: =IF(S44=0,"",IF(COUNTIF($N$1:S44,"="&S44)>1,"",S44)) | U44: {=IFERROR(INDEX($T$2:$T$200,SMALL(IF($T$2:$T$200<>"",ROW($T$2:$T$200)-ROW($A$2)+1),ROWS($A$1:$A43))),"")} | V44: =IF(U44="","",1) | W44: {=IF(U44<>"",SUMPRODUCT((U44>=$U$2:$U$199)+0)+1,"")}
G45: =IFERROR(INDEX($U$2:$U$199,MATCH($X$2-1+ROW(A42),$W$2:$W$199,0)),"") | H45: =IF(P44="","",P44) | L45: =IF(ROW(A44)<=50,"Individual",IF(ROW(A44)<=100,"Pas De Deux","Squad"))&" Entries" -> Individual Entries | M45: =IF(L44<>L45,1,M44+1) -> 44 | N45: {=INDIRECT("'"&L45&"'!F"&M45+1)} -> 0 | O45: =IF(N45=0,"",IF(COUNTIF($N$1:N45,"="&N45)>1,"",N45)) | P45: {=IFERROR(INDEX($O$2:$O$200,SMALL(IF($O$2:$O$200<>"",ROW($O$2:$O$200)-ROW($A$2)+1),ROWS($A$1:$A44))),"")} | Q45: =IFERROR(INDEX('BEV Entry Fees - 2025'!$D$3:$D$37,MATCH('Individual Entries'!A45,'BEV Entry Fees - 2025'!$C$3:$C$37,0)),0) -> 0 | R45: {=INDIRECT("'"&L45&"'!A"&M45+1)} -> 0 | S45: {=INDIRECT("'"&L45&"'!"&IF(L45="Squad Entries","C","B")&M45+1)} -> 0 | T45: =IF(S45=0,"",IF(COUNTIF($N$1:S45,"="&S45)>1,"",S45)) | U45: {=IFERROR(INDEX($T$2:$T$200,SMALL(IF($T$2:$T$200<>"",ROW($T$2:$T$200)-ROW($A$2)+1),ROWS($A$1:$A44))),"")} | V45: =IF(U45="","",1) | W45: {=IF(U45<>"",SUMPRODUCT((U45>=$U$2:$U$199)+0)+1,"")}
C46: Payment Methods: | G46: =IFERROR(INDEX($U$2:$U$199,MATCH($X$2-1+ROW(A44),$W$2:$W$199,0)),"") | H46: =IF(P45="","",P45) | L46: =IF(ROW(A45)<=50,"Individual",IF(ROW(A45)<=100,"Pas De Deux","Squad"))&" Entries" -> Individual Entries | M46: =IF(L45<>L46,1,M45+1) -> 45 | N46: {=INDIRECT("'"&L46&"'!F"&M46+1)} -> 0 | O46: =IF(N46=0,"",IF(COUNTIF($N$1:N46,"="&N46)>1,"",N46)) | P46: {=IFERROR(INDEX($O$2:$O$200,SMALL(IF($O$2:$O$200<>"",ROW($O$2:$O$200)-ROW($A$2)+1),ROWS($A$1:$A45))),"")} | Q46: =IFERROR(INDEX('BEV Entry Fees - 2025'!$D$3:$D$37,MATCH('Individual Entries'!A46,'BEV Entry Fees - 2025'!$C$3:$C$37,0)),0) -> 0 | R46: {=INDIRECT("'"&L46&"'!A"&M46+1)} -> 0 | S46: {=INDIRECT("'"&L46&"'!"&IF(L46="Squad Entries","C","B")&M46+1)} -> 0 | T46: =IF(S46=0,"",IF(COUNTIF($N$1:S46,"="&S46)>1,"",S46)) | U46: {=IFERROR(INDEX($T$2:$T$200,SMALL(IF($T$2:$T$200<>"",ROW($T$2:$T$200)-ROW($A$2)+1),ROWS($A$1:$A45))),"")} | V46: =IF(U46="","",1) | W46: {=IF(U46<>"",SUMPRODUCT((U46>=$U$2:$U$199)+0)+1,"")}
C47: Please send electronic payment to Sort Code: 80-91-29 Account No: 00515473 with the club or vaulter’s name as reference, email final entry form to the secretary advising the fee has been sent electronically, | G47: =IFERROR(INDEX($U$2:$U$199,MATCH($X$2-1+ROW(A45),$W$2:$W$199,0)),"") | H47: =IF(P46="","",P46) | L47: =IF(ROW(A46)<=50,"Individual",IF(ROW(A46)<=100,"Pas De Deux","Squad"))&" Entries" -> Individual Entries | M47: =IF(L46<>L47,1,M46+1) -> 46 | N47: {=INDIRECT("'"&L47&"'!F"&M47+1)} -> 0 | O47: =IF(N47=0,"",IF(COUNTIF($N$1:N47,"="&N47)>1,"",N47)) | P47: {=IFERROR(INDEX($O$2:$O$200,SMALL(IF($O$2:$O$200<>"",ROW($O$2:$O$200)-ROW($A$2)+1),ROWS($A$1:$A46))),"")} | Q47: =IFERROR(INDEX('BEV Entry Fees - 2025'!$D$3:$D$37,MATCH('Individual Entries'!A47,'BEV Entry Fees - 2025'!$C$3:$C$37,0)),0) -> 0 | R47: {=INDIRECT("'"&L47&"'!A"&M47+1)} -> 0 | S47: {=INDIRECT("'"&L47&"'!"&IF(L47="Squad Entries","C","B")&M47+1)} -> 0 | T47: =IF(S47=0,"",IF(COUNTIF($N$1:S47,"="&S47)>1,"",S47)) | U47: {=IFERROR(INDEX($T$2:$T$200,SMALL(IF($T$2:$T$200<>"",ROW($T$2:$T$200)-ROW($A$2)+1),ROWS($A$1:$A46))),"")} | V47: =IF(U47="","",1) | W47: {=IF(U47<>"",SUMPRODUCT((U47>=$U$2:$U$199)+0)+1,"")}
G48: =IFERROR(INDEX($U$2:$U$199,MATCH($X$2-1+ROW(A46),$W$2:$W$199,0)),"") | H48: =IF(P47="","",P47) | L48: =IF(ROW(A47)<=50,"Individual",IF(ROW(A47)<=100,"Pas De Deux","Squad"))&" Entries" -> Individual Entries | M48: =IF(L47<>L48,1,M47+1) -> 47 | N48: {=INDIRECT("'"&L48&"'!F"&M48+1)} -> 0 | O48: =IF(N48=0,"",IF(COUNTIF($N$1:N48,"="&N48)>1,"",N48)) | P48: {=IFERROR(INDEX($O$2:$O$200,SMALL(IF($O$2:$O$200<>"",ROW($O$2:$O$200)-ROW($A$2)+1),ROWS($A$1:$A47))),"")} | Q48: =IFERROR(INDEX('BEV Entry Fees - 2025'!$D$3:$D$37,MATCH('Individual Entries'!A48,'BEV Entry Fees - 2025'!$C$3:$C$37,0)),0) -> 0 | R48: {=INDIRECT("'"&L48&"'!A"&M48+1)} -> 0 | S48: {=INDIRECT("'"&L48&"'!"&IF(L48="Squad Entries","C","B")&M48+1)} -> 0 | T48: =IF(S48=0,"",IF(COUNTIF($N$1:S48,"="&S48)>1,"",S48)) | U48: {=IFERROR(INDEX($T$2:$T$200,SMALL(IF($T$2:$T$200<>"",ROW($T$2:$T$200)-ROW($A$2)+1),ROWS($A$1:$A47))),"")} | V48: =IF(U48="","",1) | W48: {=IF(U48<>"",SUMPRODUCT((U48>=$U$2:$U$199)+0)+1,"")}
C51: Horses | D51: Horse Points
C52: {=IFERROR(INDEX($O$2:$O$193,SMALL(IF($O$2:$O$193<>"",ROW($O$2:$O$193)-ROW($A$2)+1),ROWS($A$1:$A1))),"")} | D52: =IF(C52="","",SUMIF(N:N,"="&C52,Q:Q))
C53: {=IFERROR(INDEX($O$2:$O$193,SMALL(IF($O$2:$O$193<>"",ROW($O$2:$O$193)-ROW($A$2)+1),ROWS($A$1:$A2))),"")} | D53: =IF(C53="","",SUMIF(N:N,"="&C53,Q:Q))
C54: {=IFERROR(INDEX($O$2:$O$193,SMALL(IF($O$2:$O$193<>"",ROW($O$2:$O$193)-ROW($A$2)+1),ROWS($A$1:$A3))),"")} | D54: =IF(C54="","",SUMIF(N:N,"="&C54,Q:Q))
C55: {=IFERROR(INDEX($O$2:$O$193,SMALL(IF($O$2:$O$193<>"",ROW($O$2:$O$193)-ROW($A$2)+1),ROWS($A$1:$A4))),"")} | D55: =IF(C55="","",SUMIF(N:N,"="&C55,Q:Q)) | L55: =IF(ROW(A54)<=50,"Individual",IF(ROW(A54)<=100,"Pas De Deux","Squad"))&" Entries" -> Pas De Deux Entries | M55: =IF(L54<>L55,1,M54+1) -> 1 | N55: {=INDIRECT("'"&L55&"'!F"&M55+1)} -> 0 | O55: =IF(N55=0,"",IF(COUNTIF($N$1:N55,"="&N55)>1,"",N55)) | P55: {=IFERROR(INDEX($O$2:$O$200,SMALL(IF($O$2:$O$200<>"",ROW($O$2:$O$200)-ROW($A$2)+1),ROWS($A$1:$A54))),"")} | Q55: =IFERROR(INDEX('BEV Entry Fees - 2025'!$D$3:$D$37,MATCH('Pas De Deux Entries'!A7,'BEV Entry Fees - 2025'!$C$3:$C$37,0)),0) -> 0 | R55: {=INDIRECT("'"&L55&"'!A"&M55+1)} -> 0 | S55: {=INDIRECT("'"&L55&"'!"&IF(L55="Squad Entries","C","B")&M55+1)} -> 0 | T55: =IF(S55=0,"",IF(COUNTIF($N$1:S55,"="&S55)>1,"",S55)) | U55: {=IFERROR(INDEX($T$2:$T$200,SMALL(IF($T$2:$T$200<>"",ROW($T$2:$T$200)-ROW($A$2)+1),ROWS($A$1:$A54))),"")} | V55: =IF(U55="","",1) | W55: {=IF(U55<>"",SUMPRODUCT((U55>=$U$2:$U$199)+0)+1,"")}
C56: {=IFERROR(INDEX($O$2:$O$193,SMALL(IF($O$2:$O$193<>"",ROW($O$2:$O$193)-ROW($A$2)+1),ROWS($A$1:$A5))),"")} | D56: =IF(C56="","",SUMIF(N:N,"="&C56,Q:Q)) | L56: =IF(ROW(A55)<=50,"Individual",IF(ROW(A55)<=100,"Pas De Deux","Squad"))&" Entries" -> Pas De Deux Entries | M56: =IF(L55<>L56,1,M55+1) -> 2 | N56: {=INDIRECT("'"&L56&"'!F"&M56+1)} -> 0 | O56: =IF(N56=0,"",IF(COUNTIF($N$1:N56,"="&N56)>1,"",N56)) | P56: {=IFERROR(INDEX($O$2:$O$200,SMALL(IF($O$2:$O$200<>"",ROW($O$2:$O$200)-ROW($A$2)+1),ROWS($A$1:$A55))),"")} | Q56: =IFERROR(INDEX('BEV Entry Fees - 2025'!$D$3:$D$37,MATCH('Pas De Deux Entries'!A8,'BEV Entry Fees - 2025'!$C$3:$C$37,0)),0) -> 0 | R56: {=INDIRECT("'"&L56&"'!A"&M56+1)} -> 0 | S56: {=INDIRECT("'"&L56&"'!"&IF(L56="Squad Entries","C","B")&M56+1)} -> 0 | T56: =IF(S56=0,"",IF(COUNTIF($N$1:S56,"="&S56)>1,"",S56)) | U56: {=IFERROR(INDEX($T$2:$T$200,SMALL(IF($T$2:$T$200<>"",ROW($T$2:$T$200)-ROW($A$2)+1),ROWS($A$1:$A55))),"")} | V56: =IF(U56="","",1) | W56: {=IF(U56<>"",SUMPRODUCT((U56>=$U$2:$U$199)+0)+1,"")}
C57: {=IFERROR(INDEX($O$2:$O$193,SMALL(IF($O$2:$O$193<>"",ROW($O$2:$O$193)-ROW($A$2)+1),ROWS($A$1:$A7))),"")} | D57: =IF(C57="","",SUMIF(N:N,"="&C57,Q:Q)) | L57: =IF(ROW(A56)<=50,"Individual",IF(ROW(A56)<=100,"Pas De Deux","Squad"))&" Entries" -> Pas De Deux Entries | M57: =IF(L56<>L57,1,M56+1) -> 3 | N57: {=INDIRECT("'"&L57&"'!F"&M57+1)} -> 0 | O57: =IF(N57=0,"",IF(COUNTIF($N$1:N57,"="&N57)>1,"",N57)) | P57: {=IFERROR(INDEX($O$2:$O$200,SMALL(IF($O$2:$O$200<>"",ROW($O$2:$O$200)-ROW($A$2)+1),ROWS($A$1:$A56))),"")} | Q57: =IFERROR(INDEX('BEV Entry Fees - 2025'!$D$3:$D$37,MATCH('Pas De Deux Entries'!A9,'BEV Entry Fees - 2025'!$C$3:$C$37,0)),0) -> 0 | R57: {=INDIRECT("'"&L57&"'!A"&M57+1)} -> 0 | S57: {=INDIRECT("'"&L57&"'!"&IF(L57="Squad Entries","C","B")&M57+1)} -> 0 | T57: =IF(S57=0,"",IF(COUNTIF($N$1:S57,"="&S57)>1,"",S57)) | U57: {=IFERROR(INDEX($T$2:$T$200,SMALL(IF($T$2:$T$200<>"",ROW($T$2:$T$200)-ROW($A$2)+1),ROWS($A$1:$A56))),"")} | V57: =IF(U57="","",1) | W57: {=IF(U57<>"",SUMPRODUCT((U57>=$U$2:$U$199)+0)+1,"")}
C58: {=IFERROR(INDEX($O$2:$O$193,SMALL(IF($O$2:$O$193<>"",ROW($O$2:$O$193)-ROW($A$2)+1),ROWS($A$1:$A8))),"")} | D58: =IF(C58="","",SUMIF(N:N,"="&C58,Q:Q)) | L58: =IF(ROW(A57)<=50,"Individual",IF(ROW(A57)<=100,"Pas De Deux","Squad"))&" Entries" -> Pas De Deux Entries | M58: =IF(L57<>L58,1,M57+1) -> 4 | N58: {=INDIRECT("'"&L58&"'!F"&M58+1)} -> 0 | O58: =IF(N58=0,"",IF(COUNTIF($N$1:N58,"="&N58)>1,"",N58)) | P58: {=IFERROR(INDEX($O$2:$O$200,SMALL(IF($O$2:$O$200<>"",ROW($O$2:$O$200)-ROW($A$2)+1),ROWS($A$1:$A57))),"")} | Q58: =IFERROR(INDEX('BEV Entry Fees - 2025'!$D$3:$D$37,MATCH('Pas De Deux Entries'!A10,'BEV Entry Fees - 2025'!$C$3:$C$37,0)),0) -> 0 | R58: {=INDIRECT("'"&L58&"'!A"&M58+1)} -> 0 | S58: {=INDIRECT("'"&L58&"'!"&IF(L58="Squad Entries","C","B")&M58+1)} -> 0 | T58: =IF(S58=0,"",IF(COUNTIF($N$1:S58,"="&S58)>1,"",S58)) | U58: {=IFERROR(INDEX($T$2:$T$200,SMALL(IF($T$2:$T$200<>"",ROW($T$2:$T$200)-ROW($A$2)+1),ROWS($A$1:$A57))),"")} | V58: =IF(U58="","",1) | W58: {=IF(U58<>"",SUMPRODUCT((U58>=$U$2:$U$199)+0)+1,"")}
C59: {=IFERROR(INDEX($O$2:$O$193,SMALL(IF($O$2:$O$193<>"",ROW($O$2:$O$193)-ROW($A$2)+1),ROWS($A$1:$A9))),"")} | D59: =IF(C59="","",SUMIF(N:N,"="&C59,Q:Q)) | L59: =IF(ROW(A58)<=50,"Individual",IF(ROW(A58)<=100,"Pas De Deux","Squad"))&" Entries" -> Pas De Deux Entries | M59: =IF(L58<>L59,1,M58+1) -> 5 | N59: {=INDIRECT("'"&L59&"'!F"&M59+1)} -> 0 | O59: =IF(N59=0,"",IF(COUNTIF($N$1:N59,"="&N59)>1,"",N59)) | P59: {=IFERROR(INDEX($O$2:$O$200,SMALL(IF($O$2:$O$200<>"",ROW($O$2:$O$200)-ROW($A$2)+1),ROWS($A$1:$A58))),"")} | Q59: =IFERROR(INDEX('BEV Entry Fees - 2025'!$D$3:$D$37,MATCH('Pas De Deux Entries'!A11,'BEV Entry Fees - 2025'!$C$3:$C$37,0)),0) -> 0 | R59: {=INDIRECT("'"&L59&"'!A"&M59+1)} -> 0 | S59: {=INDIRECT("'"&L59&"'!"&IF(L59="Squad Entries","C","B")&M59+1)} -> 0 | T59: =IF(S59=0,"",IF(COUNTIF($N$1:S59,"="&S59)>1,"",S59)) | U59: {=IFERROR(INDEX($T$2:$T$200,SMALL(IF($T$2:$T$200<>"",ROW($T$2:$T$200)-ROW($A$2)+1),ROWS($A$1:$A58))),"")} | V59: =IF(U59="","",1) | W59: {=IF(U59<>"",SUMPRODUCT((U59>=$U$2:$U$199)+0)+1,"")}
C60: {=IFERROR(INDEX($O$2:$O$193,SMALL(IF($O$2:$O$193<>"",ROW($O$2:$O$193)-ROW($A$2)+1),ROWS($A$1:$A10))),"")} | D60: =IF(C60="","",SUMIF(N:N,"="&C60,Q:Q)) | L60: =IF(ROW(A59)<=50,"Individual",IF(ROW(A59)<=100,"Pas De Deux","Squad"))&" Entries" -> Pas De Deux Entries | M60: =IF(L59<>L60,1,M59+1) -> 6 | N60: {=INDIRECT("'"&L60&"'!F"&M60+1)} -> 0 | O60: =IF(N60=0,"",IF(COUNTIF($N$1:N60,"="&N60)>1,"",N60)) | P60: {=IFERROR(INDEX($O$2:$O$200,SMALL(IF($O$2:$O$200<>"",ROW($O$2:$O$200)-ROW($A$2)+1),ROWS($A$1:$A59))),"")} | Q60: =IFERROR(INDEX('BEV Entry Fees - 2025'!$D$3:$D$37,MATCH('Pas De Deux Entries'!A12,'BEV Entry Fees - 2025'!$C$3:$C$37,0)),0) -> 0 | R60: {=INDIRECT("'"&L60&"'!A"&M60+1)} -> 0 | S60: {=INDIRECT("'"&L60&"'!"&IF(L60="Squad Entries","C","B")&M60+1)} -> 0 | T60: =IF(S60=0,"",IF(COUNTIF($N$1:S60,"="&S60)>1,"",S60)) | U60: {=IFERROR(INDEX($T$2:$T$200,SMALL(IF($T$2:$T$200<>"",ROW($T$2:$T$200)-ROW($A$2)+1),ROWS($A$1:$A59))),"")} | V60: =IF(U60="","",1) | W60: {=IF(U60<>"",SUMPRODUCT((U60>=$U$2:$U$199)+0)+1,"")}
C61: {=IFERROR(INDEX($O$2:$O$193,SMALL(IF($O$2:$O$193<>"",ROW($O$2:$O$193)-ROW($A$2)+1),ROWS($A$1:$A11))),"")} | D61: =IF(C61="","",SUMIF(N:N,"="&C61,Q:Q)) | L61: =IF(ROW(A60)<=50,"Individual",IF(ROW(A60)<=100,"Pas De Deux","Squad"))&" Entries" -> Pas De Deux Entries | M61: =IF(L60<>L61,1,M60+1) -> 7 | N61: {=INDIRECT("'"&L61&"'!F"&M61+1)} -> 0 | O61: =IF(N61=0,"",IF(COUNTIF($N$1:N61,"="&N61)>1,"",N61)) | P61: {=IFERROR(INDEX($O$2:$O$200,SMALL(IF($O$2:$O$200<>"",ROW($O$2:$O$200)-ROW($A$2)+1),ROWS($A$1:$A60))),"")} | Q61: =IFERROR(INDEX('BEV Entry Fees - 2025'!$D$3:$D$37,MATCH('Pas De Deux Entries'!A13,'BEV Entry Fees - 2025'!$C$3:$C$37,0)),0) -> 0 | R61: {=INDIRECT("'"&L61&"'!A"&M61+1)} -> 0 | S61: {=INDIRECT("'"&L61&"'!"&IF(L61="Squad Entries","C","B")&M61+1)} -> 0 | T61: =IF(S61=0,"",IF(COUNTIF($N$1:S61,"="&S61)>1,"",S61)) | V61: =IF(U61="","",1) | W61: {=IF(U61<>"",SUMPRODUCT((U61>=$U$2:$U$199)+0)+1,"")}
B62: This table should only be used as a guide, Clubs should calculate this manually. | L62: =IF(ROW(A61)<=50,"Individual",IF(ROW(A61)<=100,"Pas De Deux","Squad"))&" Entries" -> Pas De Deux Entries | M62: =IF(L61<>L62,1,M61+1) -> 8 | N62: {=INDIRECT("'"&L62&"'!F"&M62+1)} -> 0 | O62: =IF(N62=0,"",IF(COUNTIF($N$1:N62,"="&N62)>1,"",N62)) | P62: {=IFERROR(INDEX($O$2:$O$200,SMALL(IF($O$2:$O$200<>"",ROW($O$2:$O$200)-ROW($A$2)+1),ROWS($A$1:$A61))),"")} | Q62: =IFERROR(INDEX('BEV Entry Fees - 2025'!$D$3:$D$37,MATCH('Pas De Deux Entries'!A14,'BEV Entry Fees - 2025'!$C$3:$C$37,0)),0) -> 0 | R62: {=INDIRECT("'"&L62&"'!A"&M62+1)} -> 0 | S62: {=INDIRECT("'"&L62&"'!"&IF(L62="Squad Entries","C","B")&M62+1)} -> 0 | T62: =IF(S62=0,"",IF(COUNTIF($N$1:S62,"="&S62)>1,"",S62)) | V62: =IF(U62="","",1) | W62: {=IF(U62<>"",SUMPRODUCT((U62>=$U$2:$U$199)+0)+1,"")}
L63: =IF(ROW(A62)<=50,"Individual",IF(ROW(A62)<=100,"Pas De Deux","Squad"))&" Entries" -> Pas De Deux Entries | M63: =IF(L62<>L63,1,M62+1) -> 9 | N63: {=INDIRECT("'"&L63&"'!F"&M63+1)} -> 0 | O63: =IF(N63=0,"",IF(COUNTIF($N$1:N63,"="&N63)>1,"",N63)) | P63: {=IFERROR(INDEX($O$2:$O$200,SMALL(IF($O$2:$O$200<>"",ROW($O$2:$O$200)-ROW($A$2)+1),ROWS($A$1:$A62))),"")} | Q63: =IFERROR(INDEX('BEV Entry Fees - 2025'!$D$3:$D$37,MATCH('Pas De Deux Entries'!A15,'BEV Entry Fees - 2025'!$C$3:$C$37,0)),0) -> 0 | R63: {=INDIRECT("'"&L63&"'!A"&M63+1)} -> 0 | S63: {=INDIRECT("'"&L63&"'!"&IF(L63="Squad Entries","C","B")&M63+1)} -> 0 | T63: =IF(S63=0,"",IF(COUNTIF($N$1:S63,"="&S63)>1,"",S63)) | V63: =IF(U63="","",1) | W63: {=IF(U63<>"",SUMPRODUCT((U63>=$U$2:$U$199)+0)+1,"")}
L64: =IF(ROW(A63)<=50,"Individual",IF(ROW(A63)<=100,"Pas De Deux","Squad"))&" Entries" -> Pas De Deux Entries | M64: =IF(L63<>L64,1,M63+1) -> 10 | N64: {=INDIRECT("'"&L64&"'!F"&M64+1)} -> 0 | O64: =IF(N64=0,"",IF(COUNTIF($N$1:N64,"="&N64)>1,"",N64)) | P64: {=IFERROR(INDEX($O$2:$O$200,SMALL(IF($O$2:$O$200<>"",ROW($O$2:$O$200)-ROW($A$2)+1),ROWS($A$1:$A63))),"")} | Q64: =IFERROR(INDEX('BEV Entry Fees - 2025'!$D$3:$D$37,MATCH('Pas De Deux Entries'!A16,'BEV Entry Fees - 2025'!$C$3:$C$37,0)),0) -> 0 | R64: {=INDIRECT("'"&L64&"'!A"&M64+1)} -> 0 | S64: {=INDIRECT("'"&L64&"'!"&IF(L64="Squad Entries","C","B")&M64+1)} -> 0 | T64: =IF(S64=0,"",IF(COUNTIF($N$1:S64,"="&S64)>1,"",S64)) | V64: =IF(U64="","",1) | W64: {=IF(U64<>"",SUMPRODUCT((U64>=$U$2:$U$199)+0)+1,"")}
L65: =IF(ROW(A64)<=50,"Individual",IF(ROW(A64)<=100,"Pas De Deux","Squad"))&" Entries" -> Pas De Deux Entries | M65: =IF(L64<>L65,1,M64+1) -> 11 | N65: {=INDIRECT("'"&L65&"'!F"&M65+1)} -> 0 | O65: =IF(N65=0,"",IF(COUNTIF($N$1:N65,"="&N65)>1,"",N65)) | P65: {=IFERROR(INDEX($O$2:$O$200,SMALL(IF($O$2:$O$200<>"",ROW($O$2:$O$200)-ROW($A$2)+1),ROWS($A$1:$A64))),"")} | Q65: =IFERROR(INDEX('BEV Entry Fees - 2025'!$D$3:$D$37,MATCH('Pas De Deux Entries'!A17,'BEV Entry Fees - 2025'!$C$3:$C$37,0)),0) -> 0 | R65: {=INDIRECT("'"&L65&"'!A"&M65+1)} -> 0 | S65: {=INDIRECT("'"&L65&"'!"&IF(L65="Squad Entries","C","B")&M65+1)} -> 0 | T65: =IF(S65=0,"",IF(COUNTIF($N$1:S65,"="&S65)>1,"",S65)) | V65: =IF(U65="","",1) | W65: {=IF(U65<>"",SUMPRODUCT((U65>=$U$2:$U$199)+0)+1,"")}
L66: =IF(ROW(A65)<=50,"Individual",IF(ROW(A65)<=100,"Pas De Deux","Squad"))&" Entries" -> Pas De Deux Entries | M66: =IF(L65<>L66,1,M65+1) -> 12 | N66: {=INDIRECT("'"&L66&"'!F"&M66+1)} -> 0 | O66: =IF(N66=0,"",IF(COUNTIF($N$1:N66,"="&N66)>1,"",N66)) | P66: {=IFERROR(INDEX($O$2:$O$200,SMALL(IF($O$2:$O$200<>"",ROW($O$2:$O$200)-ROW($A$2)+1),ROWS($A$1:$A65))),"")} | Q66: =IFERROR(INDEX('BEV Entry Fees - 2025'!$D$3:$D$37,MATCH('Pas De Deux Entries'!A18,'BEV Entry Fees - 2025'!$C$3:$C$37,0)),0) -> 0 | R66: {=INDIRECT("'"&L66&"'!A"&M66+1)} -> 0 | S66: {=INDIRECT("'"&L66&"'!"&IF(L66="Squad Entries","C","B")&M66+1)} -> 0 | T66: =IF(S66=0,"",IF(COUNTIF($N$1:S66,"="&S66)>1,"",S66)) | V66: =IF(U66="","",1) | W66: {=IF(U66<>"",SUMPRODUCT((U66>=$U$2:$U$199)+0)+1,"")}
L67: =IF(ROW(A66)<=50,"Individual",IF(ROW(A66)<=100,"Pas De Deux","Squad"))&" Entries" -> Pas De Deux Entries | M67: =IF(L66<>L67,1,M66+1) -> 13 | N67: {=INDIRECT("'"&L67&"'!F"&M67+1)} -> 0 | O67: =IF(N67=0,"",IF(COUNTIF($N$1:N67,"="&N67)>1,"",N67)) | P67: {=IFERROR(INDEX($O$2:$O$200,SMALL(IF($O$2:$O$200<>"",ROW($O$2:$O$200)-ROW($A$2)+1),ROWS($A$1:$A66))),"")} | Q67: =IFERROR(INDEX('BEV Entry Fees - 2025'!$D$3:$D$37,MATCH('Pas De Deux Entries'!A19,'BEV Entry Fees - 2025'!$C$3:$C$37,0)),0) -> 0 | R67: {=INDIRECT("'"&L67&"'!A"&M67+1)} -> 0 | S67: {=INDIRECT("'"&L67&"'!"&IF(L67="Squad Entries","C","B")&M67+1)} -> 0 | T67: =IF(S67=0,"",IF(COUNTIF($N$1:S67,"="&S67)>1,"",S67)) | V67: =IF(U67="","",1) | W67: {=IF(U67<>"",SUMPRODUCT((U67>=$U$2:$U$199)+0)+1,"")}
L68: =IF(ROW(A67)<=50,"Individual",IF(ROW(A67)<=100,"Pas De Deux","Squad"))&" Entries" -> Pas De Deux Entries | M68: =IF(L67<>L68,1,M67+1) -> 14 | N68: {=INDIRECT("'"&L68&"'!F"&M68+1)} -> 0 | O68: =IF(N68=0,"",IF(COUNTIF($N$1:N68,"="&N68)>1,"",N68)) | P68: {=IFERROR(INDEX($O$2:$O$200,SMALL(IF($O$2:$O$200<>"",ROW($O$2:$O$200)-ROW($A$2)+1),ROWS($A$1:$A67))),"")} | Q68: =IFERROR(INDEX('BEV Entry Fees - 2025'!$D$3:$D$37,MATCH('Pas De Deux Entries'!A20,'BEV Entry Fees - 2025'!$C$3:$C$37,0)),0) -> 0 | R68: {=INDIRECT("'"&L68&"'!A"&M68+1)} -> 0 | S68: {=INDIRECT("'"&L68&"'!"&IF(L68="Squad Entries","C","B")&M68+1)} -> 0 | T68: =IF(S68=0,"",IF(COUNTIF($N$1:S68,"="&S68)>1,"",S68)) | V68: =IF(U68="","",1) | W68: {=IF(U68<>"",SUMPRODUCT((U68>=$U$2:$U$199)+0)+1,"")}
L69: =IF(ROW(A68)<=50,"Individual",IF(ROW(A68)<=100,"Pas De Deux","Squad"))&" Entries" -> Pas De Deux Entries | M69: =IF(L68<>L69,1,M68+1) -> 15 | N69: {=INDIRECT("'"&L69&"'!F"&M69+1)} -> 0 | O69: =IF(N69=0,"",IF(COUNTIF($N$1:N69,"="&N69)>1,"",N69)) | P69: {=IFERROR(INDEX($O$2:$O$200,SMALL(IF($O$2:$O$200<>"",ROW($O$2:$O$200)-ROW($A$2)+1),ROWS($A$1:$A68))),"")} | Q69: =IFERROR(INDEX('BEV Entry Fees - 2025'!$D$3:$D$37,MATCH('Pas De Deux Entries'!A21,'BEV Entry Fees - 2025'!$C$3:$C$37,0)),0) -> 0 | R69: {=INDIRECT("'"&L69&"'!A"&M69+1)} -> 0 | S69: {=INDIRECT("'"&L69&"'!"&IF(L69="Squad Entries","C","B")&M69+1)} -> 0 | T69: =IF(S69=0,"",IF(COUNTIF($N$1:S69,"="&S69)>1,"",S69)) | V69: =IF(U69="","",1) | W69: {=IF(U69<>"",SUMPRODUCT((U69>=$U$2:$U$199)+0)+1,"")}
L70: =IF(ROW(A69)<=50,"Individual",IF(ROW(A69)<=100,"Pas De Deux","Squad"))&" Entries" -> Pas De Deux Entries | M70: =IF(L69<>L70,1,M69+1) -> 16 | N70: {=INDIRECT("'"&L70&"'!F"&M70+1)} -> 0 | O70: =IF(N70=0,"",IF(COUNTIF($N$1:N70,"="&N70)>1,"",N70)) | P70: {=IFERROR(INDEX($O$2:$O$200,SMALL(IF($O$2:$O$200<>"",ROW($O$2:$O$200)-ROW($A$2)+1),ROWS($A$1:$A69))),"")} | Q70: =IFERROR(INDEX('BEV Entry Fees - 2025'!$D$3:$D$37,MATCH('Pas De Deux Entries'!A22,'BEV Entry Fees - 2025'!$C$3:$C$37,0)),0) -> 0 | R70: {=INDIRECT("'"&L70&"'!A"&M70+1)} -> 0 | S70: {=INDIRECT("'"&L70&"'!"&IF(L70="Squad Entries","C","B")&M70+1)} -> 0 | T70: =IF(S70=0,"",IF(COUNTIF($N$1:S70,"="&S70)>1,"",S70)) | V70: =IF(U70="","",1) | W70: {=IF(U70<>"",SUMPRODUCT((U70>=$U$2:$U$199)+0)+1,"")}
L71: =IF(ROW(A70)<=50,"Individual",IF(ROW(A70)<=100,"Pas De Deux","Squad"))&" Entries" -> Pas De Deux Entries | M71: =IF(L70<>L71,1,M70+1) -> 17 | N71: {=INDIRECT("'"&L71&"'!F"&M71+1)} -> 0 | O71: =IF(N71=0,"",IF(COUNTIF($N$1:N71,"="&N71)>1,"",N71)) | P71: {=IFERROR(INDEX($O$2:$O$200,SMALL(IF($O$2:$O$200<>"",ROW($O$2:$O$200)-ROW($A$2)+1),ROWS($A$1:$A70))),"")} | Q71: =IFERROR(INDEX('BEV Entry Fees - 2025'!$D$3:$D$37,MATCH('Pas De Deux Entries'!A23,'BEV Entry Fees - 2025'!$C$3:$C$37,0)),0) -> 0 | R71: {=INDIRECT("'"&L71&"'!A"&M71+1)} -> 0 | S71: {=INDIRECT("'"&L71&"'!"&IF(L71="Squad Entries","C","B")&M71+1)} -> 0 | T71: =IF(S71=0,"",IF(COUNTIF($N$1:S71,"="&S71)>1,"",S71)) | V71: =IF(U71="","",1) | W71: {=IF(U71<>"",SUMPRODUCT((U71>=$U$2:$U$199)+0)+1,"")}
L72: =IF(ROW(A71)<=50,"Individual",IF(ROW(A71)<=100,"Pas De Deux","Squad"))&" Entries" -> Pas De Deux Entries | M72: =IF(L71<>L72,1,M71+1) -> 18 | N72: {=INDIRECT("'"&L72&"'!F"&M72+1)} -> 0 | O72: =IF(N72=0,"",IF(COUNTIF($N$1:N72,"="&N72)>1,"",N72)) | P72: {=IFERROR(INDEX($O$2:$O$200,SMALL(IF($O$2:$O$200<>"",ROW($O$2:$O$200)-ROW($A$2)+1),ROWS($A$1:$A71))),"")} | Q72: =IFERROR(INDEX('BEV Entry Fees - 2025'!$D$3:$D$37,MATCH('Pas De Deux Entries'!A24,'BEV Entry Fees - 2025'!$C$3:$C$37,0)),0) -> 0 | R72: {=INDIRECT("'"&L72&"'!A"&M72+1)} -> 0 | S72: {=INDIRECT("'"&L72&"'!"&IF(L72="Squad Entries","C","B")&M72+1)} -> 0 | T72: =IF(S72=0,"",IF(COUNTIF($N$1:S72,"="&S72)>1,"",S72)) | V72: =IF(U72="","",1) | W72: {=IF(U72<>"",SUMPRODUCT((U72>=$U$2:$U$199)+0)+1,"")}
L73: =IF(ROW(A72)<=50,"Individual",IF(ROW(A72)<=100,"Pas De Deux","Squad"))&" Entries" -> Pas De Deux Entries | M73: =IF(L72<>L73,1,M72+1) -> 19 | N73: {=INDIRECT("'"&L73&"'!F"&M73+1)} -> 0 | O73: =IF(N73=0,"",IF(COUNTIF($N$1:N73,"="&N73)>1,"",N73)) | P73: {=IFERROR(INDEX($O$2:$O$200,SMALL(IF($O$2:$O$200<>"",ROW($O$2:$O$200)-ROW($A$2)+1),ROWS($A$1:$A72))),"")} | Q73: =IFERROR(INDEX('BEV Entry Fees - 2025'!$D$3:$D$37,MATCH('Pas De Deux Entries'!A25,'BEV Entry Fees - 2025'!$C$3:$C$37,0)),0) -> 0 | R73: {=INDIRECT("'"&L73&"'!A"&M73+1)} -> 0 | S73: {=INDIRECT("'"&L73&"'!"&IF(L73="Squad Entries","C","B")&M73+1)} -> 0 | T73: =IF(S73=0,"",IF(COUNTIF($N$1:S73,"="&S73)>1,"",S73)) | V73: =IF(U73="","",1) | W73: {=IF(U73<>"",SUMPRODUCT((U73>=$U$2:$U$199)+0)+1,"")}
L74: =IF(ROW(A73)<=50,"Individual",IF(ROW(A73)<=100,"Pas De Deux","Squad"))&" Entries" -> Pas De Deux Entries | M74: =IF(L73<>L74,1,M73+1) -> 20 | N74: {=INDIRECT("'"&L74&"'!F"&M74+1)} -> 0 | O74: =IF(N74=0,"",IF(COUNTIF($N$1:N74,"="&N74)>1,"",N74)) | P74: {=IFERROR(INDEX($O$2:$O$200,SMALL(IF($O$2:$O$200<>"",ROW($O$2:$O$200)-ROW($A$2)+1),ROWS($A$1:$A73))),"")} | Q74: =IFERROR(INDEX('BEV Entry Fees - 2025'!$D$3:$D$37,MATCH('Pas De Deux Entries'!A26,'BEV Entry Fees - 2025'!$C$3:$C$37,0)),0) -> 0 | R74: {=INDIRECT("'"&L74&"'!A"&M74+1)} -> 0 | S74: {=INDIRECT("'"&L74&"'!"&IF(L74="Squad Entries","C","B")&M74+1)} -> 0 | T74: =IF(S74=0,"",IF(COUNTIF($N$1:S74,"="&S74)>1,"",S74)) | V74: =IF(U74="","",1) | W74: {=IF(U74<>"",SUMPRODUCT((U74>=$U$2:$U$199)+0)+1,"")}
... L98: =IF(ROW(A97)<=50,"Individual",IF(ROW(A97)<=100,"Pas De Deux","Squad"))&" Entries" -> Pas De Deux Entries | M98: =IF(L97<>L98,1,M97+1) -> 44 | N98: {=INDIRECT("'"&L98&"'!F"&M98+1)} -> 0 | O98: =IF(N98=0,"",IF(COUNTIF($N$1:N98,"="&N98)>1,"",N98)) | P98: {=IFERROR(INDEX($O$2:$O$200,SMALL(IF($O$2:$O$200<>"",ROW($O$2:$O$200)-ROW($A$2)+1),ROWS($A$1:$A97))),"")} | Q98: =IFERROR(INDEX('BEV Entry Fees - 2025'!$D$3:$D$37,MATCH('Pas De Deux Entries'!A50,'BEV Entry Fees - 2025'!$C$3:$C$37,0)),0) -> 0 | R98: {=INDIRECT("'"&L98&"'!A"&M98+1)} -> 0 | S98: {=INDIRECT("'"&L98&"'!"&IF(L98="Squad Entries","C","B")&M98+1)} -> 0 | T98: =IF(S98=0,"",IF(COUNTIF($N$1:S98,"="&S98)>1,"",S98)) | V98: =IF(U98="","",1) | W98: {=IF(U98<>"",SUMPRODUCT((U98>=$U$2:$U$199)+0)+1,"")}
L99: =IF(ROW(A98)<=50,"Individual",IF(ROW(A98)<=100,"Pas De Deux","Squad"))&" Entries" -> Pas De Deux Entries | M99: =IF(L98<>L99,1,M98+1) -> 45 | N99: {=INDIRECT("'"&L99&"'!F"&M99+1)} -> 0 | O99: =IF(N99=0,"",IF(COUNTIF($N$1:N99,"="&N99)>1,"",N99)) | P99: {=IFERROR(INDEX($O$2:$O$200,SMALL(IF($O$2:$O$200<>"",ROW($O$2:$O$200)-ROW($A$2)+1),ROWS($A$1:$A98))),"")} | Q99: =IFERROR(INDEX('BEV Entry Fees - 2025'!$D$3:$D$37,MATCH('Trio Entries'!A2,'BEV Entry Fees - 2025'!$C$3:$C$37,0)),0) -> 0 | R99: {=INDIRECT("'"&L99&"'!A"&M99+1)} -> 0 | S99: {=INDIRECT("'"&L99&"'!"&IF(L99="Squad Entries","C","B")&M99+1)} -> 0 | T99: =IF(S99=0,"",IF(COUNTIF($N$1:S99,"="&S99)>1,"",S99)) | V99: =IF(U99="","",1) | W99: {=IF(U99<>"",SUMPRODUCT((U99>=$U$2:$U$199)+0)+1,"")}
L100: =IF(ROW(A99)<=50,"Individual",IF(ROW(A99)<=100,"Pas De Deux","Squad"))&" Entries" -> Pas De Deux Entries | M100: =IF(L99<>L100,1,M99+1) -> 46 | N100: {=INDIRECT("'"&L100&"'!F"&M100+1)} -> 0 | O100: =IF(N100=0,"",IF(COUNTIF($N$1:N100,"="&N100)>1,"",N100)) | P100: {=IFERROR(INDEX($O$2:$O$200,SMALL(IF($O$2:$O$200<>"",ROW($O$2:$O$200)-ROW($A$2)+1),ROWS($A$1:$A99))),"")} | Q100: =IFERROR(INDEX('BEV Entry Fees - 2025'!$D$3:$D$37,MATCH('Trio Entries'!A3,'BEV Entry Fees - 2025'!$C$3:$C$37,0)),0) -> 0 | R100: {=INDIRECT("'"&L100&"'!A"&M100+1)} -> 0 | S100: {=INDIRECT("'"&L100&"'!"&IF(L100="Squad Entries","C","B")&M100+1)} -> 0 | T100: =IF(S100=0,"",IF(COUNTIF($N$1:S100,"="&S100)>1,"",S100)) | V100: =IF(U100="","",1) | W100: {=IF(U100<>"",SUMPRODUCT((U100>=$U$2:$U$199)+0)+1,"")}
L101: =IF(ROW(A100)<=50,"Individual",IF(ROW(A100)<=100,"Pas De Deux","Squad"))&" Entries" -> Pas De Deux Entries | M101: =IF(L100<>L101,1,M100+1) -> 47 | N101: {=INDIRECT("'"&L101&"'!F"&M101+1)} -> 0 | O101: =IF(N101=0,"",IF(COUNTIF($N$1:N101,"="&N101)>1,"",N101)) | P101: {=IFERROR(INDEX($O$2:$O$200,SMALL(IF($O$2:$O$200<>"",ROW($O$2:$O$200)-ROW($A$2)+1),ROWS($A$1:$A100))),"")} | Q101: =IFERROR(INDEX('BEV Entry Fees - 2025'!$D$3:$D$37,MATCH('Trio Entries'!A4,'BEV Entry Fees - 2025'!$C$3:$C$37,0)),0) -> 0 | R101: {=INDIRECT("'"&L101&"'!A"&M101+1)} -> 0 | S101: {=INDIRECT("'"&L101&"'!"&IF(L101="Squad Entries","C","B")&M101+1)} -> 0 | T101: =IF(S101=0,"",IF(COUNTIF($N$1:S101,"="&S101)>1,"",S101)) | V101: =IF(U101="","",1) | W101: {=IF(U101<>"",SUMPRODUCT((U101>=$U$2:$U$199)+0)+1,"")}
L102: =IF(ROW(A101)<=50,"Individual",IF(ROW(A101)<=100,"Pas De Deux","Squad"))&" Entries" -> Squad Entries | M102: =IF(L101<>L102,1,M101+1) -> 1 | N102: {=INDIRECT("'"&L102&"'!F"&M102+1)} -> 0 | O102: =IF(N102=0,"",IF(COUNTIF($N$1:N102,"="&N102)>1,"",N102)) | P102: {=IFERROR(INDEX($O$2:$O$200,SMALL(IF($O$2:$O$200<>"",ROW($O$2:$O$200)-ROW($A$2)+1),ROWS($A$1:$A101))),"")} | Q102: =IFERROR(INDEX('BEV Entry Fees - 2025'!$D$3:$D$37,MATCH('Trio Entries'!A5,'BEV Entry Fees - 2025'!$C$3:$C$37,0)),0) -> 0 | R102: {=INDIRECT("'"&L102&"'!A"&M102+1)} -> 0 | S102: {=INDIRECT("'"&L102&"'!"&IF(L102="Squad Entries","C","B")&M102+1)} -> 0 | T102: =IF(S102=0,"",IF(COUNTIF($N$1:S102,"="&S102)>1,"",S102)) | V102: =IF(U102="","",1) | W102: {=IF(U102<>"",SUMPRODUCT((U102>=$U$2:$U$199)+0)+1,"")}
L103: =IF(ROW(A102)<=50,"Individual",IF(ROW(A102)<=100,"Pas De Deux","Squad"))&" Entries" -> Squad Entries | M103: =IF(L102<>L103,1,M102+1) -> 2 | N103: {=INDIRECT("'"&L103&"'!F"&M103+1)} -> 0 | O103: =IF(N103=0,"",IF(COUNTIF($N$1:N103,"="&N103)>1,"",N103)) | P103: {=IFERROR(INDEX($O$2:$O$200,SMALL(IF($O$2:$O$200<>"",ROW($O$2:$O$200)-ROW($A$2)+1),ROWS($A$1:$A102))),"")} | Q103: =IFERROR(INDEX('BEV Entry Fees - 2025'!$D$3:$D$37,MATCH('Trio Entries'!A6,'BEV Entry Fees - 2025'!$C$3:$C$37,0)),0) -> 0 | R103: {=INDIRECT("'"&L103&"'!A"&M103+1)} -> 0 | S103: {=INDIRECT("'"&L103&"'!"&IF(L103="Squad Entries","C","B")&M103+1)} -> 0 | T103: =IF(S103=0,"",IF(COUNTIF($N$1:S103,"="&S103)>1,"",S103)) | V103: =IF(U103="","",1) | W103: {=IF(U103<>"",SUMPRODUCT((U103>=$U$2:$U$199)+0)+1,"")}
L104: =IF(ROW(A103)<=50,"Individual",IF(ROW(A103)<=100,"Pas De Deux","Squad"))&" Entries" -> Squad Entries | M104: =IF(L103<>L104,1,M103+1) -> 3 | N104: {=INDIRECT("'"&L104&"'!F"&M104+1)} -> 0 | O104: =IF(N104=0,"",IF(COUNTIF($N$1:N104,"="&N104)>1,"",N104)) | P104: {=IFERROR(INDEX($O$2:$O$200,SMALL(IF($O$2:$O$200<>"",ROW($O$2:$O$200)-ROW($A$2)+1),ROWS($A$1:$A103))),"")} | Q104: =IFERROR(INDEX('BEV Entry Fees - 2025'!$D$3:$D$37,MATCH('Trio Entries'!A7,'BEV Entry Fees - 2025'!$C$3:$C$37,0)),0) -> 0 | R104: {=INDIRECT("'"&L104&"'!A"&M104+1)} -> 0 | S104: {=INDIRECT("'"&L104&"'!"&IF(L104="Squad Entries","C","B")&M104+1)} -> 0 | T104: =IF(S104=0,"",IF(COUNTIF($N$1:S104,"="&S104)>1,"",S104)) | V104: =IF(U104="","",1) | W104: {=IF(U104<>"",SUMPRODUCT((U104>=$U$2:$U$199)+0)+1,"")}
L105: =IF(ROW(A104)<=50,"Individual",IF(ROW(A104)<=100,"Pas De Deux","Squad"))&" Entries" -> Squad Entries | M105: =IF(L104<>L105,1,M104+1) -> 4 | N105: {=INDIRECT("'"&L105&"'!F"&M105+1)} -> 0 | O105: =IF(N105=0,"",IF(COUNTIF($N$1:N105,"="&N105)>1,"",N105)) | P105: {=IFERROR(INDEX($O$2:$O$200,SMALL(IF($O$2:$O$200<>"",ROW($O$2:$O$200)-ROW($A$2)+1),ROWS($A$1:$A104))),"")} | Q105: =IFERROR(INDEX('BEV Entry Fees - 2025'!$D$3:$D$37,MATCH('Trio Entries'!A8,'BEV Entry Fees - 2025'!$C$3:$C$37,0)),0) -> 0 | R105: {=INDIRECT("'"&L105&"'!A"&M105+1)} -> 0 | S105: {=INDIRECT("'"&L105&"'!"&IF(L105="Squad Entries","C","B")&M105+1)} -> 0 | T105: =IF(S105=0,"",IF(COUNTIF($N$1:S105,"="&S105)>1,"",S105)) | V105: =IF(U105="","",1) | W105: {=IF(U105<>"",SUMPRODUCT((U105>=$U$2:$U$199)+0)+1,"")}
L106: =IF(ROW(A105)<=50,"Individual",IF(ROW(A105)<=100,"Pas De Deux","Squad"))&" Entries" -> Squad Entries | M106: =IF(L105<>L106,1,M105+1) -> 5 | N106: {=INDIRECT("'"&L106&"'!F"&M106+1)} -> 0 | O106: =IF(N106=0,"",IF(COUNTIF($N$1:N106,"="&N106)>1,"",N106)) | P106: {=IFERROR(INDEX($O$2:$O$200,SMALL(IF($O$2:$O$200<>"",ROW($O$2:$O$200)-ROW($A$2)+1),ROWS($A$1:$A105))),"")} | Q106: =IFERROR(INDEX('BEV Entry Fees - 2025'!$D$3:$D$37,MATCH('Trio Entries'!A9,'BEV Entry Fees - 2025'!$C$3:$C$37,0)),0) -> 0 | R106: {=INDIRECT("'"&L106&"'!A"&M106+1)} -> 0 | S106: {=INDIRECT("'"&L106&"'!"&IF(L106="Squad Entries","C","B")&M106+1)} -> 0 | T106: =IF(S106=0,"",IF(COUNTIF($N$1:S106,"="&S106)>1,"",S106)) | V106: =IF(U106="","",1) | W106: {=IF(U106<>"",SUMPRODUCT((U106>=$U$2:$U$199)+0)+1,"")}
L107: =IF(ROW(A106)<=50,"Individual",IF(ROW(A106)<=100,"Pas De Deux","Squad"))&" Entries" -> Squad Entries | M107: =IF(L106<>L107,1,M106+1) -> 6 | N107: {=INDIRECT("'"&L107&"'!F"&M107+1)} -> 0 | O107: =IF(N107=0,"",IF(COUNTIF($N$1:N107,"="&N107)>1,"",N107)) | P107: {=IFERROR(INDEX($O$2:$O$200,SMALL(IF($O$2:$O$200<>"",ROW($O$2:$O$200)-ROW($A$2)+1),ROWS($A$1:$A106))),"")} | Q107: =IFERROR(INDEX('BEV Entry Fees - 2025'!$D$3:$D$37,MATCH('Trio Entries'!A10,'BEV Entry Fees - 2025'!$C$3:$C$37,0)),0) -> 0 | R107: {=INDIRECT("'"&L107&"'!A"&M107+1)} -> 0 | S107: {=INDIRECT("'"&L107&"'!"&IF(L107="Squad Entries","C","B")&M107+1)} -> 0 | T107: =IF(S107=0,"",IF(COUNTIF($N$1:S107,"="&S107)>1,"",S107)) | V107: =IF(U107="","",1) | W107: {=IF(U107<>"",SUMPRODUCT((U107>=$U$2:$U$199)+0)+1,"")}
L108: =IF(ROW(A107)<=50,"Individual",IF(ROW(A107)<=100,"Pas De Deux","Squad"))&" Entries" -> Squad Entries | M108: =IF(L107<>L108,1,M107+1) -> 7 | N108: {=INDIRECT("'"&L108&"'!F"&M108+1)} -> 0 | O108: =IF(N108=0,"",IF(COUNTIF($N$1:N108,"="&N108)>1,"",N108)) | P108: {=IFERROR(INDEX($O$2:$O$200,SMALL(IF($O$2:$O$200<>"",ROW($O$2:$O$200)-ROW($A$2)+1),ROWS($A$1:$A107))),"")} | Q108: =IFERROR(INDEX('BEV Entry Fees - 2025'!$D$3:$D$37,MATCH('Trio Entries'!A11,'BEV Entry Fees - 2025'!$C$3:$C$37,0)),0) -> 0 | R108: {=INDIRECT("'"&L108&"'!A"&M108+1)} -> 0 | S108: {=INDIRECT("'"&L108&"'!"&IF(L108="Squad Entries","C","B")&M108+1)} -> 0 | T108: =IF(S108=0,"",IF(COUNTIF($N$1:S108,"="&S108)>1,"",S108)) | V108: =IF(U108="","",1) | W108: {=IF(U108<>"",SUMPRODUCT((U108>=$U$2:$U$199)+0)+1,"")}
L109: =IF(ROW(A108)<=50,"Individual",IF(ROW(A108)<=100,"Pas De Deux","Squad"))&" Entries" -> Squad Entries | M109: =IF(L108<>L109,1,M108+1) -> 8 | N109: {=INDIRECT("'"&L109&"'!F"&M109+1)} -> 0 | O109: =IF(N109=0,"",IF(COUNTIF($N$1:N109,"="&N109)>1,"",N109)) | P109: {=IFERROR(INDEX($O$2:$O$200,SMALL(IF($O$2:$O$200<>"",ROW($O$2:$O$200)-ROW($A$2)+1),ROWS($A$1:$A108))),"")} | Q109: =IFERROR(INDEX('BEV Entry Fees - 2025'!$D$3:$D$37,MATCH('Trio Entries'!A12,'BEV Entry Fees - 2025'!$C$3:$C$37,0)),0) -> 0 | R109: {=INDIRECT("'"&L109&"'!A"&M109+1)} -> 0 | S109: {=INDIRECT("'"&L109&"'!"&IF(L109="Squad Entries","C","B")&M109+1)} -> 0 | T109: =IF(S109=0,"",IF(COUNTIF($N$1:S109,"="&S109)>1,"",S109)) | V109: =IF(U109="","",1) | W109: {=IF(U109<>"",SUMPRODUCT((U109>=$U$2:$U$199)+0)+1,"")}
L110: =IF(ROW(A109)<=50,"Individual",IF(ROW(A109)<=100,"Pas De Deux","Squad"))&" Entries" -> Squad Entries | M110: =IF(L109<>L110,1,M109+1) -> 9 | N110: {=INDIRECT("'"&L110&"'!F"&M110+1)} -> 0 | O110: =IF(N110=0,"",IF(COUNTIF($N$1:N110,"="&N110)>1,"",N110)) | P110: {=IFERROR(INDEX($O$2:$O$200,SMALL(IF($O$2:$O$200<>"",ROW($O$2:$O$200)-ROW($A$2)+1),ROWS($A$1:$A109))),"")} | Q110: =IFERROR(INDEX('BEV Entry Fees - 2025'!$D$3:$D$37,MATCH('Trio Entries'!A13,'BEV Entry Fees - 2025'!$C$3:$C$37,0)),0) -> 0 | R110: {=INDIRECT("'"&L110&"'!A"&M110+1)} -> 0 | S110: {=INDIRECT("'"&L110&"'!"&IF(L110="Squad Entries","C","B")&M110+1)} -> 0 | T110: =IF(S110=0,"",IF(COUNTIF($N$1:S110,"="&S110)>1,"",S110)) | V110: =IF(U110="","",1) | W110: {=IF(U110<>"",SUMPRODUCT((U110>=$U$2:$U$199)+0)+1,"")}
... L147: =IF(ROW(A146)<=50,"Individual",IF(ROW(A146)<=100,"Pas De Deux","Squad"))&" Entries" -> Squad Entries | M147: =IF(L146<>L147,1,M146+1) -> 46 | N147: {=INDIRECT("'"&L147&"'!F"&M147+1)} -> 0 | O147: =IF(N147=0,"",IF(COUNTIF($N$1:N147,"="&N147)>1,"",N147)) | P147: {=IFERROR(INDEX($O$2:$O$200,SMALL(IF($O$2:$O$200<>"",ROW($O$2:$O$200)-ROW($A$2)+1),ROWS($A$1:$A146))),"")} | Q147: =IFERROR(INDEX('BEV Entry Fees - 2025'!$D$3:$D$37,MATCH('Trio Entries'!A50,'BEV Entry Fees - 2025'!$C$3:$C$37,0)),0) -> 0 | R147: {=INDIRECT("'"&L147&"'!A"&M147+1)} -> 0 | S147: {=INDIRECT("'"&L147&"'!"&IF(L147="Squad Entries","C","B")&M147+1)} -> 0 | T147: =IF(S147=0,"",IF(COUNTIF($N$1:S147,"="&S147)>1,"",S147)) | V147: =IF(U147="","",1) | W147: {=IF(U147<>"",SUMPRODUCT((U147>=$U$2:$U$199)+0)+1,"")}
L148: =IF(ROW(A147)<=50,"Individual",IF(ROW(A147)<=100,"Pas De Deux","Squad"))&" Entries" -> Squad Entries | M148: =IF(L147<>L148,1,M147+1) -> 47 | N148: {=INDIRECT("'"&L148&"'!F"&M148+1)} -> 0 | O148: =IF(N148=0,"",IF(COUNTIF($N$1:N148,"="&N148)>1,"",N148)) | P148: {=IFERROR(INDEX($O$2:$O$200,SMALL(IF($O$2:$O$200<>"",ROW($O$2:$O$200)-ROW($A$2)+1),ROWS($A$1:$A147))),"")} | Q148: =IFERROR(INDEX('BEV Entry Fees - 2025'!$D$3:$D$37,MATCH('Squad Entries'!A2,'BEV Entry Fees - 2025'!$C$3:$C$37,0)),0) -> 0 | R148: {=INDIRECT("'"&L148&"'!A"&M148+1)} -> 0 | S148: {=INDIRECT("'"&L148&"'!"&IF(L148="Squad Entries","C","B")&M148+1)} -> 0 | T148: =IF(S148=0,"",IF(COUNTIF($N$1:S148,"="&S148)>1,"",S148)) | V148: =IF(U148="","",1) | W148: {=IF(U148<>"",SUMPRODUCT((U148>=$U$2:$U$199)+0)+1,"")}
L149: =IF(ROW(A148)<=50,"Individual",IF(ROW(A148)<=100,"Pas De Deux","Squad"))&" Entries" -> Squad Entries | M149: =IF(L148<>L149,1,M148+1) -> 48 | N149: {=INDIRECT("'"&L149&"'!F"&M149+1)} -> 0 | O149: =IF(N149=0,"",IF(COUNTIF($N$1:N149,"="&N149)>1,"",N149)) | P149: {=IFERROR(INDEX($O$2:$O$200,SMALL(IF($O$2:$O$200<>"",ROW($O$2:$O$200)-ROW($A$2)+1),ROWS($A$1:$A148))),"")} | Q149: =IFERROR(INDEX('BEV Entry Fees - 2025'!$D$3:$D$37,MATCH('Squad Entries'!A3,'BEV Entry Fees - 2025'!$C$3:$C$37,0)),0) -> 0 | R149: {=INDIRECT("'"&L149&"'!A"&M149+1)} -> 0 | S149: {=INDIRECT("'"&L149&"'!"&IF(L149="Squad Entries","C","B")&M149+1)} -> 0 | T149: =IF(S149=0,"",IF(COUNTIF($N$1:S149,"="&S149)>1,"",S149)) | V149: =IF(U149="","",1) | W149: {=IF(U149<>"",SUMPRODUCT((U149>=$U$2:$U$199)+0)+1,"")}
L150: =IF(ROW(A149)<=50,"Individual",IF(ROW(A149)<=100,"Pas De Deux","Squad"))&" Entries" -> Squad Entries | M150: =IF(L149<>L150,1,M149+1) -> 49 | N150: {=INDIRECT("'"&L150&"'!F"&M150+1)} -> 0 | O150: =IF(N150=0,"",IF(COUNTIF($N$1:N150,"="&N150)>1,"",N150)) | P150: {=IFERROR(INDEX($O$2:$O$200,SMALL(IF($O$2:$O$200<>"",ROW($O$2:$O$200)-ROW($A$2)+1),ROWS($A$1:$A149))),"")} | Q150: =IFERROR(INDEX('BEV Entry Fees - 2025'!$D$3:$D$37,MATCH('Squad Entries'!A4,'BEV Entry Fees - 2025'!$C$3:$C$37,0)),0) -> 0 | R150: {=INDIRECT("'"&L150&"'!A"&M150+1)} -> 0 | S150: {=INDIRECT("'"&L150&"'!"&IF(L150="Squad Entries","C","B")&M150+1)} -> 0 | T150: =IF(S150=0,"",IF(COUNTIF($N$1:S150,"="&S150)>1,"",S150)) | V150: =IF(U150="","",1) | W150: {=IF(U150<>"",SUMPRODUCT((U150>=$U$2:$U$199)+0)+1,"")}
L151: =IF(ROW(A150)<=50,"Individual",IF(ROW(A150)<=100,"Pas De Deux","Squad"))&" Entries" -> Squad Entries | M151: =IF(L150<>L151,1,M150+1) -> 50 | N151: {=INDIRECT("'"&L151&"'!F"&M151+1)} -> 0 | O151: =IF(N151=0,"",IF(COUNTIF($N$1:N151,"="&N151)>1,"",N151)) | P151: {=IFERROR(INDEX($O$2:$O$200,SMALL(IF($O$2:$O$200<>"",ROW($O$2:$O$200)-ROW($A$2)+1),ROWS($A$1:$A150))),"")} | Q151: =IFERROR(INDEX('BEV Entry Fees - 2025'!$D$3:$D$37,MATCH('Squad Entries'!A5,'BEV Entry Fees - 2025'!$C$3:$C$37,0)),0) -> 0 | R151: {=INDIRECT("'"&L151&"'!A"&M151+1)} -> 0 | S151: {=INDIRECT("'"&L151&"'!"&IF(L151="Squad Entries","C","B")&M151+1)} -> 0 | T151: =IF(S151=0,"",IF(COUNTIF($N$1:S151,"="&S151)>1,"",S151)) | V151: =IF(U151="","",1) | W151: {=IF(U151<>"",SUMPRODUCT((U151>=$U$2:$U$199)+0)+1,"")}
L152: =IF(ROW(A151)<=50,"Individual",IF(ROW(A151)<=100,"Pas De Deux","Squad"))&" Entries" -> Squad Entries | M152: =IF(L151<>L152,1,M151+1) -> 51 | N152: {=INDIRECT("'"&L152&"'!F"&M152+1)} -> 0 | O152: =IF(N152=0,"",IF(COUNTIF($N$1:N152,"="&N152)>1,"",N152)) | P152: {=IFERROR(INDEX($O$2:$O$200,SMALL(IF($O$2:$O$200<>"",ROW($O$2:$O$200)-ROW($A$2)+1),ROWS($A$1:$A151))),"")} | Q152: =IFERROR(INDEX('BEV Entry Fees - 2025'!$D$3:$D$37,MATCH('Squad Entries'!A6,'BEV Entry Fees - 2025'!$C$3:$C$37,0)),0) -> 0 | R152: {=INDIRECT("'"&L152&"'!A"&M152+1)} -> 0 | S152: {=INDIRECT("'"&L152&"'!"&IF(L152="Squad Entries","C","B")&M152+1)} -> 0 | T152: =IF(S152=0,"",IF(COUNTIF($N$1:S152,"="&S152)>1,"",S152)) | V152: =IF(U152="","",1) | W152: {=IF(U152<>"",SUMPRODUCT((U152>=$U$2:$U$199)+0)+1,"")}
L153: =IF(ROW(A152)<=50,"Individual",IF(ROW(A152)<=100,"Pas De Deux","Squad"))&" Entries" -> Squad Entries | M153: =IF(L152<>L153,1,M152+1) -> 52 | N153: {=INDIRECT("'"&L153&"'!F"&M153+1)} -> 0 | O153: =IF(N153=0,"",IF(COUNTIF($N$1:N153,"="&N153)>1,"",N153)) | P153: {=IFERROR(INDEX($O$2:$O$200,SMALL(IF($O$2:$O$200<>"",ROW($O$2:$O$200)-ROW($A$2)+1),ROWS($A$1:$A152))),"")} | Q153: =IFERROR(INDEX('BEV Entry Fees - 2025'!$D$3:$D$37,MATCH('Squad Entries'!A7,'BEV Entry Fees - 2025'!$C$3:$C$37,0)),0) -> 0 | R153: {=INDIRECT("'"&L153&"'!A"&M153+1)} -> 0 | S153: {=INDIRECT("'"&L153&"'!"&IF(L153="Squad Entries","C","B")&M153+1)} -> 0 | T153: =IF(S153=0,"",IF(COUNTIF($N$1:S153,"="&S153)>1,"",S153)) | V153: =IF(U153="","",1) | W153: {=IF(U153<>"",SUMPRODUCT((U153>=$U$2:$U$199)+0)+1,"")}
L154: =IF(ROW(A153)<=50,"Individual",IF(ROW(A153)<=100,"Pas De Deux","Squad"))&" Entries" -> Squad Entries | M154: =IF(L153<>L154,1,M153+1) -> 53 | N154: {=INDIRECT("'"&L154&"'!F"&M154+1)} -> 0 | O154: =IF(N154=0,"",IF(COUNTIF($N$1:N154,"="&N154)>1,"",N154)) | P154: {=IFERROR(INDEX($O$2:$O$200,SMALL(IF($O$2:$O$200<>"",ROW($O$2:$O$200)-ROW($A$2)+1),ROWS($A$1:$A153))),"")} | Q154: =IFERROR(INDEX('BEV Entry Fees - 2025'!$D$3:$D$37,MATCH('Squad Entries'!A8,'BEV Entry Fees - 2025'!$C$3:$C$37,0)),0) -> 0 | R154: {=INDIRECT("'"&L154&"'!A"&M154+1)} -> 0 | S154: {=INDIRECT("'"&L154&"'!"&IF(L154="Squad Entries","C","B")&M154+1)} -> 0 | T154: =IF(S154=0,"",IF(COUNTIF($N$1:S154,"="&S154)>1,"",S154)) | V154: =IF(U154="","",1) | W154: {=IF(U154<>"",SUMPRODUCT((U154>=$U$2:$U$199)+0)+1,"")}
L155: =IF(ROW(A154)<=50,"Individual",IF(ROW(A154)<=100,"Pas De Deux","Squad"))&" Entries" -> Squad Entries | M155: =IF(L154<>L155,1,M154+1) -> 54 | N155: {=INDIRECT("'"&L155&"'!F"&M155+1)} -> 0 | O155: =IF(N155=0,"",IF(COUNTIF($N$1:N155,"="&N155)>1,"",N155)) | P155: {=IFERROR(INDEX($O$2:$O$200,SMALL(IF($O$2:$O$200<>"",ROW($O$2:$O$200)-ROW($A$2)+1),ROWS($A$1:$A154))),"")} | Q155: =IFERROR(INDEX('BEV Entry Fees - 2025'!$D$3:$D$37,MATCH('Squad Entries'!A9,'BEV Entry Fees - 2025'!$C$3:$C$37,0)),0) -> 0 | R155: {=INDIRECT("'"&L155&"'!A"&M155+1)} -> 0 | S155: {=INDIRECT("'"&L155&"'!"&IF(L155="Squad Entries","C","B")&M155+1)} -> 0 | T155: =IF(S155=0,"",IF(COUNTIF($N$1:S155,"="&S155)>1,"",S155)) | V155: =IF(U155="","",1) | W155: {=IF(U155<>"",SUMPRODUCT((U155>=$U$2:$U$199)+0)+1,"")}
L156: =IF(ROW(A155)<=50,"Individual",IF(ROW(A155)<=100,"Pas De Deux","Squad"))&" Entries" -> Squad Entries | M156: =IF(L155<>L156,1,M155+1) -> 55 | N156: {=INDIRECT("'"&L156&"'!F"&M156+1)} -> 0 | O156: =IF(N156=0,"",IF(COUNTIF($N$1:N156,"="&N156)>1,"",N156)) | P156: {=IFERROR(INDEX($O$2:$O$200,SMALL(IF($O$2:$O$200<>"",ROW($O$2:$O$200)-ROW($A$2)+1),ROWS($A$1:$A155))),"")} | Q156: =IFERROR(INDEX('BEV Entry Fees - 2025'!$D$3:$D$37,MATCH('Squad Entries'!A10,'BEV Entry Fees - 2025'!$C$3:$C$37,0)),0) -> 0 | R156: {=INDIRECT("'"&L156&"'!A"&M156+1)} -> 0 | S156: {=INDIRECT("'"&L156&"'!"&IF(L156="Squad Entries","C","B")&M156+1)} -> 0 | T156: =IF(S156=0,"",IF(COUNTIF($N$1:S156,"="&S156)>1,"",S156)) | V156: =IF(U156="","",1) | W156: {=IF(U156<>"",SUMPRODUCT((U156>=$U$2:$U$199)+0)+1,"")}
L157: =IF(ROW(A156)<=50,"Individual",IF(ROW(A156)<=100,"Pas De Deux","Squad"))&" Entries" -> Squad Entries | M157: =IF(L156<>L157,1,M156+1) -> 56 | N157: {=INDIRECT("'"&L157&"'!F"&M157+1)} -> 0 | O157: =IF(N157=0,"",IF(COUNTIF($N$1:N157,"="&N157)>1,"",N157)) | P157: {=IFERROR(INDEX($O$2:$O$200,SMALL(IF($O$2:$O$200<>"",ROW($O$2:$O$200)-ROW($A$2)+1),ROWS($A$1:$A156))),"")} | Q157: =IFERROR(INDEX('BEV Entry Fees - 2025'!$D$3:$D$37,MATCH('Squad Entries'!A11,'BEV Entry Fees - 2025'!$C$3:$C$37,0)),0) -> 0 | R157: {=INDIRECT("'"&L157&"'!A"&M157+1)} -> 0 | S157: {=INDIRECT("'"&L157&"'!"&IF(L157="Squad Entries","C","B")&M157+1)} -> 0 | T157: =IF(S157=0,"",IF(COUNTIF($N$1:S157,"="&S157)>1,"",S157)) | V157: =IF(U157="","",1) | W157: {=IF(U157<>"",SUMPRODUCT((U157>=$U$2:$U$199)+0)+1,"")}
L158: =IF(ROW(A157)<=50,"Individual",IF(ROW(A157)<=100,"Pas De Deux","Squad"))&" Entries" -> Squad Entries | M158: =IF(L157<>L158,1,M157+1) -> 57 | N158: {=INDIRECT("'"&L158&"'!F"&M158+1)} -> 0 | O158: =IF(N158=0,"",IF(COUNTIF($N$1:N158,"="&N158)>1,"",N158)) | P158: {=IFERROR(INDEX($O$2:$O$200,SMALL(IF($O$2:$O$200<>"",ROW($O$2:$O$200)-ROW($A$2)+1),ROWS($A$1:$A157))),"")} | Q158: =IFERROR(INDEX('BEV Entry Fees - 2025'!$D$3:$D$37,MATCH('Squad Entries'!A12,'BEV Entry Fees - 2025'!$C$3:$C$37,0)),0) -> 0 | R158: {=INDIRECT("'"&L158&"'!A"&M158+1)} -> 0 | S158: {=INDIRECT("'"&L158&"'!"&IF(L158="Squad Entries","C","B")&M158+1)} -> 0 | T158: =IF(S158=0,"",IF(COUNTIF($N$1:S158,"="&S158)>1,"",S158)) | V158: =IF(U158="","",1) | W158: {=IF(U158<>"",SUMPRODUCT((U158>=$U$2:$U$199)+0)+1,"")}
L159: =IF(ROW(A158)<=50,"Individual",IF(ROW(A158)<=100,"Pas De Deux","Squad"))&" Entries" -> Squad Entries | M159: =IF(L158<>L159,1,M158+1) -> 58 | N159: {=INDIRECT("'"&L159&"'!F"&M159+1)} -> 0 | O159: =IF(N159=0,"",IF(COUNTIF($N$1:N159,"="&N159)>1,"",N159)) | P159: {=IFERROR(INDEX($O$2:$O$200,SMALL(IF($O$2:$O$200<>"",ROW($O$2:$O$200)-ROW($A$2)+1),ROWS($A$1:$A158))),"")} | Q159: =IFERROR(INDEX('BEV Entry Fees - 2025'!$D$3:$D$37,MATCH('Squad Entries'!A13,'BEV Entry Fees - 2025'!$C$3:$C$37,0)),0) -> 0 | R159: {=INDIRECT("'"&L159&"'!A"&M159+1)} -> 0 | S159: {=INDIRECT("'"&L159&"'!"&IF(L159="Squad Entries","C","B")&M159+1)} -> 0 | T159: =IF(S159=0,"",IF(COUNTIF($N$1:S159,"="&S159)>1,"",S159)) | V159: =IF(U159="","",1) | W159: {=IF(U159<>"",SUMPRODUCT((U159>=$U$2:$U$199)+0)+1,"")}
... L197: =IF(ROW(A196)<=50,"Individual",IF(ROW(A196)<=100,"Pas De Deux","Squad"))&" Entries" -> Squad Entries | M197: =IF(L196<>L197,1,M196+1) -> 96 | N197: {=INDIRECT("'"&L197&"'!F"&M197+1)} -> 0 | O197: =IF(N197=0,"",IF(COUNTIF($N$1:N197,"="&N197)>1,"",N197)) | P197: {=IFERROR(INDEX($O$2:$O$200,SMALL(IF($O$2:$O$200<>"",ROW($O$2:$O$200)-ROW($A$2)+1),ROWS($A$1:$A196))),"")} | Q197: =IFERROR(INDEX('BEV Entry Fees - 2025'!$D$3:$D$37,MATCH('Squad Entries'!A51,'BEV Entry Fees - 2025'!$C$3:$C$37,0)),0) -> 0 | R197: {=INDIRECT("'"&L197&"'!A"&M197+1)} -> 0 | S197: {=INDIRECT("'"&L197&"'!"&IF(L197="Squad Entries","C","B")&M197+1)} -> 0 | T197: =IF(S197=0,"",IF(COUNTIF($N$1:S197,"="&S197)>1,"",S197)) | V197: =IF(U197="","",1) | W197: {=IF(U197<>"",SUMPRODUCT((U197>=$U$2:$U$199)+0)+1,"")}
L198: =IF(ROW(A197)<=50,"Individual",IF(ROW(A197)<=100,"Pas De Deux","Squad"))&" Entries" -> Squad Entries | M198: =IF(L197<>L198,1,M197+1) -> 97 | P198: {=IFERROR(INDEX($O$2:$O$200,SMALL(IF($O$2:$O$200<>"",ROW($O$2:$O$200)-ROW($A$2)+1),ROWS($A$1:$A197))),"")} | R198: {=INDIRECT("'"&L198&"'!A"&M198+1)} -> 0 | S198: {=INDIRECT("'"&L198&"'!"&IF(L198="Squad Entries","C","B")&M198+1)} -> 0 | T198: =IF(S198=0,"",IF(COUNTIF($N$1:S198,"="&S198)>1,"",S198)) | V198: =IF(U198="","",1) | W198: {=IF(U198<>"",SUMPRODUCT((U198>=$U$2:$U$199)+0)+1,"")}
L199: =IF(ROW(A198)<=50,"Individual",IF(ROW(A198)<=100,"Pas De Deux","Squad"))&" Entries" -> Squad Entries | M199: =IF(L198<>L199,1,M198+1) -> 98 | P199: {=IFERROR(INDEX($O$2:$O$200,SMALL(IF($O$2:$O$200<>"",ROW($O$2:$O$200)-ROW($A$2)+1),ROWS($A$1:$A198))),"")} | R199: {=INDIRECT("'"&L199&"'!A"&M199+1)} -> 0 | S199: {=INDIRECT("'"&L199&"'!"&IF(L199="Squad Entries","C","B")&M199+1)} -> 0 | T199: =IF(S199=0,"",IF(COUNTIF($N$1:S199,"="&S199)>1,"",S199)) | V199: =IF(U199="","",1) | W199: {=IF(U199<>"",SUMPRODUCT((U199>=$U$2:$U$199)+0)+1,"")}
L200: =IF(ROW(A199)<=50,"Individual",IF(ROW(A199)<=100,"Pas De Deux","Squad"))&" Entries" -> Squad Entries | M200: =IF(L199<>L200,1,M199+1) -> 99 | P200: {=IFERROR(INDEX($O$2:$O$200,SMALL(IF($O$2:$O$200<>"",ROW($O$2:$O$200)-ROW($A$2)+1),ROWS($A$1:$A199))),"")} | R200: {=INDIRECT("'"&L200&"'!A"&M200+1)} -> 0 | S200: {=INDIRECT("'"&L200&"'!"&IF(L200="Squad Entries","C","B")&M200+1)} -> 0 | T200: =IF(S200=0,"",IF(COUNTIF($N$1:S200,"="&S200)>1,"",S200)) | V200: =IF(U200="","",1) | W200: {=IF(U200<>"",SUMPRODUCT((U200>=$U$2:$U$199)+0)+1,"")}
L201: =IF(ROW(A200)<=50,"Individual",IF(ROW(A200)<=100,"Pas De Deux","Squad"))&" Entries" -> Squad Entries | M201: =IF(L200<>L201,1,M200+1) -> 100 | P201: {=IFERROR(INDEX($O$2:$O$200,SMALL(IF($O$2:$O$200<>"",ROW($O$2:$O$200)-ROW($A$2)+1),ROWS($A$1:$A200))),"")} | R201: {=INDIRECT("'"&L201&"'!A"&M201+1)} -> 0 | S201: {=INDIRECT("'"&L201&"'!"&IF(L201="Squad Entries","C","B")&M201+1)} -> 0 | T201: =IF(S201=0,"",IF(COUNTIF($N$1:S201,"="&S201)>1,"",S201)) | V201: =IF(U201="","",1) | W201: {=IF(U201<>"",SUMPRODUCT((U201>=$U$2:$U$199)+0)+1,"")}

Sheet BEV Entry Fees - 2025
B2: Class | C2: Description | D2: Horse Points | E2: Entry Fee | G2: All Classes | H2: Ind | I2: PdD | J2: Trio | K2: Squad
B3: 1 | C3: Senior Squad 3* | D3: 4 | E3: 90 | G3: Senior Squad 3* | H3: Senior Individual 3* | I3: Senior 3* Pas de Deux | J3: Walk Trio | K3: Senior Squad 3*
B4: 2 | C4: Senior Squad 2* | D4: 4 | E4: 90 | G4: Senior Squad 2* | H4: Young Vaulter 2* | I4: Junior 2* Pas de Deux | J4: Walk Trio (para) | K4: Senior Squad 2*
B5: 3 | C5: Open Squad 1* | D5: 4 | E5: 90 | G5: Open Squad 1* | H5: Senior Individual 2* | I5: Open 1* Pas de Deux | K5: Open Squad 1*
B6: 4 | C6: Junior Squad 2* | D6: 4 | E6: 90 | G6: Junior Squad 2* | H6: Senior Individual 1* | I6: Walk Pas de Deux (Open) | K6: Junior Squad 2*
B7: 5 | C7: Novice Squad | D7: 4 | E7: 90 | G7: Novice Squad | H7: Junior Individual 2* | I7: Walk Pas de Deux (Grassroots) | K7: Novice Squad
B8: 6 | C8: Senior 3* Pas de Deux | D8: 1 | E8: 44 | G8: Senior 3* Pas de Deux | H8: Junior Individual 1* | I8: Walk Pas de Deux (para) | K8: Foundation Squad (Open)
B9: 7 | C9: Junior 2* Pas de Deux | D9: 1 | E9: 44 | G9: Junior 2* Pas de Deux | H9: Child Individual 2* | K9: Foundation Squad (Grassroots)
B10: 8 | C10: Open 1* Pas de Deux | D10: 1 | E10: 44 | G10: Open 1* Pas de Deux | H10: Child Individual 1* | K10: Walk Squad (Grassroots)
B11: 9 | C11: Senior Individual 3* | D11: 1 | E11: 35 | G11: Senior Individual 3* | H11: Novice Individual | K11: Walk Squad (para)
B12: 10 | C12: Young Vaulter 2* | D12: 1 | E12: 35 | G12: Young Vaulter 2* | H12: Novice Individual (para) | K12: Walk Squad (Open)
B13: 11 | C13: Senior Individual 2* | D13: 1 | E13: 35 | G13: Senior Individual 2* | H13: Pre-Novice Individual | K13: Walk Squad (Grassroots)
B14: 12 | C14: Senior Individual 1* | D14: 1 | E14: 35 | G14: Senior Individual 1* | H14: Pre-Novice Individual (para) | K14: Walk Squad (Para)
B15: 13 | C15: Junior Individual 2* | D15: 1 | E15: 35 | G15: Junior Individual 2* | H15: Intro B W/C Individual
B16: 14 | C16: Junior Individual 1* | D16: 1 | E16: 35 | G16: Junior Individual 1* | H16: Intro B W/C Individual (para)
B17: 15 | C17: Child Individual 2* | D17: 1 | E17: 35 | G17: Child Individual 2* | H17: Foundation B C/W or T/W Individual
B18: 16 | C18: Child Individual 1* | D18: 1 | E18: 35 | G18: Child Individual 1* | H18: Foundation B C/W or T/W Individual (para)
B19: 17 | C19: Novice Individual | D19: 1 | E19: 35 | G19: Novice Individual | H19: Intro A W/W Individual
B20: 17p | C20: Novice Individual (para) | D20: 1 | E20: 35 | G20: Novice Individual (para) | H20: Intro A W/W Individual (para)
B21: 18 | C21: Pre-Novice Individual | D21: 1 | E21: 35 | G21: Pre-Novice Individual | H21: Foundation A W/W Individual
B22: 18p | C22: Pre-Novice Individual (para) | D22: 1 | E22: 35 | G22: Pre-Novice Individual (para) | H22: Foundation A W/W Individual (para)
B23: 19 | C23: Foundation Squad (Open) | D23: 2 | E23: 90 | G23: Foundation Squad (Open)
B24: 19g | C24: Foundation Squad (Grassroots) | D24: 2 | E24: 90 | G24: Foundation Squad (Grassroots)
B25: 20 | C25: Intro B W/C Individual | D25: 0.5 | E25: 20 | G25: Intro B W/C Individual
B26: 20p | C26: =C25&" (para)" -> Intro B W/C Individual (para) | D26: 0.5 | E26: 20 | G26: Intro B W/C Individual (para)
B27: 21 | C27: Foundation B C/W or T/W Individual | D27: 0.5 | E27: 20 | G27: Foundation B C/W or T/W Individual
B28: 21p | C28: =C27&" (para)" -> Foundation B C/W or T/W Individual (para) | D28: 0.5 | E28: 20 | G28: Foundation B C/W or T/W Individual (para)
B29: 22 | C29: Intro A W/W Individual | D29: 0.25 | E29: 20 | G29: Intro A W/W Individual
B30: 22p | C30: =C29&" (para)" -> Intro A W/W Individual (para) | D30: 0.25 | E30: 20 | G30: Intro A W/W Individual (para)
B31: 23 | C31: Foundation A W/W Individual | D31: 0.25 | E31: 20 | G31: Foundation A W/W Individual
B32: 23p | C32: =C31&" (para)" -> Foundation A W/W Individual (para) | D32: 0.25 | E32: 20 | G32: Foundation A W/W Individual (para)
B33: 24o | C33: Walk Pas de Deux (Open) | D33: 0.5 | E33: 24 | G33: Walk Pas de Deux (Open)
B34: 24g | C34: Walk Pas de Deux (Grassroots) | D34: 0.5 | E34: 24 | G34: Walk Pas de Deux (Grassroots)
B35: 24p | C35: Walk Pas de Deux (Para) | D35: 0.5 | E35: 24 | G35: Walk Pas de Deux (Para)
B36: 25o | C36: Walk Squad (Open) | D36: 1 | E36: 60 | G36: Walk Squad (Open)
B37: 25g | C37: Walk Squad (Grassroots) | D37: 1 | E37: 60 | G37: Walk Squad (Grassroots)
B38: 25p | C38: Walk Squad (Para) | D38: 1 | E38: 60 | G38: Walk Squad (Para)
B42: Please refer to BEV rules for full details on the above information including age restrictions

Sheet BEV Entry Summary
A1: Tab | B1: Row | C1: V Name | D1: V Age | E1: V Gender | F1: V # | G1: H Name | H1: H # | I1: L Name | J1: L # | K1: VN Uniq | L1: HN Uniq | M1: LN Uniq | N1: Vaulter Name | O1: Vaulter Age | P1: BEV # | Q1: Horse Name | R1: BEV # | S1: Lunger Name | T1: BEV # | X1: Number | Y1: Tab
A2: =VLOOKUP((ROUNDUP(ROW(A1)/50,0)),$X$1:$Y$6,2,FALSE) -> Individual | B2: =IF(ROW(B1)=1,2,IF(B1=51,2,B1+1)) -> 2 | C2: {=IF($A2="Trio",INDIRECT("'"&$A2&" Entries'!"&SUBSTITUTE(ADDRESS(1,IF(COLUMN(B$1)<5,COLUMN(B$1),COLUMN(B$1)-1),4),"1","")&$B2),IF($A2="Squad",INDIRECT("'"&$A2&" Entries'!"&SUBSTITUTE(ADDRESS(1,IF(COLUMN(C$1)<6,COLUMN(C$1),COLUMN(C$1)-1),4),"1","")&$B2),INDIRECT("'"&$A2&" Entries'!"&SUBSTITUTE(ADDRESS(1,COLUMN(B$1),4),"1","")&$B2)))} -> 0 | D2: {=IF($A2="Trio",INDIRECT("'"&$A2&" Entries'!"&SUBSTITUTE(ADDRESS(1,IF(COLUMN(C$1)<5,COLUMN(C$1),COLUMN(C$1)-1),4),"1","")&$B2),IF($A2="Squad",INDIRECT("'"&$A2&" Entries'!"&SUBSTITUTE(ADDRESS(1,IF(COLUMN(D$1)<6,COLUMN(D$1),COLUMN(D$1)-1),4),"1","")&$B2),INDIRECT("'"&$A2&" Entries'!"&SUBSTITUTE(ADDRESS(1,COLUMN(C$1),4),"1","")&$B2)))} -> 0 | E2: {=IF($A2="Trio",INDIRECT("'"&$A2&" Entries'!"&SUBSTITUTE(ADDRESS(1,IF(COLUMN(D$1)<5,COLUMN(D$1),COLUMN(D$1)-1),4),"1","")&$B2),IF($A2="Squad",INDIRECT("'"&$A2&" Entries'!"&SUBSTITUTE(ADDRESS(1,IF(COLUMN(E$1)<6,COLUMN(E$1),COLUMN(E$1)-1),4),"1","")&$B2),INDIRECT("'"&$A2&" Entries'!"&SUBSTITUTE(ADDRESS(1,COLUMN(D$1),4),"1","")&$B2)))} -> 0 | F2: {=IF($A2="Trio",INDIRECT("'"&$A2&" Entries'!"&SUBSTITUTE(ADDRESS(1,IF(COLUMN(E$1)<5,COLUMN(E$1),COLUMN(E$1)-1),4),"1","")&$B2),IF($A2="Squad",INDIRECT("'"&$A2&" Entries'!"&SUBSTITUTE(ADDRESS(1,IF(COLUMN(F$1)<6,COLUMN(F$1),COLUMN(F$1)-1),4),"1","")&$B2),INDIRECT("'"&$A2&" Entries'!"&SUBSTITUTE(ADDRESS(1,COLUMN(E$1),4),"1","")&$B2)))} -> 0 | G2: {=IF($A2="Trio",INDIRECT("'"&$A2&" Entries'!"&SUBSTITUTE(ADDRESS(1,IF(COLUMN(F$1)<5,COLUMN(F$1),COLUMN(F$1)-1),4),"1","")&$B2),IF($A2="Squad",INDIRECT("'"&$A2&" Entries'!"&SUBSTITUTE(ADDRESS(1,IF(COLUMN(G$1)<6,COLUMN(G$1),COLUMN(G$1)-1),4),"1","")&$B2),INDIRECT("'"&$A2&" Entries'!"&SUBSTITUTE(ADDRESS(1,COLUMN(F$1),4),"1","")&$B2)))} -> 0 | H2: {=IF($A2="Trio",INDIRECT("'"&$A2&" Entries'!"&SUBSTITUTE(ADDRESS(1,IF(COLUMN(G$1)<5,COLUMN(G$1),COLUMN(G$1)-1),4),"1","")&$B2),IF($A2="Squad",INDIRECT("'"&$A2&" Entries'!"&SUBSTITUTE(ADDRESS(1,IF(COLUMN(H$1)<6,COLUMN(H$1),COLUMN(H$1)-1),4),"1","")&$B2),INDIRECT("'"&$A2&" Entries'!"&SUBSTITUTE(ADDRESS(1,COLUMN(G$1),4),"1","")&$B2)))} -> 0 | I2: {=IF($A2="Trio",INDIRECT("'"&$A2&" Entries'!"&SUBSTITUTE(ADDRESS(1,IF(COLUMN(H$1)<5,COLUMN(H$1),COLUMN(H$1)-1),4),"1","")&$B2),IF($A2="Squad",INDIRECT("'"&$A2&" Entries'!"&SUBSTITUTE(ADDRESS(1,IF(COLUMN(I$1)<6,COLUMN(I$1),COLUMN(I$1)-1),4),"1","")&$B2),INDIRECT("'"&$A2&" Entries'!"&SUBSTITUTE(ADDRESS(1,COLUMN(H$1),4),"1","")&$B2)))} -> 0 | J2: {=IF($A2="Trio",INDIRECT("'"&$A2&" Entries'!"&SUBSTITUTE(ADDRESS(1,IF(COLUMN(I$1)<5,COLUMN(I$1),COLUMN(I$1)-1),4),"1","")&$B2),IF($A2="Squad",INDIRECT("'"&$A2&" Entries'!"&SUBSTITUTE(ADDRESS(1,IF(COLUMN(J$1)<6,COLUMN(J$1),COLUMN(J$1)-1),4),"1","")&$B2),INDIRECT("'"&$A2&" Entries'!"&SUBSTITUTE(ADDRESS(1,COLUMN(I$1),4),"1","")&$B2)))} -> 0 | K2: =IF(C2=0,"",IF(COUNTIF($C$1:C2,"="&C2)>1,"",C2)) | L2: =IF(G2=0,"",IF(COUNTIF($G$1:G2,"="&G2)>1,"",G2)) | M2: =IF(I2=0,"",IF(COUNTIF($I$1:I2,"="&I2)>1,"",I2)) | N2: {=IFERROR(INDEX($K$2:$K$201,SMALL(IF($K$2:$K$201<>"",ROW($K$2:$K$201)-ROW($A$2)+1),ROWS($A$1:$A1))),"")} | O2: =IFERROR(VLOOKUP(N2,C:D,2,FALSE),"") | P2: =IFERROR(VLOOKUP(N2,C:F,4,FALSE),"") | Q2: {=IFERROR(INDEX($L$2:$L$201,SMALL(IF($L$2:$L$201<>"",ROW($L$2:$L$201)-ROW($A$2)+1),ROWS($A$1:$A1))),"")} | R2: =IFERROR(VLOOKUP(Q2,G:H,2,FALSE),"") | S2: {=IFERROR(INDEX($M$2:$M$201,SMALL(IF($M$2:$M$201<>"",ROW($M$2:$M$201)-ROW($A$2)+1),ROWS($A$1:$A1))),"")} | T2: =IFERROR(VLOOKUP(S2,I:J,2,FALSE),"") | X2: 1 | Y2: Individual
A3: =VLOOKUP((ROUNDUP(ROW(A2)/50,0)),$X$1:$Y$6,2,FALSE) -> Individual | B3: =IF(ROW(B2)=1,2,IF(B2=51,2,B2+1)) -> 3 | C3: {=IF($A3="Trio",INDIRECT("'"&$A3&" Entries'!"&SUBSTITUTE(ADDRESS(1,IF(COLUMN(B$1)<5,COLUMN(B$1),COLUMN(B$1)-1),4),"1","")&$B3),IF($A3="Squad",INDIRECT("'"&$A3&" Entries'!"&SUBSTITUTE(ADDRESS(1,IF(COLUMN(C$1)<6,COLUMN(C$1),COLUMN(C$1)-1),4),"1","")&$B3),INDIRECT("'"&$A3&" Entries'!"&SUBSTITUTE(ADDRESS(1,COLUMN(B$1),4),"1","")&$B3)))} -> 0 | D3: {=IF($A3="Trio",INDIRECT("'"&$A3&" Entries'!"&SUBSTITUTE(ADDRESS(1,IF(COLUMN(C$1)<5,COLUMN(C$1),COLUMN(C$1)-1),4),"1","")&$B3),IF($A3="Squad",INDIRECT("'"&$A3&" Entries'!"&SUBSTITUTE(ADDRESS(1,IF(COLUMN(D$1)<6,COLUMN(D$1),COLUMN(D$1)-1),4),"1","")&$B3),INDIRECT("'"&$A3&" Entries'!"&SUBSTITUTE(ADDRESS(1,COLUMN(C$1),4),"1","")&$B3)))} -> 0 | E3: {=IF($A3="Trio",INDIRECT("'"&$A3&" Entries'!"&SUBSTITUTE(ADDRESS(1,IF(COLUMN(D$1)<5,COLUMN(D$1),COLUMN(D$1)-1),4),"1","")&$B3),IF($A3="Squad",INDIRECT("'"&$A3&" Entries'!"&SUBSTITUTE(ADDRESS(1,IF(COLUMN(E$1)<6,COLUMN(E$1),COLUMN(E$1)-1),4),"1","")&$B3),INDIRECT("'"&$A3&" Entries'!"&SUBSTITUTE(ADDRESS(1,COLUMN(D$1),4),"1","")&$B3)))} -> 0 | F3: {=IF($A3="Trio",INDIRECT("'"&$A3&" Entries'!"&SUBSTITUTE(ADDRESS(1,IF(COLUMN(E$1)<5,COLUMN(E$1),COLUMN(E$1)-1),4),"1","")&$B3),IF($A3="Squad",INDIRECT("'"&$A3&" Entries'!"&SUBSTITUTE(ADDRESS(1,IF(COLUMN(F$1)<6,COLUMN(F$1),COLUMN(F$1)-1),4),"1","")&$B3),INDIRECT("'"&$A3&" Entries'!"&SUBSTITUTE(ADDRESS(1,COLUMN(E$1),4),"1","")&$B3)))} -> 0 | G3: {=IF($A3="Trio",INDIRECT("'"&$A3&" Entries'!"&SUBSTITUTE(ADDRESS(1,IF(COLUMN(F$1)<5,COLUMN(F$1),COLUMN(F$1)-1),4),"1","")&$B3),IF($A3="Squad",INDIRECT("'"&$A3&" Entries'!"&SUBSTITUTE(ADDRESS(1,IF(COLUMN(G$1)<6,COLUMN(G$1),COLUMN(G$1)-1),4),"1","")&$B3),INDIRECT("'"&$A3&" Entries'!"&SUBSTITUTE(ADDRESS(1,COLUMN(F$1),4),"1","")&$B3)))} -> 0 | H3: {=IF($A3="Trio",INDIRECT("'"&$A3&" Entries'!"&SUBSTITUTE(ADDRESS(1,IF(COLUMN(G$1)<5,COLUMN(G$1),COLUMN(G$1)-1),4),"1","")&$B3),IF($A3="Squad",INDIRECT("'"&$A3&" Entries'!"&SUBSTITUTE(ADDRESS(1,IF(COLUMN(H$1)<6,COLUMN(H$1),COLUMN(H$1)-1),4),"1","")&$B3),INDIRECT("'"&$A3&" Entries'!"&SUBSTITUTE(ADDRESS(1,COLUMN(G$1),4),"1","")&$B3)))} -> 0 | I3: {=IF($A3="Trio",INDIRECT("'"&$A3&" Entries'!"&SUBSTITUTE(ADDRESS(1,IF(COLUMN(H$1)<5,COLUMN(H$1),COLUMN(H$1)-1),4),"1","")&$B3),IF($A3="Squad",INDIRECT("'"&$A3&" Entries'!"&SUBSTITUTE(ADDRESS(1,IF(COLUMN(I$1)<6,COLUMN(I$1),COLUMN(I$1)-1),4),"1","")&$B3),INDIRECT("'"&$A3&" Entries'!"&SUBSTITUTE(ADDRESS(1,COLUMN(H$1),4),"1","")&$B3)))} -> 0 | J3: {=IF($A3="Trio",INDIRECT("'"&$A3&" Entries'!"&SUBSTITUTE(ADDRESS(1,IF(COLUMN(I$1)<5,COLUMN(I$1),COLUMN(I$1)-1),4),"1","")&$B3),IF($A3="Squad",INDIRECT("'"&$A3&" Entries'!"&SUBSTITUTE(ADDRESS(1,IF(COLUMN(J$1)<6,COLUMN(J$1),COLUMN(J$1)-1),4),"1","")&$B3),INDIRECT("'"&$A3&" Entries'!"&SUBSTITUTE(ADDRESS(1,COLUMN(I$1),4),"1","")&$B3)))} -> 0 | K3: =IF(C3=0,"",IF(COUNTIF($C$1:C3,"="&C3)>1,"",C3)) | L3: =IF(G3=0,"",IF(COUNTIF($G$1:G3,"="&G3)>1,"",G3)) | M3: =IF(I3=0,"",IF(COUNTIF($I$1:I3,"="&I3)>1,"",I3)) | N3: {=IFERROR(INDEX($K$2:$K$201,SMALL(IF($K$2:$K$201<>"",ROW($K$2:$K$201)-ROW($A$2)+1),ROWS($A$1:$A2))),"")} | O3: =IFERROR(VLOOKUP(N3,C:D,2,FALSE),"") | P3: =IFERROR(VLOOKUP(N3,C:F,4,FALSE),"") | Q3: {=IFERROR(INDEX($L$2:$L$201,SMALL(IF($L$2:$L$201<>"",ROW($L$2:$L$201)-ROW($A$2)+1),ROWS($A$1:$A2))),"")} | R3: =IFERROR(VLOOKUP(Q3,G:H,2,FALSE),"") | S3: {=IFERROR(INDEX($M$2:$M$201,SMALL(IF($M$2:$M$201<>"",ROW($M$2:$M$201)-ROW($A$2)+1),ROWS($A$1:$A2))),"")} | T3: =IFERROR(VLOOKUP(S3,I:J,2,FALSE),"") | X3: 2 | Y3: Pas De Deux
A4: =VLOOKUP((ROUNDUP(ROW(A3)/50,0)),$X$1:$Y$6,2,FALSE) -> Individual | B4: =IF(ROW(B3)=1,2,IF(B3=51,2,B3+1)) -> 4 | C4: {=IF($A4="Trio",INDIRECT("'"&$A4&" Entries'!"&SUBSTITUTE(ADDRESS(1,IF(COLUMN(B$1)<5,COLUMN(B$1),COLUMN(B$1)-1),4),"1","")&$B4),IF($A4="Squad",INDIRECT("'"&$A4&" Entries'!"&SUBSTITUTE(ADDRESS(1,IF(COLUMN(C$1)<6,COLUMN(C$1),COLUMN(C$1)-1),4),"1","")&$B4),INDIRECT("'"&$A4&" Entries'!"&SUBSTITUTE(ADDRESS(1,COLUMN(B$1),4),"1","")&$B4)))} -> 0 | D4: {=IF($A4="Trio",INDIRECT("'"&$A4&" Entries'!"&SUBSTITUTE(ADDRESS(1,IF(COLUMN(C$1)<5,COLUMN(C$1),COLUMN(C$1)-1),4),"1","")&$B4),IF($A4="Squad",INDIRECT("'"&$A4&" Entries'!"&SUBSTITUTE(ADDRESS(1,IF(COLUMN(D$1)<6,COLUMN(D$1),COLUMN(D$1)-1),4),"1","")&$B4),INDIRECT("'"&$A4&" Entries'!"&SUBSTITUTE(ADDRESS(1,COLUMN(C$1),4),"1","")&$B4)))} -> 0 | E4: {=IF($A4="Trio",INDIRECT("'"&$A4&" Entries'!"&SUBSTITUTE(ADDRESS(1,IF(COLUMN(D$1)<5,COLUMN(D$1),COLUMN(D$1)-1),4),"1","")&$B4),IF($A4="Squad",INDIRECT("'"&$A4&" Entries'!"&SUBSTITUTE(ADDRESS(1,IF(COLUMN(E$1)<6,COLUMN(E$1),COLUMN(E$1)-1),4),"1","")&$B4),INDIRECT("'"&$A4&" Entries'!"&SUBSTITUTE(ADDRESS(1,COLUMN(D$1),4),"1","")&$B4)))} -> 0 | F4: {=IF($A4="Trio",INDIRECT("'"&$A4&" Entries'!"&SUBSTITUTE(ADDRESS(1,IF(COLUMN(E$1)<5,COLUMN(E$1),COLUMN(E$1)-1),4),"1","")&$B4),IF($A4="Squad",INDIRECT("'"&$A4&" Entries'!"&SUBSTITUTE(ADDRESS(1,IF(COLUMN(F$1)<6,COLUMN(F$1),COLUMN(F$1)-1),4),"1","")&$B4),INDIRECT("'"&$A4&" Entries'!"&SUBSTITUTE(ADDRESS(1,COLUMN(E$1),4),"1","")&$B4)))} -> 0 | G4: {=IF($A4="Trio",INDIRECT("'"&$A4&" Entries'!"&SUBSTITUTE(ADDRESS(1,IF(COLUMN(F$1)<5,COLUMN(F$1),COLUMN(F$1)-1),4),"1","")&$B4),IF($A4="Squad",INDIRECT("'"&$A4&" Entries'!"&SUBSTITUTE(ADDRESS(1,IF(COLUMN(G$1)<6,COLUMN(G$1),COLUMN(G$1)-1),4),"1","")&$B4),INDIRECT("'"&$A4&" Entries'!"&SUBSTITUTE(ADDRESS(1,COLUMN(F$1),4),"1","")&$B4)))} -> 0 | H4: {=IF($A4="Trio",INDIRECT("'"&$A4&" Entries'!"&SUBSTITUTE(ADDRESS(1,IF(COLUMN(G$1)<5,COLUMN(G$1),COLUMN(G$1)-1),4),"1","")&$B4),IF($A4="Squad",INDIRECT("'"&$A4&" Entries'!"&SUBSTITUTE(ADDRESS(1,IF(COLUMN(H$1)<6,COLUMN(H$1),COLUMN(H$1)-1),4),"1","")&$B4),INDIRECT("'"&$A4&" Entries'!"&SUBSTITUTE(ADDRESS(1,COLUMN(G$1),4),"1","")&$B4)))} -> 0 | I4: {=IF($A4="Trio",INDIRECT("'"&$A4&" Entries'!"&SUBSTITUTE(ADDRESS(1,IF(COLUMN(H$1)<5,COLUMN(H$1),COLUMN(H$1)-1),4),"1","")&$B4),IF($A4="Squad",INDIRECT("'"&$A4&" Entries'!"&SUBSTITUTE(ADDRESS(1,IF(COLUMN(I$1)<6,COLUMN(I$1),COLUMN(I$1)-1),4),"1","")&$B4),INDIRECT("'"&$A4&" Entries'!"&SUBSTITUTE(ADDRESS(1,COLUMN(H$1),4),"1","")&$B4)))} -> 0 | J4: {=IF($A4="Trio",INDIRECT("'"&$A4&" Entries'!"&SUBSTITUTE(ADDRESS(1,IF(COLUMN(I$1)<5,COLUMN(I$1),COLUMN(I$1)-1),4),"1","")&$B4),IF($A4="Squad",INDIRECT("'"&$A4&" Entries'!"&SUBSTITUTE(ADDRESS(1,IF(COLUMN(J$1)<6,COLUMN(J$1),COLUMN(J$1)-1),4),"1","")&$B4),INDIRECT("'"&$A4&" Entries'!"&SUBSTITUTE(ADDRESS(1,COLUMN(I$1),4),"1","")&$B4)))} -> 0 | K4: =IF(C4=0,"",IF(COUNTIF($C$1:C4,"="&C4)>1,"",C4)) | L4: =IF(G4=0,"",IF(COUNTIF($G$1:G4,"="&G4)>1,"",G4)) | M4: =IF(I4=0,"",IF(COUNTIF($I$1:I4,"="&I4)>1,"",I4)) | N4: {=IFERROR(INDEX($K$2:$K$201,SMALL(IF($K$2:$K$201<>"",ROW($K$2:$K$201)-ROW($A$2)+1),ROWS($A$1:$A3))),"")} | O4: =IFERROR(VLOOKUP(N4,C:D,2,FALSE),"") | P4: =IFERROR(VLOOKUP(N4,C:F,4,FALSE),"") | Q4: {=IFERROR(INDEX($L$2:$L$201,SMALL(IF($L$2:$L$201<>"",ROW($L$2:$L$201)-ROW($A$2)+1),ROWS($A$1:$A3))),"")} | R4: =IFERROR(VLOOKUP(Q4,G:H,2,FALSE),"") | S4: {=IFERROR(INDEX($M$2:$M$201,SMALL(IF($M$2:$M$201<>"",ROW($M$2:$M$201)-ROW($A$2)+1),ROWS($A$1:$A3))),"")} | T4: =IFERROR(VLOOKUP(S4,I:J,2,FALSE),"") | X4: 3 | Y4: Trio
A5: =VLOOKUP((ROUNDUP(ROW(A4)/50,0)),$X$1:$Y$6,2,FALSE) -> Individual | B5: =IF(ROW(B4)=1,2,IF(B4=51,2,B4+1)) -> 5 | C5: {=IF($A5="Trio",INDIRECT("'"&$A5&" Entries'!"&SUBSTITUTE(ADDRESS(1,IF(COLUMN(B$1)<5,COLUMN(B$1),COLUMN(B$1)-1),4),"1","")&$B5),IF($A5="Squad",INDIRECT("'"&$A5&" Entries'!"&SUBSTITUTE(ADDRESS(1,IF(COLUMN(C$1)<6,COLUMN(C$1),COLUMN(C$1)-1),4),"1","")&$B5),INDIRECT("'"&$A5&" Entries'!"&SUBSTITUTE(ADDRESS(1,COLUMN(B$1),4),"1","")&$B5)))} -> 0 | D5: {=IF($A5="Trio",INDIRECT("'"&$A5&" Entries'!"&SUBSTITUTE(ADDRESS(1,IF(COLUMN(C$1)<5,COLUMN(C$1),COLUMN(C$1)-1),4),"1","")&$B5),IF($A5="Squad",INDIRECT("'"&$A5&" Entries'!"&SUBSTITUTE(ADDRESS(1,IF(COLUMN(D$1)<6,COLUMN(D$1),COLUMN(D$1)-1),4),"1","")&$B5),INDIRECT("'"&$A5&" Entries'!"&SUBSTITUTE(ADDRESS(1,COLUMN(C$1),4),"1","")&$B5)))} -> 0 | E5: {=IF($A5="Trio",INDIRECT("'"&$A5&" Entries'!"&SUBSTITUTE(ADDRESS(1,IF(COLUMN(D$1)<5,COLUMN(D$1),COLUMN(D$1)-1),4),"1","")&$B5),IF($A5="Squad",INDIRECT("'"&$A5&" Entries'!"&SUBSTITUTE(ADDRESS(1,IF(COLUMN(E$1)<6,COLUMN(E$1),COLUMN(E$1)-1),4),"1","")&$B5),INDIRECT("'"&$A5&" Entries'!"&SUBSTITUTE(ADDRESS(1,COLUMN(D$1),4),"1","")&$B5)))} -> 0 | F5: {=IF($A5="Trio",INDIRECT("'"&$A5&" Entries'!"&SUBSTITUTE(ADDRESS(1,IF(COLUMN(E$1)<5,COLUMN(E$1),COLUMN(E$1)-1),4),"1","")&$B5),IF($A5="Squad",INDIRECT("'"&$A5&" Entries'!"&SUBSTITUTE(ADDRESS(1,IF(COLUMN(F$1)<6,COLUMN(F$1),COLUMN(F$1)-1),4),"1","")&$B5),INDIRECT("'"&$A5&" Entries'!"&SUBSTITUTE(ADDRESS(1,COLUMN(E$1),4),"1","")&$B5)))} -> 0 | G5: {=IF($A5="Trio",INDIRECT("'"&$A5&" Entries'!"&SUBSTITUTE(ADDRESS(1,IF(COLUMN(F$1)<5,COLUMN(F$1),COLUMN(F$1)-1),4),"1","")&$B5),IF($A5="Squad",INDIRECT("'"&$A5&" Entries'!"&SUBSTITUTE(ADDRESS(1,IF(COLUMN(G$1)<6,COLUMN(G$1),COLUMN(G$1)-1),4),"1","")&$B5),INDIRECT("'"&$A5&" Entries'!"&SUBSTITUTE(ADDRESS(1,COLUMN(F$1),4),"1","")&$B5)))} -> 0 | H5: {=IF($A5="Trio",INDIRECT("'"&$A5&" Entries'!"&SUBSTITUTE(ADDRESS(1,IF(COLUMN(G$1)<5,COLUMN(G$1),COLUMN(G$1)-1),4),"1","")&$B5),IF($A5="Squad",INDIRECT("'"&$A5&" Entries'!"&SUBSTITUTE(ADDRESS(1,IF(COLUMN(H$1)<6,COLUMN(H$1),COLUMN(H$1)-1),4),"1","")&$B5),INDIRECT("'"&$A5&" Entries'!"&SUBSTITUTE(ADDRESS(1,COLUMN(G$1),4),"1","")&$B5)))} -> 0 | I5: {=IF($A5="Trio",INDIRECT("'"&$A5&" Entries'!"&SUBSTITUTE(ADDRESS(1,IF(COLUMN(H$1)<5,COLUMN(H$1),COLUMN(H$1)-1),4),"1","")&$B5),IF($A5="Squad",INDIRECT("'"&$A5&" Entries'!"&SUBSTITUTE(ADDRESS(1,IF(COLUMN(I$1)<6,COLUMN(I$1),COLUMN(I$1)-1),4),"1","")&$B5),INDIRECT("'"&$A5&" Entries'!"&SUBSTITUTE(ADDRESS(1,COLUMN(H$1),4),"1","")&$B5)))} -> 0 | J5: {=IF($A5="Trio",INDIRECT("'"&$A5&" Entries'!"&SUBSTITUTE(ADDRESS(1,IF(COLUMN(I$1)<5,COLUMN(I$1),COLUMN(I$1)-1),4),"1","")&$B5),IF($A5="Squad",INDIRECT("'"&$A5&" Entries'!"&SUBSTITUTE(ADDRESS(1,IF(COLUMN(J$1)<6,COLUMN(J$1),COLUMN(J$1)-1),4),"1","")&$B5),INDIRECT("'"&$A5&" Entries'!"&SUBSTITUTE(ADDRESS(1,COLUMN(I$1),4),"1","")&$B5)))} -> 0 | K5: =IF(C5=0,"",IF(COUNTIF($C$1:C5,"="&C5)>1,"",C5)) | L5: =IF(G5=0,"",IF(COUNTIF($G$1:G5,"="&G5)>1,"",G5)) | M5: =IF(I5=0,"",IF(COUNTIF($I$1:I5,"="&I5)>1,"",I5)) | N5: {=IFERROR(INDEX($K$2:$K$201,SMALL(IF($K$2:$K$201<>"",ROW($K$2:$K$201)-ROW($A$2)+1),ROWS($A$1:$A4))),"")} | O5: =IFERROR(VLOOKUP(N5,C:D,2,FALSE),"") | P5: =IFERROR(VLOOKUP(N5,C:F,4,FALSE),"") | Q5: {=IFERROR(INDEX($L$2:$L$201,SMALL(IF($L$2:$L$201<>"",ROW($L$2:$L$201)-ROW($A$2)+1),ROWS($A$1:$A4))),"")} | R5: =IFERROR(VLOOKUP(Q5,G:H,2,FALSE),"") | S5: {=IFERROR(INDEX($M$2:$M$201,SMALL(IF($M$2:$M$201<>"",ROW($M$2:$M$201)-ROW($A$2)+1),ROWS($A$1:$A4))),"")} | T5: =IFERROR(VLOOKUP(S5,I:J,2,FALSE),"") | X5: 4 | Y5: Squad
A6: =VLOOKUP((ROUNDUP(ROW(A5)/50,0)),$X$1:$Y$6,2,FALSE) -> Individual | B6: =IF(ROW(B5)=1,2,IF(B5=51,2,B5+1)) -> 6 | C6: {=IF($A6="Trio",INDIRECT("'"&$A6&" Entries'!"&SUBSTITUTE(ADDRESS(1,IF(COLUMN(B$1)<5,COLUMN(B$1),COLUMN(B$1)-1),4),"1","")&$B6),IF($A6="Squad",INDIRECT("'"&$A6&" Entries'!"&SUBSTITUTE(ADDRESS(1,IF(COLUMN(C$1)<6,COLUMN(C$1),COLUMN(C$1)-1),4),"1","")&$B6),INDIRECT("'"&$A6&" Entries'!"&SUBSTITUTE(ADDRESS(1,COLUMN(B$1),4),"1","")&$B6)))} -> 0 | D6: {=IF($A6="Trio",INDIRECT("'"&$A6&" Entries'!"&SUBSTITUTE(ADDRESS(1,IF(COLUMN(C$1)<5,COLUMN(C$1),COLUMN(C$1)-1),4),"1","")&$B6),IF($A6="Squad",INDIRECT("'"&$A6&" Entries'!"&SUBSTITUTE(ADDRESS(1,IF(COLUMN(D$1)<6,COLUMN(D$1),COLUMN(D$1)-1),4),"1","")&$B6),INDIRECT("'"&$A6&" Entries'!"&SUBSTITUTE(ADDRESS(1,COLUMN(C$1),4),"1","")&$B6)))} -> 0 | E6: {=IF($A6="Trio",INDIRECT("'"&$A6&" Entries'!"&SUBSTITUTE(ADDRESS(1,IF(COLUMN(D$1)<5,COLUMN(D$1),COLUMN(D$1)-1),4),"1","")&$B6),IF($A6="Squad",INDIRECT("'"&$A6&" Entries'!"&SUBSTITUTE(ADDRESS(1,IF(COLUMN(E$1)<6,COLUMN(E$1),COLUMN(E$1)-1),4),"1","")&$B6),INDIRECT("'"&$A6&" Entries'!"&SUBSTITUTE(ADDRESS(1,COLUMN(D$1),4),"1","")&$B6)))} -> 0 | F6: {=IF($A6="Trio",INDIRECT("'"&$A6&" Entries'!"&SUBSTITUTE(ADDRESS(1,IF(COLUMN(E$1)<5,COLUMN(E$1),COLUMN(E$1)-1),4),"1","")&$B6),IF($A6="Squad",INDIRECT("'"&$A6&" Entries'!"&SUBSTITUTE(ADDRESS(1,IF(COLUMN(F$1)<6,COLUMN(F$1),COLUMN(F$1)-1),4),"1","")&$B6),INDIRECT("'"&$A6&" Entries'!"&SUBSTITUTE(ADDRESS(1,COLUMN(E$1),4),"1","")&$B6)))} -> 0 | G6: {=IF($A6="Trio",INDIRECT("'"&$A6&" Entries'!"&SUBSTITUTE(ADDRESS(1,IF(COLUMN(F$1)<5,COLUMN(F$1),COLUMN(F$1)-1),4),"1","")&$B6),IF($A6="Squad",INDIRECT("'"&$A6&" Entries'!"&SUBSTITUTE(ADDRESS(1,IF(COLUMN(G$1)<6,COLUMN(G$1),COLUMN(G$1)-1),4),"1","")&$B6),INDIRECT("'"&$A6&" Entries'!"&SUBSTITUTE(ADDRESS(1,COLUMN(F$1),4),"1","")&$B6)))} -> 0 | H6: {=IF($A6="Trio",INDIRECT("'"&$A6&" Entries'!"&SUBSTITUTE(ADDRESS(1,IF(COLUMN(G$1)<5,COLUMN(G$1),COLUMN(G$1)-1),4),"1","")&$B6),IF($A6="Squad",INDIRECT("'"&$A6&" Entries'!"&SUBSTITUTE(ADDRESS(1,IF(COLUMN(H$1)<6,COLUMN(H$1),COLUMN(H$1)-1),4),"1","")&$B6),INDIRECT("'"&$A6&" Entries'!"&SUBSTITUTE(ADDRESS(1,COLUMN(G$1),4),"1","")&$B6)))} -> 0 | I6: {=IF($A6="Trio",INDIRECT("'"&$A6&" Entries'!"&SUBSTITUTE(ADDRESS(1,IF(COLUMN(H$1)<5,COLUMN(H$1),COLUMN(H$1)-1),4),"1","")&$B6),IF($A6="Squad",INDIRECT("'"&$A6&" Entries'!"&SUBSTITUTE(ADDRESS(1,IF(COLUMN(I$1)<6,COLUMN(I$1),COLUMN(I$1)-1),4),"1","")&$B6),INDIRECT("'"&$A6&" Entries'!"&SUBSTITUTE(ADDRESS(1,COLUMN(H$1),4),"1","")&$B6)))} -> 0 | J6: {=IF($A6="Trio",INDIRECT("'"&$A6&" Entries'!"&SUBSTITUTE(ADDRESS(1,IF(COLUMN(I$1)<5,COLUMN(I$1),COLUMN(I$1)-1),4),"1","")&$B6),IF($A6="Squad",INDIRECT("'"&$A6&" Entries'!"&SUBSTITUTE(ADDRESS(1,IF(COLUMN(J$1)<6,COLUMN(J$1),COLUMN(J$1)-1),4),"1","")&$B6),INDIRECT("'"&$A6&" Entries'!"&SUBSTITUTE(ADDRESS(1,COLUMN(I$1),4),"1","")&$B6)))} -> 0 | K6: =IF(C6=0,"",IF(COUNTIF($C$1:C6,"="&C6)>1,"",C6)) | L6: =IF(G6=0,"",IF(COUNTIF($G$1:G6,"="&G6)>1,"",G6)) | M6: =IF(I6=0,"",IF(COUNTIF($I$1:I6,"="&I6)>1,"",I6)) | N6: {=IFERROR(INDEX($K$2:$K$201,SMALL(IF($K$2:$K$201<>"",ROW($K$2:$K$201)-ROW($A$2)+1),ROWS($A$1:$A5))),"")} | O6: =IFERROR(VLOOKUP(N6,C:D,2,FALSE),"") | P6: =IFERROR(VLOOKUP(N6,C:F,4,FALSE),"") | Q6: {=IFERROR(INDEX($L$2:$L$201,SMALL(IF($L$2:$L$201<>"",ROW($L$2:$L$201)-ROW($A$2)+1),ROWS($A$1:$A5))),"")} | R6: =IFERROR(VLOOKUP(Q6,G:H,2,FALSE),"") | S6: {=IFERROR(INDEX($M$2:$M$201,SMALL(IF($M$2:$M$201<>"",ROW($M$2:$M$201)-ROW($A$2)+1),ROWS($A$1:$A5))),"")} | T6: =IFERROR(VLOOKUP(S6,I:J,2,FALSE),"")
A7: =VLOOKUP((ROUNDUP(ROW(A6)/50,0)),$X$1:$Y$6,2,FALSE) -> Individual | B7: =IF(ROW(B6)=1,2,IF(B6=51,2,B6+1)) -> 7 | C7: {=IF($A7="Trio",INDIRECT("'"&$A7&" Entries'!"&SUBSTITUTE(ADDRESS(1,IF(COLUMN(B$1)<5,COLUMN(B$1),COLUMN(B$1)-1),4),"1","")&$B7),IF($A7="Squad",INDIRECT("'"&$A7&" Entries'!"&SUBSTITUTE(ADDRESS(1,IF(COLUMN(C$1)<6,COLUMN(C$1),COLUMN(C$1)-1),4),"1","")&$B7),INDIRECT("'"&$A7&" Entries'!"&SUBSTITUTE(ADDRESS(1,COLUMN(B$1),4),"1","")&$B7)))} -> 0 | D7: {=IF($A7="Trio",INDIRECT("'"&$A7&" Entries'!"&SUBSTITUTE(ADDRESS(1,IF(COLUMN(C$1)<5,COLUMN(C$1),COLUMN(C$1)-1),4),"1","")&$B7),IF($A7="Squad",INDIRECT("'"&$A7&" Entries'!"&SUBSTITUTE(ADDRESS(1,IF(COLUMN(D$1)<6,COLUMN(D$1),COLUMN(D$1)-1),4),"1","")&$B7),INDIRECT("'"&$A7&" Entries'!"&SUBSTITUTE(ADDRESS(1,COLUMN(C$1),4),"1","")&$B7)))} -> 0 | E7: {=IF($A7="Trio",INDIRECT("'"&$A7&" Entries'!"&SUBSTITUTE(ADDRESS(1,IF(COLUMN(D$1)<5,COLUMN(D$1),COLUMN(D$1)-1),4),"1","")&$B7),IF($A7="Squad",INDIRECT("'"&$A7&" Entries'!"&SUBSTITUTE(ADDRESS(1,IF(COLUMN(E$1)<6,COLUMN(E$1),COLUMN(E$1)-1),4),"1","")&$B7),INDIRECT("'"&$A7&" Entries'!"&SUBSTITUTE(ADDRESS(1,COLUMN(D$1),4),"1","")&$B7)))} -> 0 | F7: {=IF($A7="Trio",INDIRECT("'"&$A7&" Entries'!"&SUBSTITUTE(ADDRESS(1,IF(COLUMN(E$1)<5,COLUMN(E$1),COLUMN(E$1)-1),4),"1","")&$B7),IF($A7="Squad",INDIRECT("'"&$A7&" Entries'!"&SUBSTITUTE(ADDRESS(1,IF(COLUMN(F$1)<6,COLUMN(F$1),COLUMN(F$1)-1),4),"1","")&$B7),INDIRECT("'"&$A7&" Entries'!"&SUBSTITUTE(ADDRESS(1,COLUMN(E$1),4),"1","")&$B7)))} -> 0 | G7: {=IF($A7="Trio",INDIRECT("'"&$A7&" Entries'!"&SUBSTITUTE(ADDRESS(1,IF(COLUMN(F$1)<5,COLUMN(F$1),COLUMN(F$1)-1),4),"1","")&$B7),IF($A7="Squad",INDIRECT("'"&$A7&" Entries'!"&SUBSTITUTE(ADDRESS(1,IF(COLUMN(G$1)<6,COLUMN(G$1),COLUMN(G$1)-1),4),"1","")&$B7),INDIRECT("'"&$A7&" Entries'!"&SUBSTITUTE(ADDRESS(1,COLUMN(F$1),4),"1","")&$B7)))} -> 0 | H7: {=IF($A7="Trio",INDIRECT("'"&$A7&" Entries'!"&SUBSTITUTE(ADDRESS(1,IF(COLUMN(G$1)<5,COLUMN(G$1),COLUMN(G$1)-1),4),"1","")&$B7),IF($A7="Squad",INDIRECT("'"&$A7&" Entries'!"&SUBSTITUTE(ADDRESS(1,IF(COLUMN(H$1)<6,COLUMN(H$1),COLUMN(H$1)-1),4),"1","")&$B7),INDIRECT("'"&$A7&" Entries'!"&SUBSTITUTE(ADDRESS(1,COLUMN(G$1),4),"1","")&$B7)))} -> 0 | I7: {=IF($A7="Trio",INDIRECT("'"&$A7&" Entries'!"&SUBSTITUTE(ADDRESS(1,IF(COLUMN(H$1)<5,COLUMN(H$1),COLUMN(H$1)-1),4),"1","")&$B7),IF($A7="Squad",INDIRECT("'"&$A7&" Entries'!"&SUBSTITUTE(ADDRESS(1,IF(COLUMN(I$1)<6,COLUMN(I$1),COLUMN(I$1)-1),4),"1","")&$B7),INDIRECT("'"&$A7&" Entries'!"&SUBSTITUTE(ADDRESS(1,COLUMN(H$1),4),"1","")&$B7)))} -> 0 | J7: {=IF($A7="Trio",INDIRECT("'"&$A7&" Entries'!"&SUBSTITUTE(ADDRESS(1,IF(COLUMN(I$1)<5,COLUMN(I$1),COLUMN(I$1)-1),4),"1","")&$B7),IF($A7="Squad",INDIRECT("'"&$A7&" Entries'!"&SUBSTITUTE(ADDRESS(1,IF(COLUMN(J$1)<6,COLUMN(J$1),COLUMN(J$1)-1),4),"1","")&$B7),INDIRECT("'"&$A7&" Entries'!"&SUBSTITUTE(ADDRESS(1,COLUMN(I$1),4),"1","")&$B7)))} -> 0 | K7: =IF(C7=0,"",IF(COUNTIF($C$1:C7,"="&C7)>1,"",C7)) | L7: =IF(G7=0,"",IF(COUNTIF($G$1:G7,"="&G7)>1,"",G7)) | M7: =IF(I7=0,"",IF(COUNTIF($I$1:I7,"="&I7)>1,"",I7)) | N7: {=IFERROR(INDEX($K$2:$K$201,SMALL(IF($K$2:$K$201<>"",ROW($K$2:$K$201)-ROW($A$2)+1),ROWS($A$1:$A6))),"")} | O7: =IFERROR(VLOOKUP(N7,C:D,2,FALSE),"") | P7: =IFERROR(VLOOKUP(N7,C:F,4,FALSE),"") | Q7: {=IFERROR(INDEX($L$2:$L$201,SMALL(IF($L$2:$L$201<>"",ROW($L$2:$L$201)-ROW($A$2)+1),ROWS($A$1:$A6))),"")} | R7: =IFERROR(VLOOKUP(Q7,G:H,2,FALSE),"") | S7: {=IFERROR(INDEX($M$2:$M$201,SMALL(IF($M$2:$M$201<>"",ROW($M$2:$M$201)-ROW($A$2)+1),ROWS($A$1:$A6))),"")} | T7: =IFERROR(VLOOKUP(S7,I:J,2,FALSE),"")
A8: =VLOOKUP((ROUNDUP(ROW(A7)/50,0)),$X$1:$Y$6,2,FALSE) -> Individual | B8: =IF(ROW(B7)=1,2,IF(B7=51,2,B7+1)) -> 8 | C8: {=IF($A8="Trio",INDIRECT("'"&$A8&" Entries'!"&SUBSTITUTE(ADDRESS(1,IF(COLUMN(B$1)<5,COLUMN(B$1),COLUMN(B$1)-1),4),"1","")&$B8),IF($A8="Squad",INDIRECT("'"&$A8&" Entries'!"&SUBSTITUTE(ADDRESS(1,IF(COLUMN(C$1)<6,COLUMN(C$1),COLUMN(C$1)-1),4),"1","")&$B8),INDIRECT("'"&$A8&" Entries'!"&SUBSTITUTE(ADDRESS(1,COLUMN(B$1),4),"1","")&$B8)))} -> 0 | D8: {=IF($A8="Trio",INDIRECT("'"&$A8&" Entries'!"&SUBSTITUTE(ADDRESS(1,IF(COLUMN(C$1)<5,COLUMN(C$1),COLUMN(C$1)-1),4),"1","")&$B8),IF($A8="Squad",INDIRECT("'"&$A8&" Entries'!"&SUBSTITUTE(ADDRESS(1,IF(COLUMN(D$1)<6,COLUMN(D$1),COLUMN(D$1)-1),4),"1","")&$B8),INDIRECT("'"&$A8&" Entries'!"&SUBSTITUTE(ADDRESS(1,COLUMN(C$1),4),"1","")&$B8)))} -> 0 | E8: {=IF($A8="Trio",INDIRECT("'"&$A8&" Entries'!"&SUBSTITUTE(ADDRESS(1,IF(COLUMN(D$1)<5,COLUMN(D$1),COLUMN(D$1)-1),4),"1","")&$B8),IF($A8="Squad",INDIRECT("'"&$A8&" Entries'!"&SUBSTITUTE(ADDRESS(1,IF(COLUMN(E$1)<6,COLUMN(E$1),COLUMN(E$1)-1),4),"1","")&$B8),INDIRECT("'"&$A8&" Entries'!"&SUBSTITUTE(ADDRESS(1,COLUMN(D$1),4),"1","")&$B8)))} -> 0 | F8: {=IF($A8="Trio",INDIRECT("'"&$A8&" Entries'!"&SUBSTITUTE(ADDRESS(1,IF(COLUMN(E$1)<5,COLUMN(E$1),COLUMN(E$1)-1),4),"1","")&$B8),IF($A8="Squad",INDIRECT("'"&$A8&" Entries'!"&SUBSTITUTE(ADDRESS(1,IF(COLUMN(F$1)<6,COLUMN(F$1),COLUMN(F$1)-1),4),"1","")&$B8),INDIRECT("'"&$A8&" Entries'!"&SUBSTITUTE(ADDRESS(1,COLUMN(E$1),4),"1","")&$B8)))} -> 0 | G8: {=IF($A8="Trio",INDIRECT("'"&$A8&" Entries'!"&SUBSTITUTE(ADDRESS(1,IF(COLUMN(F$1)<5,COLUMN(F$1),COLUMN(F$1)-1),4),"1","")&$B8),IF($A8="Squad",INDIRECT("'"&$A8&" Entries'!"&SUBSTITUTE(ADDRESS(1,IF(COLUMN(G$1)<6,COLUMN(G$1),COLUMN(G$1)-1),4),"1","")&$B8),INDIRECT("'"&$A8&" Entries'!"&SUBSTITUTE(ADDRESS(1,COLUMN(F$1),4),"1","")&$B8)))} -> 0 | H8: {=IF($A8="Trio",INDIRECT("'"&$A8&" Entries'!"&SUBSTITUTE(ADDRESS(1,IF(COLUMN(G$1)<5,COLUMN(G$1),COLUMN(G$1)-1),4),"1","")&$B8),IF($A8="Squad",INDIRECT("'"&$A8&" Entries'!"&SUBSTITUTE(ADDRESS(1,IF(COLUMN(H$1)<6,COLUMN(H$1),COLUMN(H$1)-1),4),"1","")&$B8),INDIRECT("'"&$A8&" Entries'!"&SUBSTITUTE(ADDRESS(1,COLUMN(G$1),4),"1","")&$B8)))} -> 0 | I8: {=IF($A8="Trio",INDIRECT("'"&$A8&" Entries'!"&SUBSTITUTE(ADDRESS(1,IF(COLUMN(H$1)<5,COLUMN(H$1),COLUMN(H$1)-1),4),"1","")&$B8),IF($A8="Squad",INDIRECT("'"&$A8&" Entries'!"&SUBSTITUTE(ADDRESS(1,IF(COLUMN(I$1)<6,COLUMN(I$1),COLUMN(I$1)-1),4),"1","")&$B8),INDIRECT("'"&$A8&" Entries'!"&SUBSTITUTE(ADDRESS(1,COLUMN(H$1),4),"1","")&$B8)))} -> 0 | J8: {=IF($A8="Trio",INDIRECT("'"&$A8&" Entries'!"&SUBSTITUTE(ADDRESS(1,IF(COLUMN(I$1)<5,COLUMN(I$1),COLUMN(I$1)-1),4),"1","")&$B8),IF($A8="Squad",INDIRECT("'"&$A8&" Entries'!"&SUBSTITUTE(ADDRESS(1,IF(COLUMN(J$1)<6,COLUMN(J$1),COLUMN(J$1)-1),4),"1","")&$B8),INDIRECT("'"&$A8&" Entries'!"&SUBSTITUTE(ADDRESS(1,COLUMN(I$1),4),"1","")&$B8)))} -> 0 | K8: =IF(C8=0,"",IF(COUNTIF($C$1:C8,"="&C8)>1,"",C8)) | L8: =IF(G8=0,"",IF(COUNTIF($G$1:G8,"="&G8)>1,"",G8)) | M8: =IF(I8=0,"",IF(COUNTIF($I$1:I8,"="&I8)>1,"",I8)) | N8: {=IFERROR(INDEX($K$2:$K$201,SMALL(IF($K$2:$K$201<>"",ROW($K$2:$K$201)-ROW($A$2)+1),ROWS($A$1:$A7))),"")} | O8: =IFERROR(VLOOKUP(N8,C:D,2,FALSE),"") | P8: =IFERROR(VLOOKUP(N8,C:F,4,FALSE),"") | Q8: {=IFERROR(INDEX($L$2:$L$201,SMALL(IF($L$2:$L$201<>"",ROW($L$2:$L$201)-ROW($A$2)+1),ROWS($A$1:$A7))),"")} | R8: =IFERROR(VLOOKUP(Q8,G:H,2,FALSE),"") | S8: {=IFERROR(INDEX($M$2:$M$201,SMALL(IF($M$2:$M$201<>"",ROW($M$2:$M$201)-ROW($A$2)+1),ROWS($A$1:$A7))),"")} | T8: =IFERROR(VLOOKUP(S8,I:J,2,FALSE),"")
A9: =VLOOKUP((ROUNDUP(ROW(A8)/50,0)),$X$1:$Y$6,2,FALSE) -> Individual | B9: =IF(ROW(B8)=1,2,IF(B8=51,2,B8+1)) -> 9 | C9: {=IF($A9="Trio",INDIRECT("'"&$A9&" Entries'!"&SUBSTITUTE(ADDRESS(1,IF(COLUMN(B$1)<5,COLUMN(B$1),COLUMN(B$1)-1),4),"1","")&$B9),IF($A9="Squad",INDIRECT("'"&$A9&" Entries'!"&SUBSTITUTE(ADDRESS(1,IF(COLUMN(C$1)<6,COLUMN(C$1),COLUMN(C$1)-1),4),"1","")&$B9),INDIRECT("'"&$A9&" Entries'!"&SUBSTITUTE(ADDRESS(1,COLUMN(B$1),4),"1","")&$B9)))} -> 0 | D9: {=IF($A9="Trio",INDIRECT("'"&$A9&" Entries'!"&SUBSTITUTE(ADDRESS(1,IF(COLUMN(C$1)<5,COLUMN(C$1),COLUMN(C$1)-1),4),"1","")&$B9),IF($A9="Squad",INDIRECT("'"&$A9&" Entries'!"&SUBSTITUTE(ADDRESS(1,IF(COLUMN(D$1)<6,COLUMN(D$1),COLUMN(D$1)-1),4),"1","")&$B9),INDIRECT("'"&$A9&" Entries'!"&SUBSTITUTE(ADDRESS(1,COLUMN(C$1),4),"1","")&$B9)))} -> 0 | E9: {=IF($A9="Trio",INDIRECT("'"&$A9&" Entries'!"&SUBSTITUTE(ADDRESS(1,IF(COLUMN(D$1)<5,COLUMN(D$1),COLUMN(D$1)-1),4),"1","")&$B9),IF($A9="Squad",INDIRECT("'"&$A9&" Entries'!"&SUBSTITUTE(ADDRESS(1,IF(COLUMN(E$1)<6,COLUMN(E$1),COLUMN(E$1)-1),4),"1","")&$B9),INDIRECT("'"&$A9&" Entries'!"&SUBSTITUTE(ADDRESS(1,COLUMN(D$1),4),"1","")&$B9)))} -> 0 | F9: {=IF($A9="Trio",INDIRECT("'"&$A9&" Entries'!"&SUBSTITUTE(ADDRESS(1,IF(COLUMN(E$1)<5,COLUMN(E$1),COLUMN(E$1)-1),4),"1","")&$B9),IF($A9="Squad",INDIRECT("'"&$A9&" Entries'!"&SUBSTITUTE(ADDRESS(1,IF(COLUMN(F$1)<6,COLUMN(F$1),COLUMN(F$1)-1),4),"1","")&$B9),INDIRECT("'"&$A9&" Entries'!"&SUBSTITUTE(ADDRESS(1,COLUMN(E$1),4),"1","")&$B9)))} -> 0 | G9: {=IF($A9="Trio",INDIRECT("'"&$A9&" Entries'!"&SUBSTITUTE(ADDRESS(1,IF(COLUMN(F$1)<5,COLUMN(F$1),COLUMN(F$1)-1),4),"1","")&$B9),IF($A9="Squad",INDIRECT("'"&$A9&" Entries'!"&SUBSTITUTE(ADDRESS(1,IF(COLUMN(G$1)<6,COLUMN(G$1),COLUMN(G$1)-1),4),"1","")&$B9),INDIRECT("'"&$A9&" Entries'!"&SUBSTITUTE(ADDRESS(1,COLUMN(F$1),4),"1","")&$B9)))} -> 0 | H9: {=IF($A9="Trio",INDIRECT("'"&$A9&" Entries'!"&SUBSTITUTE(ADDRESS(1,IF(COLUMN(G$1)<5,COLUMN(G$1),COLUMN(G$1)-1),4),"1","")&$B9),IF($A9="Squad",INDIRECT("'"&$A9&" Entries'!"&SUBSTITUTE(ADDRESS(1,IF(COLUMN(H$1)<6,COLUMN(H$1),COLUMN(H$1)-1),4),"1","")&$B9),INDIRECT("'"&$A9&" Entries'!"&SUBSTITUTE(ADDRESS(1,COLUMN(G$1),4),"1","")&$B9)))} -> 0 | I9: {=IF($A9="Trio",INDIRECT("'"&$A9&" Entries'!"&SUBSTITUTE(ADDRESS(1,IF(COLUMN(H$1)<5,COLUMN(H$1),COLUMN(H$1)-1),4),"1","")&$B9),IF($A9="Squad",INDIRECT("'"&$A9&" Entries'!"&SUBSTITUTE(ADDRESS(1,IF(COLUMN(I$1)<6,COLUMN(I$1),COLUMN(I$1)-1),4),"1","")&$B9),INDIRECT("'"&$A9&" Entries'!"&SUBSTITUTE(ADDRESS(1,COLUMN(H$1),4),"1","")&$B9)))} -> 0 | J9: {=IF($A9="Trio",INDIRECT("'"&$A9&" Entries'!"&SUBSTITUTE(ADDRESS(1,IF(COLUMN(I$1)<5,COLUMN(I$1),COLUMN(I$1)-1),4),"1","")&$B9),IF($A9="Squad",INDIRECT("'"&$A9&" Entries'!"&SUBSTITUTE(ADDRESS(1,IF(COLUMN(J$1)<6,COLUMN(J$1),COLUMN(J$1)-1),4),"1","")&$B9),INDIRECT("'"&$A9&" Entries'!"&SUBSTITUTE(ADDRESS(1,COLUMN(I$1),4),"1","")&$B9)))} -> 0 | K9: =IF(C9=0,"",IF(COUNTIF($C$1:C9,"="&C9)>1,"",C9)) | L9: =IF(G9=0,"",IF(COUNTIF($G$1:G9,"="&G9)>1,"",G9)) | M9: =IF(I9=0,"",IF(COUNTIF($I$1:I9,"="&I9)>1,"",I9)) | N9: {=IFERROR(INDEX($K$2:$K$201,SMALL(IF($K$2:$K$201<>"",ROW($K$2:$K$201)-ROW($A$2)+1),ROWS($A$1:$A8))),"")} | O9: =IFERROR(VLOOKUP(N9,C:D,2,FALSE),"") | P9: =IFERROR(VLOOKUP(N9,C:F,4,FALSE),"") | Q9: {=IFERROR(INDEX($L$2:$L$201,SMALL(IF($L$2:$L$201<>"",ROW($L$2:$L$201)-ROW($A$2)+1),ROWS($A$1:$A8))),"")} | R9: =IFERROR(VLOOKUP(Q9,G:H,2,FALSE),"") | S9: {=IFERROR(INDEX($M$2:$M$201,SMALL(IF($M$2:$M$201<>"",ROW($M$2:$M$201)-ROW($A$2)+1),ROWS($A$1:$A8))),"")} | T9: =IFERROR(VLOOKUP(S9,I:J,2,FALSE),"")
A10: =VLOOKUP((ROUNDUP(ROW(A9)/50,0)),$X$1:$Y$6,2,FALSE) -> Individual | B10: =IF(ROW(B9)=1,2,IF(B9=51,2,B9+1)) -> 10 | C10: {=IF($A10="Trio",INDIRECT("'"&$A10&" Entries'!"&SUBSTITUTE(ADDRESS(1,IF(COLUMN(B$1)<5,COLUMN(B$1),COLUMN(B$1)-1),4),"1","")&$B10),IF($A10="Squad",INDIRECT("'"&$A10&" Entries'!"&SUBSTITUTE(ADDRESS(1,IF(COLUMN(C$1)<6,COLUMN(C$1),COLUMN(C$1)-1),4),"1","")&$B10),INDIRECT("'"&$A10&" Entries'!"&SUBSTITUTE(ADDRESS(1,COLUMN(B$1),4),"1","")&$B10)))} -> 0 | D10: {=IF($A10="Trio",INDIRECT("'"&$A10&" Entries'!"&SUBSTITUTE(ADDRESS(1,IF(COLUMN(C$1)<5,COLUMN(C$1),COLUMN(C$1)-1),4),"1","")&$B10),IF($A10="Squad",INDIRECT("'"&$A10&" Entries'!"&SUBSTITUTE(ADDRESS(1,IF(COLUMN(D$1)<6,COLUMN(D$1),COLUMN(D$1)-1),4),"1","")&$B10),INDIRECT("'"&$A10&" Entries'!"&SUBSTITUTE(ADDRESS(1,COLUMN(C$1),4),"1","")&$B10)))} -> 0 | E10: {=IF($A10="Trio",INDIRECT("'"&$A10&" Entries'!"&SUBSTITUTE(ADDRESS(1,IF(COLUMN(D$1)<5,COLUMN(D$1),COLUMN(D$1)-1),4),"1","")&$B10),IF($A10="Squad",INDIRECT("'"&$A10&" Entries'!"&SUBSTITUTE(ADDRESS(1,IF(COLUMN(E$1)<6,COLUMN(E$1),COLUMN(E$1)-1),4),"1","")&$B10),INDIRECT("'"&$A10&" Entries'!"&SUBSTITUTE(ADDRESS(1,COLUMN(D$1),4),"1","")&$B10)))} -> 0 | F10: {=IF($A10="Trio",INDIRECT("'"&$A10&" Entries'!"&SUBSTITUTE(ADDRESS(1,IF(COLUMN(E$1)<5,COLUMN(E$1),COLUMN(E$1)-1),4),"1","")&$B10),IF($A10="Squad",INDIRECT("'"&$A10&" Entries'!"&SUBSTITUTE(ADDRESS(1,IF(COLUMN(F$1)<6,COLUMN(F$1),COLUMN(F$1)-1),4),"1","")&$B10),INDIRECT("'"&$A10&" Entries'!"&SUBSTITUTE(ADDRESS(1,COLUMN(E$1),4),"1","")&$B10)))} -> 0 | G10: {=IF($A10="Trio",INDIRECT("'"&$A10&" Entries'!"&SUBSTITUTE(ADDRESS(1,IF(COLUMN(F$1)<5,COLUMN(F$1),COLUMN(F$1)-1),4),"1","")&$B10),IF($A10="Squad",INDIRECT("'"&$A10&" Entries'!"&SUBSTITUTE(ADDRESS(1,IF(COLUMN(G$1)<6,COLUMN(G$1),COLUMN(G$1)-1),4),"1","")&$B10),INDIRECT("'"&$A10&" Entries'!"&SUBSTITUTE(ADDRESS(1,COLUMN(F$1),4),"1","")&$B10)))} -> 0 | H10: {=IF($A10="Trio",INDIRECT("'"&$A10&" Entries'!"&SUBSTITUTE(ADDRESS(1,IF(COLUMN(G$1)<5,COLUMN(G$1),COLUMN(G$1)-1),4),"1","")&$B10),IF($A10="Squad",INDIRECT("'"&$A10&" Entries'!"&SUBSTITUTE(ADDRESS(1,IF(COLUMN(H$1)<6,COLUMN(H$1),COLUMN(H$1)-1),4),"1","")&$B10),INDIRECT("'"&$A10&" Entries'!"&SUBSTITUTE(ADDRESS(1,COLUMN(G$1),4),"1","")&$B10)))} -> 0 | I10: {=IF($A10="Trio",INDIRECT("'"&$A10&" Entries'!"&SUBSTITUTE(ADDRESS(1,IF(COLUMN(H$1)<5,COLUMN(H$1),COLUMN(H$1)-1),4),"1","")&$B10),IF($A10="Squad",INDIRECT("'"&$A10&" Entries'!"&SUBSTITUTE(ADDRESS(1,IF(COLUMN(I$1)<6,COLUMN(I$1),COLUMN(I$1)-1),4),"1","")&$B10),INDIRECT("'"&$A10&" Entries'!"&SUBSTITUTE(ADDRESS(1,COLUMN(H$1),4),"1","")&$B10)))} -> 0 | J10: {=IF($A10="Trio",INDIRECT("'"&$A10&" Entries'!"&SUBSTITUTE(ADDRESS(1,IF(COLUMN(I$1)<5,COLUMN(I$1),COLUMN(I$1)-1),4),"1","")&$B10),IF($A10="Squad",INDIRECT("'"&$A10&" Entries'!"&SUBSTITUTE(ADDRESS(1,IF(COLUMN(J$1)<6,COLUMN(J$1),COLUMN(J$1)-1),4),"1","")&$B10),INDIRECT("'"&$A10&" Entries'!"&SUBSTITUTE(ADDRESS(1,COLUMN(I$1),4),"1","")&$B10)))} -> 0 | K10: =IF(C10=0,"",IF(COUNTIF($C$1:C10,"="&C10)>1,"",C10)) | L10: =IF(G10=0,"",IF(COUNTIF($G$1:G10,"="&G10)>1,"",G10)) | M10: =IF(I10=0,"",IF(COUNTIF($I$1:I10,"="&I10)>1,"",I10)) | N10: {=IFERROR(INDEX($K$2:$K$201,SMALL(IF($K$2:$K$201<>"",ROW($K$2:$K$201)-ROW($A$2)+1),ROWS($A$1:$A9))),"")} | O10: =IFERROR(VLOOKUP(N10,C:D,2,FALSE),"") | P10: =IFERROR(VLOOKUP(N10,C:F,4,FALSE),"") | Q10: {=IFERROR(INDEX($L$2:$L$201,SMALL(IF($L$2:$L$201<>"",ROW($L$2:$L$201)-ROW($A$2)+1),ROWS($A$1:$A9))),"")} | R10: =IFERROR(VLOOKUP(Q10,G:H,2,FALSE),"") | S10: {=IFERROR(INDEX($M$2:$M$201,SMALL(IF($M$2:$M$201<>"",ROW($M$2:$M$201)-ROW($A$2)+1),ROWS($A$1:$A9))),"")} | T10: =IFERROR(VLOOKUP(S10,I:J,2,FALSE),"")
A11: =VLOOKUP((ROUNDUP(ROW(A10)/50,0)),$X$1:$Y$6,2,FALSE) -> Individual | B11: =IF(ROW(B10)=1,2,IF(B10=51,2,B10+1)) -> 11 | C11: {=IF($A11="Trio",INDIRECT("'"&$A11&" Entries'!"&SUBSTITUTE(ADDRESS(1,IF(COLUMN(B$1)<5,COLUMN(B$1),COLUMN(B$1)-1),4),"1","")&$B11),IF($A11="Squad",INDIRECT("'"&$A11&" Entries'!"&SUBSTITUTE(ADDRESS(1,IF(COLUMN(C$1)<6,COLUMN(C$1),COLUMN(C$1)-1),4),"1","")&$B11),INDIRECT("'"&$A11&" Entries'!"&SUBSTITUTE(ADDRESS(1,COLUMN(B$1),4),"1","")&$B11)))} -> 0 | D11: {=IF($A11="Trio",INDIRECT("'"&$A11&" Entries'!"&SUBSTITUTE(ADDRESS(1,IF(COLUMN(C$1)<5,COLUMN(C$1),COLUMN(C$1)-1),4),"1","")&$B11),IF($A11="Squad",INDIRECT("'"&$A11&" Entries'!"&SUBSTITUTE(ADDRESS(1,IF(COLUMN(D$1)<6,COLUMN(D$1),COLUMN(D$1)-1),4),"1","")&$B11),INDIRECT("'"&$A11&" Entries'!"&SUBSTITUTE(ADDRESS(1,COLUMN(C$1),4),"1","")&$B11)))} -> 0 | E11: {=IF($A11="Trio",INDIRECT("'"&$A11&" Entries'!"&SUBSTITUTE(ADDRESS(1,IF(COLUMN(D$1)<5,COLUMN(D$1),COLUMN(D$1)-1),4),"1","")&$B11),IF($A11="Squad",INDIRECT("'"&$A11&" Entries'!"&SUBSTITUTE(ADDRESS(1,IF(COLUMN(E$1)<6,COLUMN(E$1),COLUMN(E$1)-1),4),"1","")&$B11),INDIRECT("'"&$A11&" Entries'!"&SUBSTITUTE(ADDRESS(1,COLUMN(D$1),4),"1","")&$B11)))} -> 0 | F11: {=IF($A11="Trio",INDIRECT("'"&$A11&" Entries'!"&SUBSTITUTE(ADDRESS(1,IF(COLUMN(E$1)<5,COLUMN(E$1),COLUMN(E$1)-1),4),"1","")&$B11),IF($A11="Squad",INDIRECT("'"&$A11&" Entries'!"&SUBSTITUTE(ADDRESS(1,IF(COLUMN(F$1)<6,COLUMN(F$1),COLUMN(F$1)-1),4),"1","")&$B11),INDIRECT("'"&$A11&" Entries'!"&SUBSTITUTE(ADDRESS(1,COLUMN(E$1),4),"1","")&$B11)))} -> 0 | G11: {=IF($A11="Trio",INDIRECT("'"&$A11&" Entries'!"&SUBSTITUTE(ADDRESS(1,IF(COLUMN(F$1)<5,COLUMN(F$1),COLUMN(F$1)-1),4),"1","")&$B11),IF($A11="Squad",INDIRECT("'"&$A11&" Entries'!"&SUBSTITUTE(ADDRESS(1,IF(COLUMN(G$1)<6,COLUMN(G$1),COLUMN(G$1)-1),4),"1","")&$B11),INDIRECT("'"&$A11&" Entries'!"&SUBSTITUTE(ADDRESS(1,COLUMN(F$1),4),"1","")&$B11)))} -> 0 | H11: {=IF($A11="Trio",INDIRECT("'"&$A11&" Entries'!"&SUBSTITUTE(ADDRESS(1,IF(COLUMN(G$1)<5,COLUMN(G$1),COLUMN(G$1)-1),4),"1","")&$B11),IF($A11="Squad",INDIRECT("'"&$A11&" Entries'!"&SUBSTITUTE(ADDRESS(1,IF(COLUMN(H$1)<6,COLUMN(H$1),COLUMN(H$1)-1),4),"1","")&$B11),INDIRECT("'"&$A11&" Entries'!"&SUBSTITUTE(ADDRESS(1,COLUMN(G$1),4),"1","")&$B11)))} -> 0 | I11: {=IF($A11="Trio",INDIRECT("'"&$A11&" Entries'!"&SUBSTITUTE(ADDRESS(1,IF(COLUMN(H$1)<5,COLUMN(H$1),COLUMN(H$1)-1),4),"1","")&$B11),IF($A11="Squad",INDIRECT("'"&$A11&" Entries'!"&SUBSTITUTE(ADDRESS(1,IF(COLUMN(I$1)<6,COLUMN(I$1),COLUMN(I$1)-1),4),"1","")&$B11),INDIRECT("'"&$A11&" Entries'!"&SUBSTITUTE(ADDRESS(1,COLUMN(H$1),4),"1","")&$B11)))} -> 0 | J11: {=IF($A11="Trio",INDIRECT("'"&$A11&" Entries'!"&SUBSTITUTE(ADDRESS(1,IF(COLUMN(I$1)<5,COLUMN(I$1),COLUMN(I$1)-1),4),"1","")&$B11),IF($A11="Squad",INDIRECT("'"&$A11&" Entries'!"&SUBSTITUTE(ADDRESS(1,IF(COLUMN(J$1)<6,COLUMN(J$1),COLUMN(J$1)-1),4),"1","")&$B11),INDIRECT("'"&$A11&" Entries'!"&SUBSTITUTE(ADDRESS(1,COLUMN(I$1),4),"1","")&$B11)))} -> 0 | K11: =IF(C11=0,"",IF(COUNTIF($C$1:C11,"="&C11)>1,"",C11)) | L11: =IF(G11=0,"",IF(COUNTIF($G$1:G11,"="&G11)>1,"",G11)) | M11: =IF(I11=0,"",IF(COUNTIF($I$1:I11,"="&I11)>1,"",I11)) | N11: {=IFERROR(INDEX($K$2:$K$201,SMALL(IF($K$2:$K$201<>"",ROW($K$2:$K$201)-ROW($A$2)+1),ROWS($A$1:$A10))),"")} | O11: =IFERROR(VLOOKUP(N11,C:D,2,FALSE),"") | P11: =IFERROR(VLOOKUP(N11,C:F,4,FALSE),"") | Q11: {=IFERROR(INDEX($L$2:$L$201,SMALL(IF($L$2:$L$201<>"",ROW($L$2:$L$201)-ROW($A$2)+1),ROWS($A$1:$A10))),"")} | R11: =IFERROR(VLOOKUP(Q11,G:H,2,FALSE),"") | S11: {=IFERROR(INDEX($M$2:$M$201,SMALL(IF($M$2:$M$201<>"",ROW($M$2:$M$201)-ROW($A$2)+1),ROWS($A$1:$A10))),"")} | T11: =IFERROR(VLOOKUP(S11,I:J,2,FALSE),"")
A12: =VLOOKUP((ROUNDUP(ROW(A11)/50,0)),$X$1:$Y$6,2,FALSE) -> Individual | B12: =IF(ROW(B11)=1,2,IF(B11=51,2,B11+1)) -> 12 | C12: {=IF($A12="Trio",INDIRECT("'"&$A12&" Entries'!"&SUBSTITUTE(ADDRESS(1,IF(COLUMN(B$1)<5,COLUMN(B$1),COLUMN(B$1)-1),4),"1","")&$B12),IF($A12="Squad",INDIRECT("'"&$A12&" Entries'!"&SUBSTITUTE(ADDRESS(1,IF(COLUMN(C$1)<6,COLUMN(C$1),COLUMN(C$1)-1),4),"1","")&$B12),INDIRECT("'"&$A12&" Entries'!"&SUBSTITUTE(ADDRESS(1,COLUMN(B$1),4),"1","")&$B12)))} -> 0 | D12: {=IF($A12="Trio",INDIRECT("'"&$A12&" Entries'!"&SUBSTITUTE(ADDRESS(1,IF(COLUMN(C$1)<5,COLUMN(C$1),COLUMN(C$1)-1),4),"1","")&$B12),IF($A12="Squad",INDIRECT("'"&$A12&" Entries'!"&SUBSTITUTE(ADDRESS(1,IF(COLUMN(D$1)<6,COLUMN(D$1),COLUMN(D$1)-1),4),"1","")&$B12),INDIRECT("'"&$A12&" Entries'!"&SUBSTITUTE(ADDRESS(1,COLUMN(C$1),4),"1","")&$B12)))} -> 0 | E12: {=IF($A12="Trio",INDIRECT("'"&$A12&" Entries'!"&SUBSTITUTE(ADDRESS(1,IF(COLUMN(D$1)<5,COLUMN(D$1),COLUMN(D$1)-1),4),"1","")&$B12),IF($A12="Squad",INDIRECT("'"&$A12&" Entries'!"&SUBSTITUTE(ADDRESS(1,IF(COLUMN(E$1)<6,COLUMN(E$1),COLUMN(E$1)-1),4),"1","")&$B12),INDIRECT("'"&$A12&" Entries'!"&SUBSTITUTE(ADDRESS(1,COLUMN(D$1),4),"1","")&$B12)))} -> 0 | F12: {=IF($A12="Trio",INDIRECT("'"&$A12&" Entries'!"&SUBSTITUTE(ADDRESS(1,IF(COLUMN(E$1)<5,COLUMN(E$1),COLUMN(E$1)-1),4),"1","")&$B12),IF($A12="Squad",INDIRECT("'"&$A12&" Entries'!"&SUBSTITUTE(ADDRESS(1,IF(COLUMN(F$1)<6,COLUMN(F$1),COLUMN(F$1)-1),4),"1","")&$B12),INDIRECT("'"&$A12&" Entries'!"&SUBSTITUTE(ADDRESS(1,COLUMN(E$1),4),"1","")&$B12)))} -> 0 | G12: {=IF($A12="Trio",INDIRECT("'"&$A12&" Entries'!"&SUBSTITUTE(ADDRESS(1,IF(COLUMN(F$1)<5,COLUMN(F$1),COLUMN(F$1)-1),4),"1","")&$B12),IF($A12="Squad",INDIRECT("'"&$A12&" Entries'!"&SUBSTITUTE(ADDRESS(1,IF(COLUMN(G$1)<6,COLUMN(G$1),COLUMN(G$1)-1),4),"1","")&$B12),INDIRECT("'"&$A12&" Entries'!"&SUBSTITUTE(ADDRESS(1,COLUMN(F$1),4),"1","")&$B12)))} -> 0 | H12: {=IF($A12="Trio",INDIRECT("'"&$A12&" Entries'!"&SUBSTITUTE(ADDRESS(1,IF(COLUMN(G$1)<5,COLUMN(G$1),COLUMN(G$1)-1),4),"1","")&$B12),IF($A12="Squad",INDIRECT("'"&$A12&" Entries'!"&SUBSTITUTE(ADDRESS(1,IF(COLUMN(H$1)<6,COLUMN(H$1),COLUMN(H$1)-1),4),"1","")&$B12),INDIRECT("'"&$A12&" Entries'!"&SUBSTITUTE(ADDRESS(1,COLUMN(G$1),4),"1","")&$B12)))} -> 0 | I12: {=IF($A12="Trio",INDIRECT("'"&$A12&" Entries'!"&SUBSTITUTE(ADDRESS(1,IF(COLUMN(H$1)<5,COLUMN(H$1),COLUMN(H$1)-1),4),"1","")&$B12),IF($A12="Squad",INDIRECT("'"&$A12&" Entries'!"&SUBSTITUTE(ADDRESS(1,IF(COLUMN(I$1)<6,COLUMN(I$1),COLUMN(I$1)-1),4),"1","")&$B12),INDIRECT("'"&$A12&" Entries'!"&SUBSTITUTE(ADDRESS(1,COLUMN(H$1),4),"1","")&$B12)))} -> 0 | J12: {=IF($A12="Trio",INDIRECT("'"&$A12&" Entries'!"&SUBSTITUTE(ADDRESS(1,IF(COLUMN(I$1)<5,COLUMN(I$1),COLUMN(I$1)-1),4),"1","")&$B12),IF($A12="Squad",INDIRECT("'"&$A12&" Entries'!"&SUBSTITUTE(ADDRESS(1,IF(COLUMN(J$1)<6,COLUMN(J$1),COLUMN(J$1)-1),4),"1","")&$B12),INDIRECT("'"&$A12&" Entries'!"&SUBSTITUTE(ADDRESS(1,COLUMN(I$1),4),"1","")&$B12)))} -> 0 | K12: =IF(C12=0,"",IF(COUNTIF($C$1:C12,"="&C12)>1,"",C12)) | L12: =IF(G12=0,"",IF(COUNTIF($G$1:G12,"="&G12)>1,"",G12)) | M12: =IF(I12=0,"",IF(COUNTIF($I$1:I12,"="&I12)>1,"",I12)) | N12: {=IFERROR(INDEX($K$2:$K$201,SMALL(IF($K$2:$K$201<>"",ROW($K$2:$K$201)-ROW($A$2)+1),ROWS($A$1:$A11))),"")} | O12: =IFERROR(VLOOKUP(N12,C:D,2,FALSE),"") | P12: =IFERROR(VLOOKUP(N12,C:F,4,FALSE),"") | Q12: {=IFERROR(INDEX($L$2:$L$201,SMALL(IF($L$2:$L$201<>"",ROW($L$2:$L$201)-ROW($A$2)+1),ROWS($A$1:$A11))),"")} | R12: =IFERROR(VLOOKUP(Q12,G:H,2,FALSE),"") | S12: {=IFERROR(INDEX($M$2:$M$201,SMALL(IF($M$2:$M$201<>"",ROW($M$2:$M$201)-ROW($A$2)+1),ROWS($A$1:$A11))),"")} | T12: =IFERROR(VLOOKUP(S12,I:J,2,FALSE),"")
A13: =VLOOKUP((ROUNDUP(ROW(A12)/50,0)),$X$1:$Y$6,2,FALSE) -> Individual | B13: =IF(ROW(B12)=1,2,IF(B12=51,2,B12+1)) -> 13 | C13: {=IF($A13="Trio",INDIRECT("'"&$A13&" Entries'!"&SUBSTITUTE(ADDRESS(1,IF(COLUMN(B$1)<5,COLUMN(B$1),COLUMN(B$1)-1),4),"1","")&$B13),IF($A13="Squad",INDIRECT("'"&$A13&" Entries'!"&SUBSTITUTE(ADDRESS(1,IF(COLUMN(C$1)<6,COLUMN(C$1),COLUMN(C$1)-1),4),"1","")&$B13),INDIRECT("'"&$A13&" Entries'!"&SUBSTITUTE(ADDRESS(1,COLUMN(B$1),4),"1","")&$B13)))} -> 0 | D13: {=IF($A13="Trio",INDIRECT("'"&$A13&" Entries'!"&SUBSTITUTE(ADDRESS(1,IF(COLUMN(C$1)<5,COLUMN(C$1),COLUMN(C$1)-1),4),"1","")&$B13),IF($A13="Squad",INDIRECT("'"&$A13&" Entries'!"&SUBSTITUTE(ADDRESS(1,IF(COLUMN(D$1)<6,COLUMN(D$1),COLUMN(D$1)-1),4),"1","")&$B13),INDIRECT("'"&$A13&" Entries'!"&SUBSTITUTE(ADDRESS(1,COLUMN(C$1),4),"1","")&$B13)))} -> 0 | E13: {=IF($A13="Trio",INDIRECT("'"&$A13&" Entries'!"&SUBSTITUTE(ADDRESS(1,IF(COLUMN(D$1)<5,COLUMN(D$1),COLUMN(D$1)-1),4),"1","")&$B13),IF($A13="Squad",INDIRECT("'"&$A13&" Entries'!"&SUBSTITUTE(ADDRESS(1,IF(COLUMN(E$1)<6,COLUMN(E$1),COLUMN(E$1)-1),4),"1","")&$B13),INDIRECT("'"&$A13&" Entries'!"&SUBSTITUTE(ADDRESS(1,COLUMN(D$1),4),"1","")&$B13)))} -> 0 | F13: {=IF($A13="Trio",INDIRECT("'"&$A13&" Entries'!"&SUBSTITUTE(ADDRESS(1,IF(COLUMN(E$1)<5,COLUMN(E$1),COLUMN(E$1)-1),4),"1","")&$B13),IF($A13="Squad",INDIRECT("'"&$A13&" Entries'!"&SUBSTITUTE(ADDRESS(1,IF(COLUMN(F$1)<6,COLUMN(F$1),COLUMN(F$1)-1),4),"1","")&$B13),INDIRECT("'"&$A13&" Entries'!"&SUBSTITUTE(ADDRESS(1,COLUMN(E$1),4),"1","")&$B13)))} -> 0 | G13: {=IF($A13="Trio",INDIRECT("'"&$A13&" Entries'!"&SUBSTITUTE(ADDRESS(1,IF(COLUMN(F$1)<5,COLUMN(F$1),COLUMN(F$1)-1),4),"1","")&$B13),IF($A13="Squad",INDIRECT("'"&$A13&" Entries'!"&SUBSTITUTE(ADDRESS(1,IF(COLUMN(G$1)<6,COLUMN(G$1),COLUMN(G$1)-1),4),"1","")&$B13),INDIRECT("'"&$A13&" Entries'!"&SUBSTITUTE(ADDRESS(1,COLUMN(F$1),4),"1","")&$B13)))} -> 0 | H13: {=IF($A13="Trio",INDIRECT("'"&$A13&" Entries'!"&SUBSTITUTE(ADDRESS(1,IF(COLUMN(G$1)<5,COLUMN(G$1),COLUMN(G$1)-1),4),"1","")&$B13),IF($A13="Squad",INDIRECT("'"&$A13&" Entries'!"&SUBSTITUTE(ADDRESS(1,IF(COLUMN(H$1)<6,COLUMN(H$1),COLUMN(H$1)-1),4),"1","")&$B13),INDIRECT("'"&$A13&" Entries'!"&SUBSTITUTE(ADDRESS(1,COLUMN(G$1),4),"1","")&$B13)))} -> 0 | I13: {=IF($A13="Trio",INDIRECT("'"&$A13&" Entries'!"&SUBSTITUTE(ADDRESS(1,IF(COLUMN(H$1)<5,COLUMN(H$1),COLUMN(H$1)-1),4),"1","")&$B13),IF($A13="Squad",INDIRECT("'"&$A13&" Entries'!"&SUBSTITUTE(ADDRESS(1,IF(COLUMN(I$1)<6,COLUMN(I$1),COLUMN(I$1)-1),4),"1","")&$B13),INDIRECT("'"&$A13&" Entries'!"&SUBSTITUTE(ADDRESS(1,COLUMN(H$1),4),"1","")&$B13)))} -> 0 | J13: {=IF($A13="Trio",INDIRECT("'"&$A13&" Entries'!"&SUBSTITUTE(ADDRESS(1,IF(COLUMN(I$1)<5,COLUMN(I$1),COLUMN(I$1)-1),4),"1","")&$B13),IF($A13="Squad",INDIRECT("'"&$A13&" Entries'!"&SUBSTITUTE(ADDRESS(1,IF(COLUMN(J$1)<6,COLUMN(J$1),COLUMN(J$1)-1),4),"1","")&$B13),INDIRECT("'"&$A13&" Entries'!"&SUBSTITUTE(ADDRESS(1,COLUMN(I$1),4),"1","")&$B13)))} -> 0 | K13: =IF(C13=0,"",IF(COUNTIF($C$1:C13,"="&C13)>1,"",C13)) | L13: =IF(G13=0,"",IF(COUNTIF($G$1:G13,"="&G13)>1,"",G13)) | M13: =IF(I13=0,"",IF(COUNTIF($I$1:I13,"="&I13)>1,"",I13)) | N13: {=IFERROR(INDEX($K$2:$K$201,SMALL(IF($K$2:$K$201<>"",ROW($K$2:$K$201)-ROW($A$2)+1),ROWS($A$1:$A12))),"")} | O13: =IFERROR(VLOOKUP(N13,C:D,2,FALSE),"") | P13: =IFERROR(VLOOKUP(N13,C:F,4,FALSE),"") | Q13: {=IFERROR(INDEX($L$2:$L$201,SMALL(IF($L$2:$L$201<>"",ROW($L$2:$L$201)-ROW($A$2)+1),ROWS($A$1:$A12))),"")} | R13: =IFERROR(VLOOKUP(Q13,G:H,2,FALSE),"") | S13: {=IFERROR(INDEX($M$2:$M$201,SMALL(IF($M$2:$M$201<>"",ROW($M$2:$M$201)-ROW($A$2)+1),ROWS($A$1:$A12))),"")} | T13: =IFERROR(VLOOKUP(S13,I:J,2,FALSE),"")
A14: =VLOOKUP((ROUNDUP(ROW(A13)/50,0)),$X$1:$Y$6,2,FALSE) -> Individual | B14: =IF(ROW(B13)=1,2,IF(B13=51,2,B13+1)) -> 14 | C14: {=IF($A14="Trio",INDIRECT("'"&$A14&" Entries'!"&SUBSTITUTE(ADDRESS(1,IF(COLUMN(B$1)<5,COLUMN(B$1),COLUMN(B$1)-1),4),"1","")&$B14),IF($A14="Squad",INDIRECT("'"&$A14&" Entries'!"&SUBSTITUTE(ADDRESS(1,IF(COLUMN(C$1)<6,COLUMN(C$1),COLUMN(C$1)-1),4),"1","")&$B14),INDIRECT("'"&$A14&" Entries'!"&SUBSTITUTE(ADDRESS(1,COLUMN(B$1),4),"1","")&$B14)))} -> 0 | D14: {=IF($A14="Trio",INDIRECT("'"&$A14&" Entries'!"&SUBSTITUTE(ADDRESS(1,IF(COLUMN(C$1)<5,COLUMN(C$1),COLUMN(C$1)-1),4),"1","")&$B14),IF($A14="Squad",INDIRECT("'"&$A14&" Entries'!"&SUBSTITUTE(ADDRESS(1,IF(COLUMN(D$1)<6,COLUMN(D$1),COLUMN(D$1)-1),4),"1","")&$B14),INDIRECT("'"&$A14&" Entries'!"&SUBSTITUTE(ADDRESS(1,COLUMN(C$1),4),"1","")&$B14)))} -> 0 | E14: {=IF($A14="Trio",INDIRECT("'"&$A14&" Entries'!"&SUBSTITUTE(ADDRESS(1,IF(COLUMN(D$1)<5,COLUMN(D$1),COLUMN(D$1)-1),4),"1","")&$B14),IF($A14="Squad",INDIRECT("'"&$A14&" Entries'!"&SUBSTITUTE(ADDRESS(1,IF(COLUMN(E$1)<6,COLUMN(E$1),COLUMN(E$1)-1),4),"1","")&$B14),INDIRECT("'"&$A14&" Entries'!"&SUBSTITUTE(ADDRESS(1,COLUMN(D$1),4),"1","")&$B14)))} -> 0 | F14: {=IF($A14="Trio",INDIRECT("'"&$A14&" Entries'!"&SUBSTITUTE(ADDRESS(1,IF(COLUMN(E$1)<5,COLUMN(E$1),COLUMN(E$1)-1),4),"1","")&$B14),IF($A14="Squad",INDIRECT("'"&$A14&" Entries'!"&SUBSTITUTE(ADDRESS(1,IF(COLUMN(F$1)<6,COLUMN(F$1),COLUMN(F$1)-1),4),"1","")&$B14),INDIRECT("'"&$A14&" Entries'!"&SUBSTITUTE(ADDRESS(1,COLUMN(E$1),4),"1","")&$B14)))} -> 0 | G14: {=IF($A14="Trio",INDIRECT("'"&$A14&" Entries'!"&SUBSTITUTE(ADDRESS(1,IF(COLUMN(F$1)<5,COLUMN(F$1),COLUMN(F$1)-1),4),"1","")&$B14),IF($A14="Squad",INDIRECT("'"&$A14&" Entries'!"&SUBSTITUTE(ADDRESS(1,IF(COLUMN(G$1)<6,COLUMN(G$1),COLUMN(G$1)-1),4),"1","")&$B14),INDIRECT("'"&$A14&" Entries'!"&SUBSTITUTE(ADDRESS(1,COLUMN(F$1),4),"1","")&$B14)))} -> 0 | H14: {=IF($A14="Trio",INDIRECT("'"&$A14&" Entries'!"&SUBSTITUTE(ADDRESS(1,IF(COLUMN(G$1)<5,COLUMN(G$1),COLUMN(G$1)-1),4),"1","")&$B14),IF($A14="Squad",INDIRECT("'"&$A14&" Entries'!"&SUBSTITUTE(ADDRESS(1,IF(COLUMN(H$1)<6,COLUMN(H$1),COLUMN(H$1)-1),4),"1","")&$B14),INDIRECT("'"&$A14&" Entries'!"&SUBSTITUTE(ADDRESS(1,COLUMN(G$1),4),"1","")&$B14)))} -> 0 | I14: {=IF($A14="Trio",INDIRECT("'"&$A14&" Entries'!"&SUBSTITUTE(ADDRESS(1,IF(COLUMN(H$1)<5,COLUMN(H$1),COLUMN(H$1)-1),4),"1","")&$B14),IF($A14="Squad",INDIRECT("'"&$A14&" Entries'!"&SUBSTITUTE(ADDRESS(1,IF(COLUMN(I$1)<6,COLUMN(I$1),COLUMN(I$1)-1),4),"1","")&$B14),INDIRECT("'"&$A14&" Entries'!"&SUBSTITUTE(ADDRESS(1,COLUMN(H$1),4),"1","")&$B14)))} -> 0 | J14: {=IF($A14="Trio",INDIRECT("'"&$A14&" Entries'!"&SUBSTITUTE(ADDRESS(1,IF(COLUMN(I$1)<5,COLUMN(I$1),COLUMN(I$1)-1),4),"1","")&$B14),IF($A14="Squad",INDIRECT("'"&$A14&" Entries'!"&SUBSTITUTE(ADDRESS(1,IF(COLUMN(J$1)<6,COLUMN(J$1),COLUMN(J$1)-1),4),"1","")&$B14),INDIRECT("'"&$A14&" Entries'!"&SUBSTITUTE(ADDRESS(1,COLUMN(I$1),4),"1","")&$B14)))} -> 0 | K14: =IF(C14=0,"",IF(COUNTIF($C$1:C14,"="&C14)>1,"",C14)) | L14: =IF(G14=0,"",IF(COUNTIF($G$1:G14,"="&G14)>1,"",G14)) | M14: =IF(I14=0,"",IF(COUNTIF($I$1:I14,"="&I14)>1,"",I14)) | N14: {=IFERROR(INDEX($K$2:$K$201,SMALL(IF($K$2:$K$201<>"",ROW($K$2:$K$201)-ROW($A$2)+1),ROWS($A$1:$A13))),"")} | O14: =IFERROR(VLOOKUP(N14,C:D,2,FALSE),"") | P14: =IFERROR(VLOOKUP(N14,C:F,4,FALSE),"") | Q14: {=IFERROR(INDEX($L$2:$L$201,SMALL(IF($L$2:$L$201<>"",ROW($L$2:$L$201)-ROW($A$2)+1),ROWS($A$1:$A13))),"")} | R14: =IFERROR(VLOOKUP(Q14,G:H,2,FALSE),"") | S14: {=IFERROR(INDEX($M$2:$M$201,SMALL(IF($M$2:$M$201<>"",ROW($M$2:$M$201)-ROW($A$2)+1),ROWS($A$1:$A13))),"")} | T14: =IFERROR(VLOOKUP(S14,I:J,2,FALSE),"")
A15: =VLOOKUP((ROUNDUP(ROW(A14)/50,0)),$X$1:$Y$6,2,FALSE) -> Individual | B15: =IF(ROW(B14)=1,2,IF(B14=51,2,B14+1)) -> 15 | C15: {=IF($A15="Trio",INDIRECT("'"&$A15&" Entries'!"&SUBSTITUTE(ADDRESS(1,IF(COLUMN(B$1)<5,COLUMN(B$1),COLUMN(B$1)-1),4),"1","")&$B15),IF($A15="Squad",INDIRECT("'"&$A15&" Entries'!"&SUBSTITUTE(ADDRESS(1,IF(COLUMN(C$1)<6,COLUMN(C$1),COLUMN(C$1)-1),4),"1","")&$B15),INDIRECT("'"&$A15&" Entries'!"&SUBSTITUTE(ADDRESS(1,COLUMN(B$1),4),"1","")&$B15)))} -> 0 | D15: {=IF($A15="Trio",INDIRECT("'"&$A15&" Entries'!"&SUBSTITUTE(ADDRESS(1,IF(COLUMN(C$1)<5,COLUMN(C$1),COLUMN(C$1)-1),4),"1","")&$B15),IF($A15="Squad",INDIRECT("'"&$A15&" Entries'!"&SUBSTITUTE(ADDRESS(1,IF(COLUMN(D$1)<6,COLUMN(D$1),COLUMN(D$1)-1),4),"1","")&$B15),INDIRECT("'"&$A15&" Entries'!"&SUBSTITUTE(ADDRESS(1,COLUMN(C$1),4),"1","")&$B15)))} -> 0 | E15: {=IF($A15="Trio",INDIRECT("'"&$A15&" Entries'!"&SUBSTITUTE(ADDRESS(1,IF(COLUMN(D$1)<5,COLUMN(D$1),COLUMN(D$1)-1),4),"1","")&$B15),IF($A15="Squad",INDIRECT("'"&$A15&" Entries'!"&SUBSTITUTE(ADDRESS(1,IF(COLUMN(E$1)<6,COLUMN(E$1),COLUMN(E$1)-1),4),"1","")&$B15),INDIRECT("'"&$A15&" Entries'!"&SUBSTITUTE(ADDRESS(1,COLUMN(D$1),4),"1","")&$B15)))} -> 0 | F15: {=IF($A15="Trio",INDIRECT("'"&$A15&" Entries'!"&SUBSTITUTE(ADDRESS(1,IF(COLUMN(E$1)<5,COLUMN(E$1),COLUMN(E$1)-1),4),"1","")&$B15),IF($A15="Squad",INDIRECT("'"&$A15&" Entries'!"&SUBSTITUTE(ADDRESS(1,IF(COLUMN(F$1)<6,COLUMN(F$1),COLUMN(F$1)-1),4),"1","")&$B15),INDIRECT("'"&$A15&" Entries'!"&SUBSTITUTE(ADDRESS(1,COLUMN(E$1),4),"1","")&$B15)))} -> 0 | G15: {=IF($A15="Trio",INDIRECT("'"&$A15&" Entries'!"&SUBSTITUTE(ADDRESS(1,IF(COLUMN(F$1)<5,COLUMN(F$1),COLUMN(F$1)-1),4),"1","")&$B15),IF($A15="Squad",INDIRECT("'"&$A15&" Entries'!"&SUBSTITUTE(ADDRESS(1,IF(COLUMN(G$1)<6,COLUMN(G$1),COLUMN(G$1)-1),4),"1","")&$B15),INDIRECT("'"&$A15&" Entries'!"&SUBSTITUTE(ADDRESS(1,COLUMN(F$1),4),"1","")&$B15)))} -> 0 | H15: {=IF($A15="Trio",INDIRECT("'"&$A15&" Entries'!"&SUBSTITUTE(ADDRESS(1,IF(COLUMN(G$1)<5,COLUMN(G$1),COLUMN(G$1)-1),4),"1","")&$B15),IF($A15="Squad",INDIRECT("'"&$A15&" Entries'!"&SUBSTITUTE(ADDRESS(1,IF(COLUMN(H$1)<6,COLUMN(H$1),COLUMN(H$1)-1),4),"1","")&$B15),INDIRECT("'"&$A15&" Entries'!"&SUBSTITUTE(ADDRESS(1,COLUMN(G$1),4),"1","")&$B15)))} -> 0 | I15: {=IF($A15="Trio",INDIRECT("'"&$A15&" Entries'!"&SUBSTITUTE(ADDRESS(1,IF(COLUMN(H$1)<5,COLUMN(H$1),COLUMN(H$1)-1),4),"1","")&$B15),IF($A15="Squad",INDIRECT("'"&$A15&" Entries'!"&SUBSTITUTE(ADDRESS(1,IF(COLUMN(I$1)<6,COLUMN(I$1),COLUMN(I$1)-1),4),"1","")&$B15),INDIRECT("'"&$A15&" Entries'!"&SUBSTITUTE(ADDRESS(1,COLUMN(H$1),4),"1","")&$B15)))} -> 0 | J15: {=IF($A15="Trio",INDIRECT("'"&$A15&" Entries'!"&SUBSTITUTE(ADDRESS(1,IF(COLUMN(I$1)<5,COLUMN(I$1),COLUMN(I$1)-1),4),"1","")&$B15),IF($A15="Squad",INDIRECT("'"&$A15&" Entries'!"&SUBSTITUTE(ADDRESS(1,IF(COLUMN(J$1)<6,COLUMN(J$1),COLUMN(J$1)-1),4),"1","")&$B15),INDIRECT("'"&$A15&" Entries'!"&SUBSTITUTE(ADDRESS(1,COLUMN(I$1),4),"1","")&$B15)))} -> 0 | K15: =IF(C15=0,"",IF(COUNTIF($C$1:C15,"="&C15)>1,"",C15)) | L15: =IF(G15=0,"",IF(COUNTIF($G$1:G15,"="&G15)>1,"",G15)) | M15: =IF(I15=0,"",IF(COUNTIF($I$1:I15,"="&I15)>1,"",I15)) | N15: {=IFERROR(INDEX($K$2:$K$201,SMALL(IF($K$2:$K$201<>"",ROW($K$2:$K$201)-ROW($A$2)+1),ROWS($A$1:$A14))),"")} | O15: =IFERROR(VLOOKUP(N15,C:D,2,FALSE),"") | P15: =IFERROR(VLOOKUP(N15,C:F,4,FALSE),"") | Q15: {=IFERROR(INDEX($L$2:$L$201,SMALL(IF($L$2:$L$201<>"",ROW($L$2:$L$201)-ROW($A$2)+1),ROWS($A$1:$A14))),"")} | R15: =IFERROR(VLOOKUP(Q15,G:H,2,FALSE),"") | S15: {=IFERROR(INDEX($M$2:$M$201,SMALL(IF($M$2:$M$201<>"",ROW($M$2:$M$201)-ROW($A$2)+1),ROWS($A$1:$A14))),"")} | T15: =IFERROR(VLOOKUP(S15,I:J,2,FALSE),"")
A16: =VLOOKUP((ROUNDUP(ROW(A15)/50,0)),$X$1:$Y$6,2,FALSE) -> Individual | B16: =IF(ROW(B15)=1,2,IF(B15=51,2,B15+1)) -> 16 | C16: {=IF($A16="Trio",INDIRECT("'"&$A16&" Entries'!"&SUBSTITUTE(ADDRESS(1,IF(COLUMN(B$1)<5,COLUMN(B$1),COLUMN(B$1)-1),4),"1","")&$B16),IF($A16="Squad",INDIRECT("'"&$A16&" Entries'!"&SUBSTITUTE(ADDRESS(1,IF(COLUMN(C$1)<6,COLUMN(C$1),COLUMN(C$1)-1),4),"1","")&$B16),INDIRECT("'"&$A16&" Entries'!"&SUBSTITUTE(ADDRESS(1,COLUMN(B$1),4),"1","")&$B16)))} -> 0 | D16: {=IF($A16="Trio",INDIRECT("'"&$A16&" Entries'!"&SUBSTITUTE(ADDRESS(1,IF(COLUMN(C$1)<5,COLUMN(C$1),COLUMN(C$1)-1),4),"1","")&$B16),IF($A16="Squad",INDIRECT("'"&$A16&" Entries'!"&SUBSTITUTE(ADDRESS(1,IF(COLUMN(D$1)<6,COLUMN(D$1),COLUMN(D$1)-1),4),"1","")&$B16),INDIRECT("'"&$A16&" Entries'!"&SUBSTITUTE(ADDRESS(1,COLUMN(C$1),4),"1","")&$B16)))} -> 0 | E16: {=IF($A16="Trio",INDIRECT("'"&$A16&" Entries'!"&SUBSTITUTE(ADDRESS(1,IF(COLUMN(D$1)<5,COLUMN(D$1),COLUMN(D$1)-1),4),"1","")&$B16),IF($A16="Squad",INDIRECT("'"&$A16&" Entries'!"&SUBSTITUTE(ADDRESS(1,IF(COLUMN(E$1)<6,COLUMN(E$1),COLUMN(E$1)-1),4),"1","")&$B16),INDIRECT("'"&$A16&" Entries'!"&SUBSTITUTE(ADDRESS(1,COLUMN(D$1),4),"1","")&$B16)))} -> 0 | F16: {=IF($A16="Trio",INDIRECT("'"&$A16&" Entries'!"&SUBSTITUTE(ADDRESS(1,IF(COLUMN(E$1)<5,COLUMN(E$1),COLUMN(E$1)-1),4),"1","")&$B16),IF($A16="Squad",INDIRECT("'"&$A16&" Entries'!"&SUBSTITUTE(ADDRESS(1,IF(COLUMN(F$1)<6,COLUMN(F$1),COLUMN(F$1)-1),4),"1","")&$B16),INDIRECT("'"&$A16&" Entries'!"&SUBSTITUTE(ADDRESS(1,COLUMN(E$1),4),"1","")&$B16)))} -> 0 | G16: {=IF($A16="Trio",INDIRECT("'"&$A16&" Entries'!"&SUBSTITUTE(ADDRESS(1,IF(COLUMN(F$1)<5,COLUMN(F$1),COLUMN(F$1)-1),4),"1","")&$B16),IF($A16="Squad",INDIRECT("'"&$A16&" Entries'!"&SUBSTITUTE(ADDRESS(1,IF(COLUMN(G$1)<6,COLUMN(G$1),COLUMN(G$1)-1),4),"1","")&$B16),INDIRECT("'"&$A16&" Entries'!"&SUBSTITUTE(ADDRESS(1,COLUMN(F$1),4),"1","")&$B16)))} -> 0 | H16: {=IF($A16="Trio",INDIRECT("'"&$A16&" Entries'!"&SUBSTITUTE(ADDRESS(1,IF(COLUMN(G$1)<5,COLUMN(G$1),COLUMN(G$1)-1),4),"1","")&$B16),IF($A16="Squad",INDIRECT("'"&$A16&" Entries'!"&SUBSTITUTE(ADDRESS(1,IF(COLUMN(H$1)<6,COLUMN(H$1),COLUMN(H$1)-1),4),"1","")&$B16),INDIRECT("'"&$A16&" Entries'!"&SUBSTITUTE(ADDRESS(1,COLUMN(G$1),4),"1","")&$B16)))} -> 0 | I16: {=IF($A16="Trio",INDIRECT("'"&$A16&" Entries'!"&SUBSTITUTE(ADDRESS(1,IF(COLUMN(H$1)<5,COLUMN(H$1),COLUMN(H$1)-1),4),"1","")&$B16),IF($A16="Squad",INDIRECT("'"&$A16&" Entries'!"&SUBSTITUTE(ADDRESS(1,IF(COLUMN(I$1)<6,COLUMN(I$1),COLUMN(I$1)-1),4),"1","")&$B16),INDIRECT("'"&$A16&" Entries'!"&SUBSTITUTE(ADDRESS(1,COLUMN(H$1),4),"1","")&$B16)))} -> 0 | J16: {=IF($A16="Trio",INDIRECT("'"&$A16&" Entries'!"&SUBSTITUTE(ADDRESS(1,IF(COLUMN(I$1)<5,COLUMN(I$1),COLUMN(I$1)-1),4),"1","")&$B16),IF($A16="Squad",INDIRECT("'"&$A16&" Entries'!"&SUBSTITUTE(ADDRESS(1,IF(COLUMN(J$1)<6,COLUMN(J$1),COLUMN(J$1)-1),4),"1","")&$B16),INDIRECT("'"&$A16&" Entries'!"&SUBSTITUTE(ADDRESS(1,COLUMN(I$1),4),"1","")&$B16)))} -> 0 | K16: =IF(C16=0,"",IF(COUNTIF($C$1:C16,"="&C16)>1,"",C16)) | L16: =IF(G16=0,"",IF(COUNTIF($G$1:G16,"="&G16)>1,"",G16)) | M16: =IF(I16=0,"",IF(COUNTIF($I$1:I16,"="&I16)>1,"",I16)) | N16: {=IFERROR(INDEX($K$2:$K$201,SMALL(IF($K$2:$K$201<>"",ROW($K$2:$K$201)-ROW($A$2)+1),ROWS($A$1:$A15))),"")} | O16: =IFERROR(VLOOKUP(N16,C:D,2,FALSE),"") | P16: =IFERROR(VLOOKUP(N16,C:F,4,FALSE),"") | Q16: {=IFERROR(INDEX($L$2:$L$201,SMALL(IF($L$2:$L$201<>"",ROW($L$2:$L$201)-ROW($A$2)+1),ROWS($A$1:$A15))),"")} | R16: =IFERROR(VLOOKUP(Q16,G:H,2,FALSE),"") | S16: {=IFERROR(INDEX($M$2:$M$201,SMALL(IF($M$2:$M$201<>"",ROW($M$2:$M$201)-ROW($A$2)+1),ROWS($A$1:$A15))),"")} | T16: =IFERROR(VLOOKUP(S16,I:J,2,FALSE),"")
A17: =VLOOKUP((ROUNDUP(ROW(A16)/50,0)),$X$1:$Y$6,2,FALSE) -> Individual | B17: =IF(ROW(B16)=1,2,IF(B16=51,2,B16+1)) -> 17 | C17: {=IF($A17="Trio",INDIRECT("'"&$A17&" Entries'!"&SUBSTITUTE(ADDRESS(1,IF(COLUMN(B$1)<5,COLUMN(B$1),COLUMN(B$1)-1),4),"1","")&$B17),IF($A17="Squad",INDIRECT("'"&$A17&" Entries'!"&SUBSTITUTE(ADDRESS(1,IF(COLUMN(C$1)<6,COLUMN(C$1),COLUMN(C$1)-1),4),"1","")&$B17),INDIRECT("'"&$A17&" Entries'!"&SUBSTITUTE(ADDRESS(1,COLUMN(B$1),4),"1","")&$B17)))} -> 0 | D17: {=IF($A17="Trio",INDIRECT("'"&$A17&" Entries'!"&SUBSTITUTE(ADDRESS(1,IF(COLUMN(C$1)<5,COLUMN(C$1),COLUMN(C$1)-1),4),"1","")&$B17),IF($A17="Squad",INDIRECT("'"&$A17&" Entries'!"&SUBSTITUTE(ADDRESS(1,IF(COLUMN(D$1)<6,COLUMN(D$1),COLUMN(D$1)-1),4),"1","")&$B17),INDIRECT("'"&$A17&" Entries'!"&SUBSTITUTE(ADDRESS(1,COLUMN(C$1),4),"1","")&$B17)))} -> 0 | E17: {=IF($A17="Trio",INDIRECT("'"&$A17&" Entries'!"&SUBSTITUTE(ADDRESS(1,IF(COLUMN(D$1)<5,COLUMN(D$1),COLUMN(D$1)-1),4),"1","")&$B17),IF($A17="Squad",INDIRECT("'"&$A17&" Entries'!"&SUBSTITUTE(ADDRESS(1,IF(COLUMN(E$1)<6,COLUMN(E$1),COLUMN(E$1)-1),4),"1","")&$B17),INDIRECT("'"&$A17&" Entries'!"&SUBSTITUTE(ADDRESS(1,COLUMN(D$1),4),"1","")&$B17)))} -> 0 | F17: {=IF($A17="Trio",INDIRECT("'"&$A17&" Entries'!"&SUBSTITUTE(ADDRESS(1,IF(COLUMN(E$1)<5,COLUMN(E$1),COLUMN(E$1)-1),4),"1","")&$B17),IF($A17="Squad",INDIRECT("'"&$A17&" Entries'!"&SUBSTITUTE(ADDRESS(1,IF(COLUMN(F$1)<6,COLUMN(F$1),COLUMN(F$1)-1),4),"1","")&$B17),INDIRECT("'"&$A17&" Entries'!"&SUBSTITUTE(ADDRESS(1,COLUMN(E$1),4),"1","")&$B17)))} -> 0 | G17: {=IF($A17="Trio",INDIRECT("'"&$A17&" Entries'!"&SUBSTITUTE(ADDRESS(1,IF(COLUMN(F$1)<5,COLUMN(F$1),COLUMN(F$1)-1),4),"1","")&$B17),IF($A17="Squad",INDIRECT("'"&$A17&" Entries'!"&SUBSTITUTE(ADDRESS(1,IF(COLUMN(G$1)<6,COLUMN(G$1),COLUMN(G$1)-1),4),"1","")&$B17),INDIRECT("'"&$A17&" Entries'!"&SUBSTITUTE(ADDRESS(1,COLUMN(F$1),4),"1","")&$B17)))} -> 0 | H17: {=IF($A17="Trio",INDIRECT("'"&$A17&" Entries'!"&SUBSTITUTE(ADDRESS(1,IF(COLUMN(G$1)<5,COLUMN(G$1),COLUMN(G$1)-1),4),"1","")&$B17),IF($A17="Squad",INDIRECT("'"&$A17&" Entries'!"&SUBSTITUTE(ADDRESS(1,IF(COLUMN(H$1)<6,COLUMN(H$1),COLUMN(H$1)-1),4),"1","")&$B17),INDIRECT("'"&$A17&" Entries'!"&SUBSTITUTE(ADDRESS(1,COLUMN(G$1),4),"1","")&$B17)))} -> 0 | I17: {=IF($A17="Trio",INDIRECT("'"&$A17&" Entries'!"&SUBSTITUTE(ADDRESS(1,IF(COLUMN(H$1)<5,COLUMN(H$1),COLUMN(H$1)-1),4),"1","")&$B17),IF($A17="Squad",INDIRECT("'"&$A17&" Entries'!"&SUBSTITUTE(ADDRESS(1,IF(COLUMN(I$1)<6,COLUMN(I$1),COLUMN(I$1)-1),4),"1","")&$B17),INDIRECT("'"&$A17&" Entries'!"&SUBSTITUTE(ADDRESS(1,COLUMN(H$1),4),"1","")&$B17)))} -> 0 | J17: {=IF($A17="Trio",INDIRECT("'"&$A17&" Entries'!"&SUBSTITUTE(ADDRESS(1,IF(COLUMN(I$1)<5,COLUMN(I$1),COLUMN(I$1)-1),4),"1","")&$B17),IF($A17="Squad",INDIRECT("'"&$A17&" Entries'!"&SUBSTITUTE(ADDRESS(1,IF(COLUMN(J$1)<6,COLUMN(J$1),COLUMN(J$1)-1),4),"1","")&$B17),INDIRECT("'"&$A17&" Entries'!"&SUBSTITUTE(ADDRESS(1,COLUMN(I$1),4),"1","")&$B17)))} -> 0 | K17: =IF(C17=0,"",IF(COUNTIF($C$1:C17,"="&C17)>1,"",C17)) | L17: =IF(G17=0,"",IF(COUNTIF($G$1:G17,"="&G17)>1,"",G17)) | M17: =IF(I17=0,"",IF(COUNTIF($I$1:I17,"="&I17)>1,"",I17)) | N17: {=IFERROR(INDEX($K$2:$K$201,SMALL(IF($K$2:$K$201<>"",ROW($K$2:$K$201)-ROW($A$2)+1),ROWS($A$1:$A16))),"")} | O17: =IFERROR(VLOOKUP(N17,C:D,2,FALSE),"") | P17: =IFERROR(VLOOKUP(N17,C:F,4,FALSE),"") | Q17: {=IFERROR(INDEX($L$2:$L$201,SMALL(IF($L$2:$L$201<>"",ROW($L$2:$L$201)-ROW($A$2)+1),ROWS($A$1:$A16))),"")} | R17: =IFERROR(VLOOKUP(Q17,G:H,2,FALSE),"") | S17: {=IFERROR(INDEX($M$2:$M$201,SMALL(IF($M$2:$M$201<>"",ROW($M$2:$M$201)-ROW($A$2)+1),ROWS($A$1:$A16))),"")} | T17: =IFERROR(VLOOKUP(S17,I:J,2,FALSE),"")
... A201: =VLOOKUP((ROUNDUP(ROW(A200)/50,0)),$X$1:$Y$6,2,FALSE) -> Squad | B201: =IF(ROW(B200)=1,2,IF(B200=51,2,B200+1)) -> 51 | C201: {=IF($A201="Trio",INDIRECT("'"&$A201&" Entries'!"&SUBSTITUTE(ADDRESS(1,IF(COLUMN(B$1)<5,COLUMN(B$1),COLUMN(B$1)-1),4),"1","")&$B201),IF($A201="Squad",INDIRECT("'"&$A201&" Entries'!"&SUBSTITUTE(ADDRESS(1,IF(COLUMN(C$1)<6,COLUMN(C$1),COLUMN(C$1)-1),4),"1","")&$B201),INDIRECT("'"&$A201&" Entries'!"&SUBSTITUTE(ADDRESS(1,COLUMN(B$1),4),"1","")&$B201)))} -> 0 | D201: {=IF($A201="Trio",INDIRECT("'"&$A201&" Entries'!"&SUBSTITUTE(ADDRESS(1,IF(COLUMN(C$1)<5,COLUMN(C$1),COLUMN(C$1)-1),4),"1","")&$B201),IF($A201="Squad",INDIRECT("'"&$A201&" Entries'!"&SUBSTITUTE(ADDRESS(1,IF(COLUMN(D$1)<6,COLUMN(D$1),COLUMN(D$1)-1),4),"1","")&$B201),INDIRECT("'"&$A201&" Entries'!"&SUBSTITUTE(ADDRESS(1,COLUMN(C$1),4),"1","")&$B201)))} -> 0 | E201: {=IF($A201="Trio",INDIRECT("'"&$A201&" Entries'!"&SUBSTITUTE(ADDRESS(1,IF(COLUMN(D$1)<5,COLUMN(D$1),COLUMN(D$1)-1),4),"1","")&$B201),IF($A201="Squad",INDIRECT("'"&$A201&" Entries'!"&SUBSTITUTE(ADDRESS(1,IF(COLUMN(E$1)<6,COLUMN(E$1),COLUMN(E$1)-1),4),"1","")&$B201),INDIRECT("'"&$A201&" Entries'!"&SUBSTITUTE(ADDRESS(1,COLUMN(D$1),4),"1","")&$B201)))} -> 0 | F201: {=IF($A201="Trio",INDIRECT("'"&$A201&" Entries'!"&SUBSTITUTE(ADDRESS(1,IF(COLUMN(E$1)<5,COLUMN(E$1),COLUMN(E$1)-1),4),"1","")&$B201),IF($A201="Squad",INDIRECT("'"&$A201&" Entries'!"&SUBSTITUTE(ADDRESS(1,IF(COLUMN(F$1)<6,COLUMN(F$1),COLUMN(F$1)-1),4),"1","")&$B201),INDIRECT("'"&$A201&" Entries'!"&SUBSTITUTE(ADDRESS(1,COLUMN(E$1),4),"1","")&$B201)))} -> 0 | G201: {=IF($A201="Trio",INDIRECT("'"&$A201&" Entries'!"&SUBSTITUTE(ADDRESS(1,IF(COLUMN(F$1)<5,COLUMN(F$1),COLUMN(F$1)-1),4),"1","")&$B201),IF($A201="Squad",INDIRECT("'"&$A201&" Entries'!"&SUBSTITUTE(ADDRESS(1,IF(COLUMN(G$1)<6,COLUMN(G$1),COLUMN(G$1)-1),4),"1","")&$B201),INDIRECT("'"&$A201&" Entries'!"&SUBSTITUTE(ADDRESS(1,COLUMN(F$1),4),"1","")&$B201)))} -> 0 | H201: {=IF($A201="Trio",INDIRECT("'"&$A201&" Entries'!"&SUBSTITUTE(ADDRESS(1,IF(COLUMN(G$1)<5,COLUMN(G$1),COLUMN(G$1)-1),4),"1","")&$B201),IF($A201="Squad",INDIRECT("'"&$A201&" Entries'!"&SUBSTITUTE(ADDRESS(1,IF(COLUMN(H$1)<6,COLUMN(H$1),COLUMN(H$1)-1),4),"1","")&$B201),INDIRECT("'"&$A201&" Entries'!"&SUBSTITUTE(ADDRESS(1,COLUMN(G$1),4),"1","")&$B201)))} -> 0 | I201: {=IF($A201="Trio",INDIRECT("'"&$A201&" Entries'!"&SUBSTITUTE(ADDRESS(1,IF(COLUMN(H$1)<5,COLUMN(H$1),COLUMN(H$1)-1),4),"1","")&$B201),IF($A201="Squad",INDIRECT("'"&$A201&" Entries'!"&SUBSTITUTE(ADDRESS(1,IF(COLUMN(I$1)<6,COLUMN(I$1),COLUMN(I$1)-1),4),"1","")&$B201),INDIRECT("'"&$A201&" Entries'!"&SUBSTITUTE(ADDRESS(1,COLUMN(H$1),4),"1","")&$B201)))} -> 0 | J201: {=IF($A201="Trio",INDIRECT("'"&$A201&" Entries'!"&SUBSTITUTE(ADDRESS(1,IF(COLUMN(I$1)<5,COLUMN(I$1),COLUMN(I$1)-1),4),"1","")&$B201),IF($A201="Squad",INDIRECT("'"&$A201&" Entries'!"&SUBSTITUTE(ADDRESS(1,IF(COLUMN(J$1)<6,COLUMN(J$1),COLUMN(J$1)-1),4),"1","")&$B201),INDIRECT("'"&$A201&" Entries'!"&SUBSTITUTE(ADDRESS(1,COLUMN(I$1),4),"1","")&$B201)))} -> 0 | K201: =IF(C201=0,"",IF(COUNTIF($C$1:C201,"="&C201)>1,"",C201)) | L201: =IF(G201=0,"",IF(COUNTIF($G$1:G201,"="&G201)>1,"",G201)) | M201: =IF(I201=0,"",IF(COUNTIF($I$1:I201,"="&I201)>1,"",I201)) | N201: {=IFERROR(INDEX($K$2:$K$201,SMALL(IF($K$2:$K$201<>"",ROW($K$2:$K$201)-ROW($A$2)+1),ROWS($A$1:$A200))),"")} | O201: =IFERROR(VLOOKUP(N201,C:D,2,FALSE),"") | P201: =IFERROR(VLOOKUP(N201,C:F,4,FALSE),"") | Q201: {=IFERROR(INDEX($L$2:$L$201,SMALL(IF($L$2:$L$201<>"",ROW($L$2:$L$201)-ROW($A$2)+1),ROWS($A$1:$A200))),"")} | R201: =IFERROR(VLOOKUP(Q201,G:H,2,FALSE),"") | S201: {=IFERROR(INDEX($M$2:$M$201,SMALL(IF($M$2:$M$201<>"",ROW($M$2:$M$201)-ROW($A$2)+1),ROWS($A$1:$A200))),"")} | T201: =IFERROR(VLOOKUP(S201,I:J,2,FALSE),"")

Sheet Entry Transfer
A1: Club | B1: Class | C1: Squad Name | D1: Vaulter Name | E1: Age (Jan 1st) | F1: Gender | G1: BEV # | H1: Horse | I1: BEV # | J1: Lunger | K1: BEV # | L1: Fee
A2: =IF(B2="","",'Entry Approval'!$C$25) | B2: =IF('Individual Entries'!A2="","",'Individual Entries'!A2) | D2: =IF('Individual Entries'!B2="","",'Individual Entries'!B2) | E2: =IF('Individual Entries'!C2="","",'Individual Entries'!C2) | F2: =IF('Individual Entries'!D2="","",'Individual Entries'!D2) | G2: =IF('Individual Entries'!E2="","",'Individual Entries'!E2) | H2: =IF('Individual Entries'!F2="","",'Individual Entries'!F2) | I2: =IF('Individual Entries'!G2="","",'Individual Entries'!G2) | J2: =IF('Individual Entries'!H2="","",'Individual Entries'!H2) | K2: =IF('Individual Entries'!I2="","",'Individual Entries'!I2) | L2: =IF('Individual Entries'!J2="","",'Individual Entries'!J2)
A3: =IF(B3="","",'Entry Approval'!$C$25) | B3: =IF('Individual Entries'!A3="","",'Individual Entries'!A3) | D3: =IF('Individual Entries'!B3="","",'Individual Entries'!B3) | E3: =IF('Individual Entries'!C3="","",'Individual Entries'!C3) | F3: =IF('Individual Entries'!D3="","",'Individual Entries'!D3) | G3: =IF('Individual Entries'!E3="","",'Individual Entries'!E3) | H3: =IF('Individual Entries'!F3="","",'Individual Entries'!F3) | I3: =IF('Individual Entries'!G3="","",'Individual Entries'!G3) | J3: =IF('Individual Entries'!H3="","",'Individual Entries'!H3) | K3: =IF('Individual Entries'!I3="","",'Individual Entries'!I3) | L3: =IF('Individual Entries'!J3="","",'Individual Entries'!J3)
A4: =IF(B4="","",'Entry Approval'!$C$25) | B4: =IF('Individual Entries'!A4="","",'Individual Entries'!A4) | D4: =IF('Individual Entries'!B4="","",'Individual Entries'!B4) | E4: =IF('Individual Entries'!C4="","",'Individual Entries'!C4) | F4: =IF('Individual Entries'!D4="","",'Individual Entries'!D4) | G4: =IF('Individual Entries'!E4="","",'Individual Entries'!E4) | H4: =IF('Individual Entries'!F4="","",'Individual Entries'!F4) | I4: =IF('Individual Entries'!G4="","",'Individual Entries'!G4) | J4: =IF('Individual Entries'!H4="","",'Individual Entries'!H4) | K4: =IF('Individual Entries'!I4="","",'Individual Entries'!I4) | L4: =IF('Individual Entries'!J4="","",'Individual Entries'!J4)
A5: =IF(B5="","",'Entry Approval'!$C$25) | B5: =IF('Individual Entries'!A5="","",'Individual Entries'!A5) | D5: =IF('Individual Entries'!B5="","",'Individual Entries'!B5) | E5: =IF('Individual Entries'!C5="","",'Individual Entries'!C5) | F5: =IF('Individual Entries'!D5="","",'Individual Entries'!D5) | G5: =IF('Individual Entries'!E5="","",'Individual Entries'!E5) | H5: =IF('Individual Entries'!F5="","",'Individual Entries'!F5) | I5: =IF('Individual Entries'!G5="","",'Individual Entries'!G5) | J5: =IF('Individual Entries'!H5="","",'Individual Entries'!H5) | K5: =IF('Individual Entries'!I5="","",'Individual Entries'!I5) | L5: =IF('Individual Entries'!J5="","",'Individual Entries'!J5)
A6: =IF(B6="","",'Entry Approval'!$C$25) | B6: =IF('Individual Entries'!A6="","",'Individual Entries'!A6) | D6: =IF('Individual Entries'!B6="","",'Individual Entries'!B6) | E6: =IF('Individual Entries'!C6="","",'Individual Entries'!C6) | F6: =IF('Individual Entries'!D6="","",'Individual Entries'!D6) | G6: =IF('Individual Entries'!E6="","",'Individual Entries'!E6) | H6: =IF('Individual Entries'!F6="","",'Individual Entries'!F6) | I6: =IF('Individual Entries'!G6="","",'Individual Entries'!G6) | J6: =IF('Individual Entries'!H6="","",'Individual Entries'!H6) | K6: =IF('Individual Entries'!I6="","",'Individual Entries'!I6) | L6: =IF('Individual Entries'!J6="","",'Individual Entries'!J6)
A7: =IF(B7="","",'Entry Approval'!$C$25) | B7: =IF('Individual Entries'!A7="","",'Individual Entries'!A7) | D7: =IF('Individual Entries'!B7="","",'Individual Entries'!B7) | E7: =IF('Individual Entries'!C7="","",'Individual Entries'!C7) | F7: =IF('Individual Entries'!D7="","",'Individual Entries'!D7) | G7: =IF('Individual Entries'!E7="","",'Individual Entries'!E7) | H7: =IF('Individual Entries'!F7="","",'Individual Entries'!F7) | I7: =IF('Individual Entries'!G7="","",'Individual Entries'!G7) | J7: =IF('Individual Entries'!H7="","",'Individual Entries'!H7) | K7: =IF('Individual Entries'!I7="","",'Individual Entries'!I7) | L7: =IF('Individual Entries'!J7="","",'Individual Entries'!J7)
A8: =IF(B8="","",'Entry Approval'!$C$25) | B8: =IF('Individual Entries'!A8="","",'Individual Entries'!A8) | D8: =IF('Individual Entries'!B8="","",'Individual Entries'!B8) | E8: =IF('Individual Entries'!C8="","",'Individual Entries'!C8) | F8: =IF('Individual Entries'!D8="","",'Individual Entries'!D8) | G8: =IF('Individual Entries'!E8="","",'Individual Entries'!E8) | H8: =IF('Individual Entries'!F8="","",'Individual Entries'!F8) | I8: =IF('Individual Entries'!G8="","",'Individual Entries'!G8) | J8: =IF('Individual Entries'!H8="","",'Individual Entries'!H8) | K8: =IF('Individual Entries'!I8="","",'Individual Entries'!I8) | L8: =IF('Individual Entries'!J8="","",'Individual Entries'!J8)
A9: =IF(B9="","",'Entry Approval'!$C$25) | B9: =IF('Individual Entries'!A9="","",'Individual Entries'!A9) | D9: =IF('Individual Entries'!B9="","",'Individual Entries'!B9) | E9: =IF('Individual Entries'!C9="","",'Individual Entries'!C9) | F9: =IF('Individual Entries'!D9="","",'Individual Entries'!D9) | G9: =IF('Individual Entries'!E9="","",'Individual Entries'!E9) | H9: =IF('Individual Entries'!F9="","",'Individual Entries'!F9) | I9: =IF('Individual Entries'!G9="","",'Individual Entries'!G9) | J9: =IF('Individual Entries'!H9="","",'Individual Entries'!H9) | K9: =IF('Individual Entries'!I9="","",'Individual Entries'!I9) | L9: =IF('Individual Entries'!J9="","",'Individual Entries'!J9)
A10: =IF(B10="","",'Entry Approval'!$C$25) | B10: =IF('Individual Entries'!A10="","",'Individual Entries'!A10) | D10: =IF('Individual Entries'!B10="","",'Individual Entries'!B10) | E10: =IF('Individual Entries'!C10="","",'Individual Entries'!C10) | F10: =IF('Individual Entries'!D10="","",'Individual Entries'!D10) | G10: =IF('Individual Entries'!E10="","",'Individual Entries'!E10) | H10: =IF('Individual Entries'!F10="","",'Individual Entries'!F10) | I10: =IF('Individual Entries'!G10="","",'Individual Entries'!G10) | J10: =IF('Individual Entries'!H10="","",'Individual Entries'!H10) | K10: =IF('Individual Entries'!I10="","",'Individual Entries'!I10) | L10: =IF('Individual Entries'!J10="","",'Individual Entries'!J10)
A11: =IF(B11="","",'Entry Approval'!$C$25) | B11: =IF('Individual Entries'!A11="","",'Individual Entries'!A11) | D11: =IF('Individual Entries'!B11="","",'Individual Entries'!B11) | E11: =IF('Individual Entries'!C11="","",'Individual Entries'!C11) | F11: =IF('Individual Entries'!D11="","",'Individual Entries'!D11) | G11: =IF('Individual Entries'!E11="","",'Individual Entries'!E11) | H11: =IF('Individual Entries'!F11="","",'Individual Entries'!F11) | I11: =IF('Individual Entries'!G11="","",'Individual Entries'!G11) | J11: =IF('Individual Entries'!H11="","",'Individual Entries'!H11) | K11: =IF('Individual Entries'!I11="","",'Individual Entries'!I11) | L11: =IF('Individual Entries'!J11="","",'Individual Entries'!J11)
A12: =IF(B12="","",'Entry Approval'!$C$25) | B12: =IF('Individual Entries'!A12="","",'Individual Entries'!A12) | D12: =IF('Individual Entries'!B12="","",'Individual Entries'!B12) | E12: =IF('Individual Entries'!C12="","",'Individual Entries'!C12) | F12: =IF('Individual Entries'!D12="","",'Individual Entries'!D12) | G12: =IF('Individual Entries'!E12="","",'Individual Entries'!E12) | H12: =IF('Individual Entries'!F12="","",'Individual Entries'!F12) | I12: =IF('Individual Entries'!G12="","",'Individual Entries'!G12) | J12: =IF('Individual Entries'!H12="","",'Individual Entries'!H12) | K12: =IF('Individual Entries'!I12="","",'Individual Entries'!I12) | L12: =IF('Individual Entries'!J12="","",'Individual Entries'!J12)
A13: =IF(B13="","",'Entry Approval'!$C$25) | B13: =IF('Individual Entries'!A13="","",'Individual Entries'!A13) | D13: =IF('Individual Entries'!B13="","",'Individual Entries'!B13) | E13: =IF('Individual Entries'!C13="","",'Individual Entries'!C13) | F13: =IF('Individual Entries'!D13="","",'Individual Entries'!D13) | G13: =IF('Individual Entries'!E13="","",'Individual Entries'!E13) | H13: =IF('Individual Entries'!F13="","",'Individual Entries'!F13) | I13: =IF('Individual Entries'!G13="","",'Individual Entries'!G13) | J13: =IF('Individual Entries'!H13="","",'Individual Entries'!H13) | K13: =IF('Individual Entries'!I13="","",'Individual Entries'!I13) | L13: =IF('Individual Entries'!J13="","",'Individual Entries'!J13)
... A50: =IF(B50="","",'Entry Approval'!$C$25) | B50: =IF('Individual Entries'!A50="","",'Individual Entries'!A50) | D50: =IF('Individual Entries'!B50="","",'Individual Entries'!B50) | E50: =IF('Individual Entries'!C50="","",'Individual Entries'!C50) | F50: =IF('Individual Entries'!D50="","",'Individual Entries'!D50) | G50: =IF('Individual Entries'!E50="","",'Individual Entries'!E50) | H50: =IF('Individual Entries'!F50="","",'Individual Entries'!F50) | I50: =IF('Individual Entries'!G50="","",'Individual Entries'!G50) | J50: =IF('Individual Entries'!H50="","",'Individual Entries'!H50) | K50: =IF('Individual Entries'!I50="","",'Individual Entries'!I50) | L50: =IF('Individual Entries'!J50="","",'Individual Entries'!J50)
A51: =IF(B51="","",'Entry Approval'!$C$25) | B51: =IF('Pas De Deux Entries'!A2="","",'Pas De Deux Entries'!A2) | D51: =IF('Pas De Deux Entries'!B2="","",'Pas De Deux Entries'!B2) | E51: =IF('Pas De Deux Entries'!C2="","",'Pas De Deux Entries'!C2) | F51: =IF('Pas De Deux Entries'!D2="","",'Pas De Deux Entries'!D2) | G51: =IF('Pas De Deux Entries'!E2="","",'Pas De Deux Entries'!E2) | H51: =IF('Pas De Deux Entries'!F2="","",'Pas De Deux Entries'!F2) | I51: =IF('Pas De Deux Entries'!G2="","",'Pas De Deux Entries'!G2) | J51: =IF('Pas De Deux Entries'!H2="","",'Pas De Deux Entries'!H2) | K51: =IF('Pas De Deux Entries'!I2="","",'Pas De Deux Entries'!I2) | L51: =IF('Pas De Deux Entries'!J2="","",'Pas De Deux Entries'!J2)
A52: =IF(B52="","",'Entry Approval'!$C$25) | B52: =IF('Pas De Deux Entries'!A3="","",'Pas De Deux Entries'!A3) | D52: =IF('Pas De Deux Entries'!B3="","",'Pas De Deux Entries'!B3) | E52: =IF('Pas De Deux Entries'!C3="","",'Pas De Deux Entries'!C3) | F52: =IF('Pas De Deux Entries'!D3="","",'Pas De Deux Entries'!D3) | G52: =IF('Pas De Deux Entries'!E3="","",'Pas De Deux Entries'!E3) | H52: =IF('Pas De Deux Entries'!F3="","",'Pas De Deux Entries'!F3) | I52: =IF('Pas De Deux Entries'!G3="","",'Pas De Deux Entries'!G3) | J52: =IF('Pas De Deux Entries'!H3="","",'Pas De Deux Entries'!H3) | K52: =IF('Pas De Deux Entries'!I3="","",'Pas De Deux Entries'!I3) | L52: =IF('Pas De Deux Entries'!J3="","",'Pas De Deux Entries'!J3)
A53: =IF(B53="","",'Entry Approval'!$C$25) | B53: =IF('Pas De Deux Entries'!A4="","",'Pas De Deux Entries'!A4) | D53: =IF('Pas De Deux Entries'!B4="","",'Pas De Deux Entries'!B4) | E53: =IF('Pas De Deux Entries'!C4="","",'Pas De Deux Entries'!C4) | F53: =IF('Pas De Deux Entries'!D4="","",'Pas De Deux Entries'!D4) | G53: =IF('Pas De Deux Entries'!E4="","",'Pas De Deux Entries'!E4) | H53: =IF('Pas De Deux Entries'!F4="","",'Pas De Deux Entries'!F4) | I53: =IF('Pas De Deux Entries'!G4="","",'Pas De Deux Entries'!G4) | J53: =IF('Pas De Deux Entries'!H4="","",'Pas De Deux Entries'!H4) | K53: =IF('Pas De Deux Entries'!I4="","",'Pas De Deux Entries'!I4) | L53: =IF('Pas De Deux Entries'!J4="","",'Pas De Deux Entries'!J4)
A54: =IF(B54="","",'Entry Approval'!$C$25) | B54: =IF('Pas De Deux Entries'!A5="","",'Pas De Deux Entries'!A5) | D54: =IF('Pas De Deux Entries'!B5="","",'Pas De Deux Entries'!B5) | E54: =IF('Pas De Deux Entries'!C5="","",'Pas De Deux Entries'!C5) | F54: =IF('Pas De Deux Entries'!D5="","",'Pas De Deux Entries'!D5) | G54: =IF('Pas De Deux Entries'!E5="","",'Pas De Deux Entries'!E5) | H54: =IF('Pas De Deux Entries'!F5="","",'Pas De Deux Entries'!F5) | I54: =IF('Pas De Deux Entries'!G5="","",'Pas De Deux Entries'!G5) | J54: =IF('Pas De Deux Entries'!H5="","",'Pas De Deux Entries'!H5) | K54: =IF('Pas De Deux Entries'!I5="","",'Pas De Deux Entries'!I5) | L54: =IF('Pas De Deux Entries'!J5="","",'Pas De Deux Entries'!J5)
A55: =IF(B55="","",'Entry Approval'!$C$25) | B55: =IF('Pas De Deux Entries'!A6="","",'Pas De Deux Entries'!A6) | D55: =IF('Pas De Deux Entries'!B6="","",'Pas De Deux Entries'!B6) | E55: =IF('Pas De Deux Entries'!C6="","",'Pas De Deux Entries'!C6) | F55: =IF('Pas De Deux Entries'!D6="","",'Pas De Deux Entries'!D6) | G55: =IF('Pas De Deux Entries'!E6="","",'Pas De Deux Entries'!E6) | H55: =IF('Pas De Deux Entries'!F6="","",'Pas De Deux Entries'!F6) | I55: =IF('Pas De Deux Entries'!G6="","",'Pas De Deux Entries'!G6) | J55: =IF('Pas De Deux Entries'!H6="","",'Pas De Deux Entries'!H6) | K55: =IF('Pas De Deux Entries'!I6="","",'Pas De Deux Entries'!I6) | L55: =IF('Pas De Deux Entries'!J6="","",'Pas De Deux Entries'!J6)
A56: =IF(B56="","",'Entry Approval'!$C$25) | B56: =IF('Pas De Deux Entries'!A7="","",'Pas De Deux Entries'!A7) | D56: =IF('Pas De Deux Entries'!B7="","",'Pas De Deux Entries'!B7) | E56: =IF('Pas De Deux Entries'!C7="","",'Pas De Deux Entries'!C7) | F56: =IF('Pas De Deux Entries'!D7="","",'Pas De Deux Entries'!D7) | G56: =IF('Pas De Deux Entries'!E7="","",'Pas De Deux Entries'!E7) | H56: =IF('Pas De Deux Entries'!F7="","",'Pas De Deux Entries'!F7) | I56: =IF('Pas De Deux Entries'!G7="","",'Pas De Deux Entries'!G7) | J56: =IF('Pas De Deux Entries'!H7="","",'Pas De Deux Entries'!H7) | K56: =IF('Pas De Deux Entries'!I7="","",'Pas De Deux Entries'!I7) | L56: =IF('Pas De Deux Entries'!J7="","",'Pas De Deux Entries'!J7)
A57: =IF(B57="","",'Entry Approval'!$C$25) | B57: =IF('Pas De Deux Entries'!A8="","",'Pas De Deux Entries'!A8) | D57: =IF('Pas De Deux Entries'!B8="","",'Pas De Deux Entries'!B8) | E57: =IF('Pas De Deux Entries'!C8="","",'Pas De Deux Entries'!C8) | F57: =IF('Pas De Deux Entries'!D8="","",'Pas De Deux Entries'!D8) | G57: =IF('Pas De Deux Entries'!E8="","",'Pas De Deux Entries'!E8) | H57: =IF('Pas De Deux Entries'!F8="","",'Pas De Deux Entries'!F8) | I57: =IF('Pas De Deux Entries'!G8="","",'Pas De Deux Entries'!G8) | J57: =IF('Pas De Deux Entries'!H8="","",'Pas De Deux Entries'!H8) | K57: =IF('Pas De Deux Entries'!I8="","",'Pas De Deux Entries'!I8) | L57: =IF('Pas De Deux Entries'!J8="","",'Pas De Deux Entries'!J8)
A58: =IF(B58="","",'Entry Approval'!$C$25) | B58: =IF('Pas De Deux Entries'!A9="","",'Pas De Deux Entries'!A9) | D58: =IF('Pas De Deux Entries'!B9="","",'Pas De Deux Entries'!B9) | E58: =IF('Pas De Deux Entries'!C9="","",'Pas De Deux Entries'!C9) | F58: =IF('Pas De Deux Entries'!D9="","",'Pas De Deux Entries'!D9) | G58: =IF('Pas De Deux Entries'!E9="","",'Pas De Deux Entries'!E9) | H58: =IF('Pas De Deux Entries'!F9="","",'Pas De Deux Entries'!F9) | I58: =IF('Pas De Deux Entries'!G9="","",'Pas De Deux Entries'!G9) | J58: =IF('Pas De Deux Entries'!H9="","",'Pas De Deux Entries'!H9) | K58: =IF('Pas De Deux Entries'!I9="","",'Pas De Deux Entries'!I9) | L58: =IF('Pas De Deux Entries'!J9="","",'Pas De Deux Entries'!J9)
A59: =IF(B59="","",'Entry Approval'!$C$25) | B59: =IF('Pas De Deux Entries'!A10="","",'Pas De Deux Entries'!A10) | D59: =IF('Pas De Deux Entries'!B10="","",'Pas De Deux Entries'!B10) | E59: =IF('Pas De Deux Entries'!C10="","",'Pas De Deux Entries'!C10) | F59: =IF('Pas De Deux Entries'!D10="","",'Pas De Deux Entries'!D10) | G59: =IF('Pas De Deux Entries'!E10="","",'Pas De Deux Entries'!E10) | H59: =IF('Pas De Deux Entries'!F10="","",'Pas De Deux Entries'!F10) | I59: =IF('Pas De Deux Entries'!G10="","",'Pas De Deux Entries'!G10) | J59: =IF('Pas De Deux Entries'!H10="","",'Pas De Deux Entries'!H10) | K59: =IF('Pas De Deux Entries'!I10="","",'Pas De Deux Entries'!I10) | L59: =IF('Pas De Deux Entries'!J10="","",'Pas De Deux Entries'!J10)
A60: =IF(B60="","",'Entry Approval'!$C$25) | B60: =IF('Pas De Deux Entries'!A11="","",'Pas De Deux Entries'!A11) | D60: =IF('Pas De Deux Entries'!B11="","",'Pas De Deux Entries'!B11) | E60: =IF('Pas De Deux Entries'!C11="","",'Pas De Deux Entries'!C11) | F60: =IF('Pas De Deux Entries'!D11="","",'Pas De Deux Entries'!D11) | G60: =IF('Pas De Deux Entries'!E11="","",'Pas De Deux Entries'!E11) | H60: =IF('Pas De Deux Entries'!F11="","",'Pas De Deux Entries'!F11) | I60: =IF('Pas De Deux Entries'!G11="","",'Pas De Deux Entries'!G11) | J60: =IF('Pas De Deux Entries'!H11="","",'Pas De Deux Entries'!H11) | K60: =IF('Pas De Deux Entries'!I11="","",'Pas De Deux Entries'!I11) | L60: =IF('Pas De Deux Entries'!J11="","",'Pas De Deux Entries'!J11)
A61: =IF(B61="","",'Entry Approval'!$C$25) | B61: =IF('Pas De Deux Entries'!A12="","",'Pas De Deux Entries'!A12) | D61: =IF('Pas De Deux Entries'!B12="","",'Pas De Deux Entries'!B12) | E61: =IF('Pas De Deux Entries'!C12="","",'Pas De Deux Entries'!C12) | F61: =IF('Pas De Deux Entries'!D12="","",'Pas De Deux Entries'!D12) | G61: =IF('Pas De Deux Entries'!E12="","",'Pas De Deux Entries'!E12) | H61: =IF('Pas De Deux Entries'!F12="","",'Pas De Deux Entries'!F12) | I61: =IF('Pas De Deux Entries'!G12="","",'Pas De Deux Entries'!G12) | J61: =IF('Pas De Deux Entries'!H12="","",'Pas De Deux Entries'!H12) | K61: =IF('Pas De Deux Entries'!I12="","",'Pas De Deux Entries'!I12) | L61: =IF('Pas De Deux Entries'!J12="","",'Pas De Deux Entries'!J12)
A62: =IF(B62="","",'Entry Approval'!$C$25) | B62: =IF('Pas De Deux Entries'!A13="","",'Pas De Deux Entries'!A13) | D62: =IF('Pas De Deux Entries'!B13="","",'Pas De Deux Entries'!B13) | E62: =IF('Pas De Deux Entries'!C13="","",'Pas De Deux Entries'!C13) | F62: =IF('Pas De Deux Entries'!D13="","",'Pas De Deux Entries'!D13) | G62: =IF('Pas De Deux Entries'!E13="","",'Pas De Deux Entries'!E13) | H62: =IF('Pas De Deux Entries'!F13="","",'Pas De Deux Entries'!F13) | I62: =IF('Pas De Deux Entries'!G13="","",'Pas De Deux Entries'!G13) | J62: =IF('Pas De Deux Entries'!H13="","",'Pas De Deux Entries'!H13) | K62: =IF('Pas De Deux Entries'!I13="","",'Pas De Deux Entries'!I13) | L62: =IF('Pas De Deux Entries'!J13="","",'Pas De Deux Entries'!J13)
... A100: =IF(B100="","",'Entry Approval'!$C$25) | B100: =IF('Pas De Deux Entries'!A51="","",'Pas De Deux Entries'!A51) | D100: =IF('Pas De Deux Entries'!B51="","",'Pas De Deux Entries'!B51) | E100: =IF('Pas De Deux Entries'!C51="","",'Pas De Deux Entries'!C51) | F100: =IF('Pas De Deux Entries'!D51="","",'Pas De Deux Entries'!D51) | G100: =IF('Pas De Deux Entries'!E51="","",'Pas De Deux Entries'!E51) | H100: =IF('Pas De Deux Entries'!F51="","",'Pas De Deux Entries'!F51) | I100: =IF('Pas De Deux Entries'!G51="","",'Pas De Deux Entries'!G51) | J100: =IF('Pas De Deux Entries'!H51="","",'Pas De Deux Entries'!H51) | K100: =IF('Pas De Deux Entries'!I51="","",'Pas De Deux Entries'!I51) | L100: =IF('Pas De Deux Entries'!J51="","",'Pas De Deux Entries'!J51)
A101: =IF(B101="","",'Entry Approval'!$C$25) | B101: =IF('Squad Entries'!A2="","",'Squad Entries'!A2) | D101: =IF('Squad Entries'!B2="","",'Squad Entries'!B2) | E101: =IF('Squad Entries'!C2="","",'Squad Entries'!C2) | F101: =IF('Squad Entries'!D2="","",'Squad Entries'!D2) | G101: =IF('Squad Entries'!E2="","",'Squad Entries'!E2) | H101: =IF('Squad Entries'!F2="","",'Squad Entries'!F2) | I101: =IF('Squad Entries'!G2="","",'Squad Entries'!G2) | J101: =IF('Squad Entries'!H2="","",'Squad Entries'!H2) | K101: =IF('Squad Entries'!I2="","",'Squad Entries'!I2) | L101: =IF('Squad Entries'!J2="","",'Squad Entries'!J2)
A102: =IF(B102="","",'Entry Approval'!$C$25) | B102: =IF('Squad Entries'!A3="","",'Squad Entries'!A3) | D102: =IF('Squad Entries'!B3="","",'Squad Entries'!B3) | E102: =IF('Squad Entries'!C3="","",'Squad Entries'!C3) | F102: =IF('Squad Entries'!D3="","",'Squad Entries'!D3) | G102: =IF('Squad Entries'!E3="","",'Squad Entries'!E3) | H102: =IF('Squad Entries'!F3="","",'Squad Entries'!F3) | I102: =IF('Squad Entries'!G3="","",'Squad Entries'!G3) | J102: =IF('Squad Entries'!H3="","",'Squad Entries'!H3) | K102: =IF('Squad Entries'!I3="","",'Squad Entries'!I3) | L102: =IF('Squad Entries'!J3="","",'Squad Entries'!J3)
A103: =IF(B103="","",'Entry Approval'!$C$25) | B103: =IF('Squad Entries'!A4="","",'Squad Entries'!A4) | D103: =IF('Squad Entries'!B4="","",'Squad Entries'!B4) | E103: =IF('Squad Entries'!C4="","",'Squad Entries'!C4) | F103: =IF('Squad Entries'!D4="","",'Squad Entries'!D4) | G103: =IF('Squad Entries'!E4="","",'Squad Entries'!E4) | H103: =IF('Squad Entries'!F4="","",'Squad Entries'!F4) | I103: =IF('Squad Entries'!G4="","",'Squad Entries'!G4) | J103: =IF('Squad Entries'!H4="","",'Squad Entries'!H4) | K103: =IF('Squad Entries'!I4="","",'Squad Entries'!I4) | L103: =IF('Squad Entries'!J4="","",'Squad Entries'!J4)
A104: =IF(B104="","",'Entry Approval'!$C$25) | B104: =IF('Squad Entries'!A5="","",'Squad Entries'!A5) | D104: =IF('Squad Entries'!B5="","",'Squad Entries'!B5) | E104: =IF('Squad Entries'!C5="","",'Squad Entries'!C5) | F104: =IF('Squad Entries'!D5="","",'Squad Entries'!D5) | G104: =IF('Squad Entries'!E5="","",'Squad Entries'!E5) | H104: =IF('Squad Entries'!F5="","",'Squad Entries'!F5) | I104: =IF('Squad Entries'!G5="","",'Squad Entries'!G5) | J104: =IF('Squad Entries'!H5="","",'Squad Entries'!H5) | K104: =IF('Squad Entries'!I5="","",'Squad Entries'!I5) | L104: =IF('Squad Entries'!J5="","",'Squad Entries'!J5)
A105: =IF(B105="","",'Entry Approval'!$C$25) | B105: =IF('Squad Entries'!A6="","",'Squad Entries'!A6) | D105: =IF('Squad Entries'!B6="","",'Squad Entries'!B6) | E105: =IF('Squad Entries'!C6="","",'Squad Entries'!C6) | F105: =IF('Squad Entries'!D6="","",'Squad Entries'!D6) | G105: =IF('Squad Entries'!E6="","",'Squad Entries'!E6) | H105: =IF('Squad Entries'!F6="","",'Squad Entries'!F6) | I105: =IF('Squad Entries'!G6="","",'Squad Entries'!G6) | J105: =IF('Squad Entries'!H6="","",'Squad Entries'!H6) | K105: =IF('Squad Entries'!I6="","",'Squad Entries'!I6) | L105: =IF('Squad Entries'!J6="","",'Squad Entries'!J6)
A106: =IF(B106="","",'Entry Approval'!$C$25) | B106: =IF('Squad Entries'!A7="","",'Squad Entries'!A7) | D106: =IF('Squad Entries'!B7="","",'Squad Entries'!B7) | E106: =IF('Squad Entries'!C7="","",'Squad Entries'!C7) | F106: =IF('Squad Entries'!D7="","",'Squad Entries'!D7) | G106: =IF('Squad Entries'!E7="","",'Squad Entries'!E7) | H106: =IF('Squad Entries'!F7="","",'Squad Entries'!F7) | I106: =IF('Squad Entries'!G7="","",'Squad Entries'!G7) | J106: =IF('Squad Entries'!H7="","",'Squad Entries'!H7) | K106: =IF('Squad Entries'!I7="","",'Squad Entries'!I7) | L106: =IF('Squad Entries'!J7="","",'Squad Entries'!J7)
A107: =IF(B107="","",'Entry Approval'!$C$25) | B107: =IF('Squad Entries'!A8="","",'Squad Entries'!A8) | D107: =IF('Squad Entries'!B8="","",'Squad Entries'!B8) | E107: =IF('Squad Entries'!C8="","",'Squad Entries'!C8) | F107: =IF('Squad Entries'!D8="","",'Squad Entries'!D8) | G107: =IF('Squad Entries'!E8="","",'Squad Entries'!E8) | H107: =IF('Squad Entries'!F8="","",'Squad Entries'!F8) | I107: =IF('Squad Entries'!G8="","",'Squad Entries'!G8) | J107: =IF('Squad Entries'!H8="","",'Squad Entries'!H8) | K107: =IF('Squad Entries'!I8="","",'Squad Entries'!I8) | L107: =IF('Squad Entries'!J8="","",'Squad Entries'!J8)
A108: =IF(B108="","",'Entry Approval'!$C$25) | B108: =IF('Squad Entries'!A9="","",'Squad Entries'!A9) | D108: =IF('Squad Entries'!B9="","",'Squad Entries'!B9) | E108: =IF('Squad Entries'!C9="","",'Squad Entries'!C9) | F108: =IF('Squad Entries'!D9="","",'Squad Entries'!D9) | G108: =IF('Squad Entries'!E9="","",'Squad Entries'!E9) | H108: =IF('Squad Entries'!F9="","",'Squad Entries'!F9) | I108: =IF('Squad Entries'!G9="","",'Squad Entries'!G9) | J108: =IF('Squad Entries'!H9="","",'Squad Entries'!H9) | K108: =IF('Squad Entries'!I9="","",'Squad Entries'!I9) | L108: =IF('Squad Entries'!J9="","",'Squad Entries'!J9)
A109: =IF(B109="","",'Entry Approval'!$C$25) | B109: =IF('Squad Entries'!A10="","",'Squad Entries'!A10) | D109: =IF('Squad Entries'!B10="","",'Squad Entries'!B10) | E109: =IF('Squad Entries'!C10="","",'Squad Entries'!C10) | F109: =IF('Squad Entries'!D10="","",'Squad Entries'!D10) | G109: =IF('Squad Entries'!E10="","",'Squad Entries'!E10) | H109: =IF('Squad Entries'!F10="","",'Squad Entries'!F10) | I109: =IF('Squad Entries'!G10="","",'Squad Entries'!G10) | J109: =IF('Squad Entries'!H10="","",'Squad Entries'!H10) | K109: =IF('Squad Entries'!I10="","",'Squad Entries'!I10) | L109: =IF('Squad Entries'!J10="","",'Squad Entries'!J10)
A110: =IF(B110="","",'Entry Approval'!$C$25) | B110: =IF('Squad Entries'!A11="","",'Squad Entries'!A11) | D110: =IF('Squad Entries'!B11="","",'Squad Entries'!B11) | E110: =IF('Squad Entries'!C11="","",'Squad Entries'!C11) | F110: =IF('Squad Entries'!D11="","",'Squad Entries'!D11) | G110: =IF('Squad Entries'!E11="","",'Squad Entries'!E11) | H110: =IF('Squad Entries'!F11="","",'Squad Entries'!F11) | I110: =IF('Squad Entries'!G11="","",'Squad Entries'!G11) | J110: =IF('Squad Entries'!H11="","",'Squad Entries'!H11) | K110: =IF('Squad Entries'!I11="","",'Squad Entries'!I11) | L110: =IF('Squad Entries'!J11="","",'Squad Entries'!J11)
A111: =IF(B111="","",'Entry Approval'!$C$25) | B111: =IF('Squad Entries'!A12="","",'Squad Entries'!A12) | D111: =IF('Squad Entries'!B12="","",'Squad Entries'!B12) | E111: =IF('Squad Entries'!C12="","",'Squad Entries'!C12) | F111: =IF('Squad Entries'!D12="","",'Squad Entries'!D12) | G111: =IF('Squad Entries'!E12="","",'Squad Entries'!E12) | H111: =IF('Squad Entries'!F12="","",'Squad Entries'!F12) | I111: =IF('Squad Entries'!G12="","",'Squad Entries'!G12) | J111: =IF('Squad Entries'!H12="","",'Squad Entries'!H12) | K111: =IF('Squad Entries'!I12="","",'Squad Entries'!I12) | L111: =IF('Squad Entries'!J12="","",'Squad Entries'!J12)
A112: =IF(B112="","",'Entry Approval'!$C$25) | B112: =IF('Squad Entries'!A13="","",'Squad Entries'!A13) | D112: =IF('Squad Entries'!B13="","",'Squad Entries'!B13) | E112: =IF('Squad Entries'!C13="","",'Squad Entries'!C13) | F112: =IF('Squad Entries'!D13="","",'Squad Entries'!D13) | G112: =IF('Squad Entries'!E13="","",'Squad Entries'!E13) | H112: =IF('Squad Entries'!F13="","",'Squad Entries'!F13) | I112: =IF('Squad Entries'!G13="","",'Squad Entries'!G13) | J112: =IF('Squad Entries'!H13="","",'Squad Entries'!H13) | K112: =IF('Squad Entries'!I13="","",'Squad Entries'!I13) | L112: =IF('Squad Entries'!J13="","",'Squad Entries'!J13)
... A150: =IF(B150="","",'Entry Approval'!$C$25) | B150: =IF('Squad Entries'!A51="","",'Squad Entries'!A51) | D150: =IF('Squad Entries'!B51="","",'Squad Entries'!B51) | E150: =IF('Squad Entries'!C51="","",'Squad Entries'!C51) | F150: =IF('Squad Entries'!D51="","",'Squad Entries'!D51) | G150: =IF('Squad Entries'!E51="","",'Squad Entries'!E51) | H150: =IF('Squad Entries'!F51="","",'Squad Entries'!F51) | I150: =IF('Squad Entries'!G51="","",'Squad Entries'!G51) | J150: =IF('Squad Entries'!H51="","",'Squad Entries'!H51) | K150: =IF('Squad Entries'!I51="","",'Squad Entries'!I51) | L150: =IF('Squad Entries'!J51="","",'Squad Entries'!J51)
